PDS_VERSION_ID = PDS3
/* FILE DATA ELEMENTS */
RECORD_TYPE = UNDEFINED
/* POINTERS TO DATA OBJECTS */
^IMAGE = ("H5301_0000_BL4.TIF")
/* IDENTIFICATION DATA ELEMENTS */
DATA_SET_ID = "MEX-M-HRSC-4-REFDR-MAPPROJECT-EXT2-V4.0"
DATA_SET_NAME = "MARS EXPRESS HRSC MAP PROJECTED REFDR EXTENSION2 V4.0"
DETECTOR_ID = MEX_HRSC_BLUE
EVENT_TYPE = "MARS-REGIONAL-MAPPING-Vo-Te-Mw"
INSTRUMENT_HOST_ID = MEX
INSTRUMENT_HOST_NAME = "MARS EXPRESS"
INSTRUMENT_ID = HRSC
INSTRUMENT_NAME = "HIGH RESOLUTION STEREO CAMERA"
MISSION_NAME = "MARS EXPRESS"
MISSION_PHASE_NAME = ME_Phase_11
PROCESSING_LEVEL_ID = 4
PRODUCT_CREATION_TIME = 2023-02-02T05:41:08.000Z
PRODUCT_ID = "H5301_0000_BL4.TIF"
RELEASE_ID = 0002
REVISION_ID = 0000
/* QUALITY DATA ELEMENTS */
DATA_QUALITY_ID = 1
DATA_QUALITY_DESC = "Data calculated based on original SPICE kernels"
/* TIME DATA ELEMENTS */
SPACECRAFT_CLOCK_START_COUNT = "1/0151316171.08418"
SPACECRAFT_CLOCK_STOP_COUNT = "1/0151316518.57541"
START_TIME = 2008-02-17T08:16:50.476Z
STOP_TIME = 2008-02-17T08:21:22.194Z
/* ORBITAL DATA ELEMENTS */
ASCENDING_NODE_LONGITUDE = 117.9
MAXIMUM_RESOLUTION = 0.1102
FOOTPRINT_POINT_LATITUDE = (28.0489,28.0444,28.0376,28.0375, 28.0428,27.5187,27.1693,26.8209,26.2984 ,25.9499,25.6024,25.2551,24.7334, 24.2133,23.694,23.3483,23.0031,22.4853, 22.1412,21.625,21.2809,20.9379,20.4241, 20.0816,19.7399,19.3997,18.89,18.5494, 18.2097,17.7012,17.3629,17.0254,16.6885 ,16.1827,15.8466,15.5111,15.1762, 14.8419,14.5079,14.1747,13.842,13.51, 13.1786,12.8477,12.5174,12.1876,11.8584 ,11.2017,11.038,10.9258,10.9227,10.9177 ,10.9176,10.9191,11.5751,11.9041, 12.2338,12.564,12.8947,13.2262,13.5582, 13.8909,14.224,14.5579,14.8923,15.3952, 15.8991,16.2351,16.5723,16.91,17.2482, 17.5871,17.9262,18.2649,18.7744,19.1147 ,19.6269,20.14,20.6544,20.9971,21.3406, 21.6857,22.0295,22.5469,22.892,23.2376, 23.5838,23.9303,24.277,24.6241,24.9717, 25.3195,25.6673,26.0157,26.3641,26.8876 ,27.2367,27.7613,27.9362,28.0489)
FOOTPRINT_POINT_LONGITUDE = (216.513,215.821,215.203,215.19,215.18, 215.184,215.186,215.188,215.19,215.191, 215.191,215.192,215.193,215.192,215.192 ,215.191,215.19,215.188,215.186,215.184 ,215.182,215.179,215.176,215.173,215.17 ,215.166,215.16,215.157,215.153,215.147 ,215.142,215.137,215.132,215.125,215.12 ,215.115,215.109,215.103,215.098, 215.092,215.085,215.079,215.072,215.065 ,215.058,215.051,215.044,215.029, 215.025,215.023,215.764,216.592,216.607 ,216.617,216.612,216.609,216.607, 216.605,216.602,216.6,216.598,216.596, 216.594,216.592,216.591,216.589,216.587 ,216.583,216.582,216.581,216.58,216.579 ,216.577,216.574,216.569,216.567, 216.565,216.564,216.563,216.56,216.559, 216.56,216.557,216.556,216.554,216.552, 216.552,216.55,216.549,216.548,216.547, 216.546,216.544,216.543,216.542,216.54, 216.538,216.537,216.536,216.513)
ORBIT_NUMBER = 5301
ORBITAL_ECCENTRICITY = 0.572
ORBITAL_INCLINATION = 86.74
ORBITAL_SEMIMAJOR_AXIS = 8699.43
PERIAPSIS_ALTITUDE = 335.36
PERIAPSIS_ARGUMENT_ANGLE = 145.72
PERIAPSIS_TIME = 2008-02-17T08:15:10.000Z
SPACECRAFT_ORIENTATION = (0.0,-1.0,0.0)
^MEX_ORIENTATION_DESC = "MEX_ORIENTATION_DESC.TXT"
SPACECRAFT_POINTING_MODE = ACROSSTRACK
^MEX_POINTING_DESC = "MEX_POINTING_DESC.TXT"
RIGHT_ASCENSION = -1e+32
DECLINATION = -1e+32
OFFSET_ANGLE = 0.4
SPACECRAFT_SOLAR_DISTANCE = 2.43907e+08
TARGET_NAME = MARS
/* CAMERA DATA ELEMENTS */
DETECTOR_TEMPERATURE = 17.9627
FOCAL_PLANE_TEMPERATURE = 8.1755
INST_CMPRS_NAME = "DISCRETE COSINE TRANSFORMATION (DCT)"
INST_CMPRS_RATIO = 11.36
INST_CMPRS_QUALITY = 0
INST_CMPRS_QUANTZ_TBL_ID = 0
INSTRUMENT_TEMPERATURE = 11.234
LENS_TEMPERATURE = 8.5833
MACROPIXEL_SIZE = 8
MISSING_FRAMES = 0
PIXEL_SUBSAMPLING_FLAG = N
SIGNAL_CHAIN_ID = 2
/* RADIOMETRIC DATA ELEMENTS */
BANDWIDTH = 76.0
CENTER_FILTER_WAVELENGTH = 444.0
RADIANCE_OFFSET = 0.571956
RADIANCE_SCALING_FACTOR = 0.00228035
REFLECTANCE_SCALING_FACTOR = 0.000139382
MEX:REFLECTANCE_OFFSET = 0.0349597
/* IMAGE OBJECT DEFINITIONS */
OBJECT = IMAGE
  INTERCHANGE_FORMAT = BINARY
  LINES = 10170
  LINE_SAMPLES = 931
  SAMPLE_TYPE = UNSIGNED_INTEGER
  SAMPLE_BITS = 8
  BANDS = 1
  BAND_STORAGE_TYPE = BAND_SEQUENTIAL
  MAXIMUM = 255
  MEAN = 148.103
  MINIMUM = 1
  STANDARD_DEVIATION = 27.2772
END_OBJECT = IMAGE
/* MAP OBJECT DEFINITIONS */
OBJECT = IMAGE_MAP_PROJECTION
  ^DATA_SET_MAP_PROJECTION_CATALOG= "DSMAP.CAT"
  A_AXIS_RADIUS = 3396.0
  B_AXIS_RADIUS = 3396.0
  C_AXIS_RADIUS = 3396.0
  CENTER_LATITUDE = 0.0
  CENTER_LONGITUDE = 216.0
  COORDINATE_SYSTEM_NAME = PLANETOGRAPHIC
  COORDINATE_SYSTEM_TYPE = "BODY-FIXED ROTATING"
  EASTERNMOST_LONGITUDE = 216.617
  FIRST_STANDARD_PARALLEL = "N/A"
  LINE_FIRST_PIXEL = 1
  LINE_LAST_PIXEL = 10170
  LINE_PROJECTION_OFFSET = 16636.0625
  MAP_PROJECTION_ROTATION = 0.0
  MAP_PROJECTION_TYPE = SINUSOIDAL
  MAP_RESOLUTION = 592.713803866667
  MAP_SCALE = 0.1
  MAXIMUM_LATITUDE = 28.0489
  MINIMUM_LATITUDE = 10.9176
  POSITIVE_LONGITUDE_DIRECTION = EAST
  REFERENCE_LATITUDE = "N/A"
  REFERENCE_LONGITUDE = "N/A"
  SAMPLE_FIRST_PIXEL = 1
  SAMPLE_LAST_PIXEL = 931
  SAMPLE_PROJECTION_OFFSET = 574.5625
  SECOND_STANDARD_PARALLEL = "N/A"
  WESTERNMOST_LONGITUDE = 215.023
END_OBJECT = IMAGE_MAP_PROJECTION
END
