PDS_VERSION_ID = PDS3
/* FILE DATA ELEMENTS */
RECORD_TYPE = UNDEFINED
/* POINTERS TO DATA OBJECTS */
^IMAGE = ("H5305_0009_RE4.TIF")
/* IDENTIFICATION DATA ELEMENTS */
DATA_SET_ID = "MEX-M-HRSC-4-REFDR-MAPPROJECT-EXT2-V4.0"
DATA_SET_NAME = "MARS EXPRESS HRSC MAP PROJECTED REFDR EXTENSION2 V4.0"
DETECTOR_ID = MEX_HRSC_RED
EVENT_TYPE = "MARS-REGIONAL-MAPPING-Te-Im-Pf"
INSTRUMENT_HOST_ID = MEX
INSTRUMENT_HOST_NAME = "MARS EXPRESS"
INSTRUMENT_ID = HRSC
INSTRUMENT_NAME = "HIGH RESOLUTION STEREO CAMERA"
MISSION_NAME = "MARS EXPRESS"
MISSION_PHASE_NAME = ME_Phase_11
PROCESSING_LEVEL_ID = 4
PRODUCT_CREATION_TIME = 2023-02-02T05:41:08.000Z
PRODUCT_ID = "H5305_0009_RE4.TIF"
RELEASE_ID = 0002
REVISION_ID = 0000
/* QUALITY DATA ELEMENTS */
DATA_QUALITY_ID = 1
DATA_QUALITY_DESC = "Data calculated based on original SPICE kernels"
/* TIME DATA ELEMENTS */
SPACECRAFT_CLOCK_START_COUNT = "1/0151414486.09048"
SPACECRAFT_CLOCK_STOP_COUNT = "1/0151414719.17148"
START_TIME = 2008-02-18T11:35:48.460Z
STOP_TIME = 2008-02-18T11:38:35.983Z
/* ORBITAL DATA ELEMENTS */
ASCENDING_NODE_LONGITUDE = 117.81
MAXIMUM_RESOLUTION = 0.0571
FOOTPRINT_POINT_LATITUDE = (43.006,42.9986,42.9869,42.9714,42.9711 ,43.04,42.8159,42.5915,42.367,42.1428, 41.8064,41.4703,41.2463,41.0223,40.7983 ,40.4621,40.2385,39.9029,39.6791, 39.4567,39.2403,38.9159,38.5916,38.3754 ,38.1594,37.9433,37.7275,37.4038,37.188 ,36.9725,36.6492,36.4337,36.2184, 36.0031,35.7881,35.4656,35.2506,35.0358 ,34.7138,34.3912,34.0703,33.856,33.5346 ,33.3209,33.0005,32.5734,32.2518, 32.1415,32.1057,32.1107,32.1154,32.1204 ,32.1205,32.1214,32.3417,32.5553, 32.7692,32.9831,33.1974,33.5188,33.7329 ,33.9475,34.3755,34.5913,34.9138, 35.1289,35.3441,35.6671,35.8825,36.2059 ,36.4216,36.6375,36.8533,37.0694, 37.2853,37.5014,37.7176,38.0422,38.2594 ,38.4753,38.6921,39.017,39.2336,39.4506 ,39.7843,40.0084,40.3448,40.5693, 40.7939,41.0183,41.2429,41.4676,41.6922 ,41.9168,42.1418,42.4789,42.7036, 42.9286,43.0409,43.006)
FOOTPRINT_POINT_LONGITUDE = (175.503,175.095,174.536,173.902, 173.886,173.845,173.859,173.873,173.887 ,173.901,173.921,173.94,173.953,173.965 ,173.977,173.995,174.007,174.024, 174.035,174.045,174.056,174.071,174.085 ,174.095,174.104,174.113,174.122, 174.135,174.143,174.151,174.163,174.171 ,174.179,174.186,174.194,174.204, 174.211,174.218,174.228,174.237,174.246 ,174.252,174.261,174.266,174.274, 174.284,174.291,174.294,174.295,174.693 ,175.118,175.702,175.716,175.72,175.717 ,175.715,175.712,175.709,175.707, 175.702,175.7,175.697,175.69,175.688, 175.683,175.68,175.677,175.672,175.669, 175.664,175.661,175.658,175.654,175.651 ,175.647,175.644,175.64,175.635,175.631 ,175.627,175.624,175.618,175.614,175.61 ,175.604,175.599,175.593,175.589, 175.584,175.58,175.575,175.571,175.566, 175.561,175.556,175.549,175.544,175.539 ,175.536,175.503)
ORBIT_NUMBER = 5305
ORBITAL_ECCENTRICITY = 0.571
ORBITAL_INCLINATION = 86.74
ORBITAL_SEMIMAJOR_AXIS = 8693.22
PERIAPSIS_ALTITUDE = 336.42
PERIAPSIS_ARGUMENT_ANGLE = 145.04
PERIAPSIS_TIME = 2008-02-18T11:37:27.000Z
SPACECRAFT_ORIENTATION = (0.0,-1.0,0.0)
^MEX_ORIENTATION_DESC = "MEX_ORIENTATION_DESC.TXT"
SPACECRAFT_POINTING_MODE = NADIR
^MEX_POINTING_DESC = "MEX_POINTING_DESC.TXT"
RIGHT_ASCENSION = -1e+32
DECLINATION = -1e+32
OFFSET_ANGLE = -1e+32
SPACECRAFT_SOLAR_DISTANCE = 2.44043e+08
TARGET_NAME = MARS
/* CAMERA DATA ELEMENTS */
DETECTOR_TEMPERATURE = 19.1861
FOCAL_PLANE_TEMPERATURE = 8.5833
INST_CMPRS_NAME = "DISCRETE COSINE TRANSFORMATION (DCT)"
INST_CMPRS_RATIO = 23.8351
INST_CMPRS_QUALITY = 0
INST_CMPRS_QUANTZ_TBL_ID = 0
INSTRUMENT_TEMPERATURE = 12.0496
LENS_TEMPERATURE = 9.195
MACROPIXEL_SIZE = 4
MISSING_FRAMES = 0
PIXEL_SUBSAMPLING_FLAG = N
SIGNAL_CHAIN_ID = 2
/* RADIOMETRIC DATA ELEMENTS */
BANDWIDTH = 48.0
CENTER_FILTER_WAVELENGTH = 748.0
RADIANCE_OFFSET = 1.5286
RADIANCE_SCALING_FACTOR = 0.00440104
REFLECTANCE_SCALING_FACTOR = 0.000598157
MEX:REFLECTANCE_OFFSET = 0.207757
/* IMAGE OBJECT DEFINITIONS */
OBJECT = IMAGE
  INTERCHANGE_FORMAT = BINARY
  LINES = 12992
  LINE_SAMPLES = 1726
  SAMPLE_TYPE = UNSIGNED_INTEGER
  SAMPLE_BITS = 8
  BANDS = 1
  BAND_STORAGE_TYPE = BAND_SEQUENTIAL
  MAXIMUM = 255
  MEAN = 102.227
  MINIMUM = 1
  STANDARD_DEVIATION = 14.1486
END_OBJECT = IMAGE
/* MAP OBJECT DEFINITIONS */
OBJECT = IMAGE_MAP_PROJECTION
  ^DATA_SET_MAP_PROJECTION_CATALOG= "DSMAP.CAT"
  A_AXIS_RADIUS = 3396.0
  B_AXIS_RADIUS = 3396.0
  C_AXIS_RADIUS = 3396.0
  CENTER_LATITUDE = 0.0
  CENTER_LONGITUDE = 175.0
  COORDINATE_SYSTEM_NAME = PLANETOGRAPHIC
  COORDINATE_SYSTEM_TYPE = "BODY-FIXED ROTATING"
  EASTERNMOST_LONGITUDE = 175.72
  FIRST_STANDARD_PARALLEL = "N/A"
  LINE_FIRST_PIXEL = 1
  LINE_LAST_PIXEL = 12992
  LINE_PROJECTION_OFFSET = 51034.875
  MAP_PROJECTION_ROTATION = 0.0
  MAP_PROJECTION_TYPE = SINUSOIDAL
  MAP_RESOLUTION = 1185.42760773333
  MAP_SCALE = 0.05
  MAXIMUM_LATITUDE = 43.0409
  MINIMUM_LATITUDE = 32.1057
  POSITIVE_LONGITUDE_DIRECTION = EAST
  REFERENCE_LATITUDE = "N/A"
  REFERENCE_LONGITUDE = "N/A"
  SAMPLE_FIRST_PIXEL = 1
  SAMPLE_LAST_PIXEL = 1726
  SAMPLE_PROJECTION_OFFSET = 1010.875
  SECOND_STANDARD_PARALLEL = "N/A"
  WESTERNMOST_LONGITUDE = 173.845
END_OBJECT = IMAGE_MAP_PROJECTION
END
