PDS_VERSION_ID = PDS3
/* FILE DATA ELEMENTS */
RECORD_TYPE = UNDEFINED
/* POINTERS TO DATA OBJECTS */
^IMAGE = ("H5310_0000_ND4.TIF")
/* IDENTIFICATION DATA ELEMENTS */
DATA_SET_ID = "MEX-M-HRSC-4-REFDR-MAPPROJECT-EXT2-V4.0"
DATA_SET_NAME = "MARS EXPRESS HRSC MAP PROJECTED REFDR EXTENSION2 V4.0"
DETECTOR_ID = MEX_HRSC_NADIR
EVENT_TYPE = "MARS-REGIONAL-MAPPING-Im-Fl-Gl"
INSTRUMENT_HOST_ID = MEX
INSTRUMENT_HOST_NAME = "MARS EXPRESS"
INSTRUMENT_ID = HRSC
INSTRUMENT_NAME = "HIGH RESOLUTION STEREO CAMERA"
MISSION_NAME = "MARS EXPRESS"
MISSION_PHASE_NAME = ME_Phase_11
PROCESSING_LEVEL_ID = 4
PRODUCT_CREATION_TIME = 2023-02-02T05:41:08.000Z
PRODUCT_ID = "H5310_0000_ND4.TIF"
RELEASE_ID = 0002
REVISION_ID = 0000
/* QUALITY DATA ELEMENTS */
DATA_QUALITY_ID = 1
DATA_QUALITY_DESC = "Data calculated based on original SPICE kernels"
/* TIME DATA ELEMENTS */
SPACECRAFT_CLOCK_START_COUNT = "1/0151537632.08245"
SPACECRAFT_CLOCK_STOP_COUNT = "1/0151537872.63831"
START_TIME = 2008-02-19T21:47:49.048Z
STOP_TIME = 2008-02-19T21:50:44.039Z
/* ORBITAL DATA ELEMENTS */
ASCENDING_NODE_LONGITUDE = 117.71
MAXIMUM_RESOLUTION = 0.0134
FOOTPRINT_POINT_LATITUDE = (44.6696,44.6562,44.637,44.6365,44.6377 ,44.4092,44.1805,43.9518,43.7229, 43.4939,43.2649,43.0357,42.8065,42.5771 ,42.3478,42.1182,41.8886,41.6587,41.429 ,41.0844,40.8544,40.6244,40.3944, 40.0493,39.704,39.4737,39.2434,39.0131, 38.7826,38.4371,38.0913,37.8608,37.6303 ,37.4015,36.9551,36.6203,36.2854, 35.9505,35.7273,35.504,35.0576,34.8343, 34.6111,34.3879,34.1647,33.8299,33.3837 ,33.2721,33.2584,33.2655,33.2689, 33.2711,33.2712,33.2714,33.4948,33.7182 ,33.9417,34.1652,34.3889,34.7243, 34.9478,35.1714,35.5066,35.7301,35.9537 ,36.2891,36.5127,36.7362,36.9598, 37.1833,37.4068,37.6355,37.8665,38.2129 ,38.5592,38.79,39.0208,39.367,39.7131, 39.9437,40.1744,40.4049,40.6354,40.981, 41.3266,41.672,41.902,42.1321,42.3621, 42.592,42.8218,43.0516,43.3965,43.6261, 43.8555,44.0849,44.3142,44.5434,44.6579 ,44.6696)
FOOTPRINT_POINT_LONGITUDE = (35.8512,34.9973,34.1611,34.1445, 34.1311,34.1451,34.1588,34.1723,34.1855 ,34.1985,34.2112,34.2237,34.2359, 34.2479,34.2596,34.2711,34.2826,34.2942 ,34.305,34.3203,34.3308,34.3409,34.3505 ,34.3647,34.3787,34.3878,34.3965,34.405 ,34.4135,34.4254,34.4372,34.4448, 34.4521,34.4595,34.4731,34.4828,34.4921 ,34.5011,34.5069,34.5126,34.5232, 34.5284,34.5334,34.5382,34.5429,34.5498 ,34.5583,34.5603,34.5605,35.1422, 35.5365,35.9638,35.9782,35.9852,35.9843 ,35.9822,35.9801,35.9805,35.9835, 35.9843,35.9831,35.9812,35.9744,35.9726 ,35.9713,35.9696,35.9688,35.9673, 35.9655,35.9636,35.9607,35.9619,35.9611 ,35.9586,35.9565,35.9545,35.9522, 35.9512,35.9496,35.948,35.9471,35.9457, 35.9435,35.9412,35.9389,35.9373,35.9328 ,35.9305,35.9279,35.9251,35.9222, 35.9202,35.9264,35.9243,35.9218,35.9191 ,35.9158,35.914,35.9127,35.8512)
ORBIT_NUMBER = 5310
ORBITAL_ECCENTRICITY = 0.572
ORBITAL_INCLINATION = 86.73
ORBITAL_SEMIMAJOR_AXIS = 8699.8
PERIAPSIS_ALTITUDE = 336.66
PERIAPSIS_ARGUMENT_ANGLE = 144.16
PERIAPSIS_TIME = 2008-02-19T21:50:05.000Z
SPACECRAFT_ORIENTATION = (0.0,-1.0,0.0)
^MEX_ORIENTATION_DESC = "MEX_ORIENTATION_DESC.TXT"
SPACECRAFT_POINTING_MODE = ACROSSTRACK
^MEX_POINTING_DESC = "MEX_POINTING_DESC.TXT"
RIGHT_ASCENSION = -1e+32
DECLINATION = -1e+32
OFFSET_ANGLE = 0.5
SPACECRAFT_SOLAR_DISTANCE = 2.44211e+08
TARGET_NAME = MARS
/* CAMERA DATA ELEMENTS */
DETECTOR_TEMPERATURE = 17.9627
FOCAL_PLANE_TEMPERATURE = 8.3794
INST_CMPRS_NAME = "DISCRETE COSINE TRANSFORMATION (DCT)"
INST_CMPRS_RATIO = 6.92199
INST_CMPRS_QUALITY = 0
INST_CMPRS_QUANTZ_TBL_ID = 0
INSTRUMENT_TEMPERATURE = 11.234
LENS_TEMPERATURE = 8.5833
MACROPIXEL_SIZE = 1
MISSING_FRAMES = 0
PIXEL_SUBSAMPLING_FLAG = N
SIGNAL_CHAIN_ID = 0
/* RADIOMETRIC DATA ELEMENTS */
BANDWIDTH = 177.0
CENTER_FILTER_WAVELENGTH = 677.5
RADIANCE_OFFSET = 3.15094
RADIANCE_SCALING_FACTOR = 0.0260862
REFLECTANCE_SCALING_FACTOR = 0.00082647
MEX:REFLECTANCE_OFFSET = 0.0998289
/* IMAGE OBJECT DEFINITIONS */
OBJECT = IMAGE
  INTERCHANGE_FORMAT = BINARY
  LINES = 54122
  LINE_SAMPLES = 6840
  SAMPLE_TYPE = UNSIGNED_INTEGER
  SAMPLE_BITS = 8
  BANDS = 1
  BAND_STORAGE_TYPE = BAND_SEQUENTIAL
  MAXIMUM = 255
  MEAN = 138.815
  MINIMUM = 1
  STANDARD_DEVIATION = 33.6976
END_OBJECT = IMAGE
/* MAP OBJECT DEFINITIONS */
OBJECT = IMAGE_MAP_PROJECTION
  ^DATA_SET_MAP_PROJECTION_CATALOG= "DSMAP.CAT"
  A_AXIS_RADIUS = 3396.0
  B_AXIS_RADIUS = 3396.0
  C_AXIS_RADIUS = 3396.0
  CENTER_LATITUDE = 0.0
  CENTER_LONGITUDE = 35.0
  COORDINATE_SYSTEM_NAME = PLANETOGRAPHIC
  COORDINATE_SYSTEM_TYPE = "BODY-FIXED ROTATING"
  EASTERNMOST_LONGITUDE = 35.9852
  FIRST_STANDARD_PARALLEL = "N/A"
  LINE_FIRST_PIXEL = 1
  LINE_LAST_PIXEL = 54122
  LINE_PROJECTION_OFFSET = 211829.0
  MAP_PROJECTION_ROTATION = 0.0
  MAP_PROJECTION_TYPE = SINUSOIDAL
  MAP_RESOLUTION = 4741.71043093333
  MAP_SCALE = 0.0125
  MAXIMUM_LATITUDE = 44.6696
  MINIMUM_LATITUDE = 33.2584
  POSITIVE_LONGITUDE_DIRECTION = EAST
  REFERENCE_LATITUDE = "N/A"
  REFERENCE_LONGITUDE = "N/A"
  SAMPLE_FIRST_PIXEL = 1
  SAMPLE_LAST_PIXEL = 6840
  SAMPLE_PROJECTION_OFFSET = 2925.0
  SECOND_STANDARD_PARALLEL = "N/A"
  WESTERNMOST_LONGITUDE = 34.1311
END_OBJECT = IMAGE_MAP_PROJECTION
END
