PDS_VERSION_ID = PDS3
/* FILE DATA ELEMENTS */
RECORD_TYPE = UNDEFINED
/* POINTERS TO DATA OBJECTS */
^IMAGE = ("H5312_0000_ND4.TIF")
/* IDENTIFICATION DATA ELEMENTS */
DATA_SET_ID = "MEX-M-HRSC-4-REFDR-MAPPROJECT-EXT2-V4.0"
DATA_SET_NAME = "MARS EXPRESS HRSC MAP PROJECTED REFDR EXTENSION2 V4.0"
DETECTOR_ID = MEX_HRSC_NADIR
EVENT_TYPE = "MARS-REGIONAL-MAPPING-Vo-Im-Eo"
INSTRUMENT_HOST_ID = MEX
INSTRUMENT_HOST_NAME = "MARS EXPRESS"
INSTRUMENT_ID = HRSC
INSTRUMENT_NAME = "HIGH RESOLUTION STEREO CAMERA"
MISSION_NAME = "MARS EXPRESS"
MISSION_PHASE_NAME = ME_Phase_11
PROCESSING_LEVEL_ID = 4
PRODUCT_CREATION_TIME = 2023-02-02T05:41:08.000Z
PRODUCT_ID = "H5312_0000_ND4.TIF"
RELEASE_ID = 0002
REVISION_ID = 0000
/* QUALITY DATA ELEMENTS */
DATA_QUALITY_ID = 1
DATA_QUALITY_DESC = "Data calculated based on original SPICE kernels"
/* TIME DATA ELEMENTS */
SPACECRAFT_CLOCK_START_COUNT = "1/0151586844.08231"
SPACECRAFT_CLOCK_STOP_COUNT = "1/0151587108.24633"
START_TIME = 2008-02-20T11:28:02.798Z
STOP_TIME = 2008-02-20T11:31:19.774Z
/* ORBITAL DATA ELEMENTS */
ASCENDING_NODE_LONGITUDE = 117.67
MAXIMUM_RESOLUTION = 0.0136
FOOTPRINT_POINT_LATITUDE = (48.2945,48.2802,48.2666,48.241,48.2403 ,48.2404,47.7366,47.2322,46.727,46.2212 ,45.7147,45.2076,44.6999,44.1917, 43.9374,43.683,43.4285,43.1738,42.919, 42.6642,42.4092,42.1541,41.8989,41.6436 ,41.3882,41.1328,40.8773,40.6216, 40.3659,40.1102,39.8544,39.5985,39.3425 ,39.0865,38.8305,38.5744,38.3182,38.062 ,37.8058,37.5496,37.2933,37.037,36.7807 ,36.5244,36.1399,35.8835,35.6272,35.499 ,35.4886,35.4989,35.5062,35.5112, 35.5113,35.5116,35.7684,36.0252,36.282, 36.5389,36.7957,37.0525,37.3093,37.5661 ,37.8228,38.0796,38.3363,38.593,38.8496 ,39.2345,39.4911,39.7476,40.004,40.2604 ,40.5167,40.773,41.0292,41.2853,41.5413 ,41.7973,42.0532,42.309,42.5647,42.8204 ,43.0759,43.3313,43.5867,43.8419,44.097 ,44.352,44.6069,44.8616,45.1163,45.3708 ,45.6251,46.1335,46.6412,47.1484, 47.6549,48.1608,48.2872,48.2945)
FOOTPRINT_POINT_LONGITUDE = (194.887,194.272,193.787,193.024, 193.005,192.954,193.003,193.05,193.095, 193.139,193.181,193.221,193.26,193.297, 193.315,193.333,193.351,193.367,193.384 ,193.401,193.417,193.432,193.448, 193.463,193.477,193.492,193.506,193.52, 193.533,193.546,193.559,193.572,193.585 ,193.596,193.608,193.62,193.631,193.642 ,193.653,193.663,193.673,193.683, 193.693,193.702,193.716,193.725,193.734 ,193.738,193.738,194.273,194.75,195.183 ,195.198,195.205,195.201,195.197, 195.194,195.19,195.186,195.182,195.178, 195.174,195.17,195.165,195.161,195.157, 195.152,195.145,195.141,195.136,195.131 ,195.127,195.122,195.117,195.112, 195.107,195.101,195.096,195.091,195.085 ,195.08,195.074,195.068,195.063,195.057 ,195.051,195.045,195.038,195.032, 195.026,195.019,195.013,195.006,194.993 ,194.979,194.964,194.949,194.933, 194.929,194.887)
ORBIT_NUMBER = 5312
ORBITAL_ECCENTRICITY = 0.571
ORBITAL_INCLINATION = 86.74
ORBITAL_SEMIMAJOR_AXIS = 8691.71
PERIAPSIS_ALTITUDE = 336.84
PERIAPSIS_ARGUMENT_ANGLE = 143.79
PERIAPSIS_TIME = 2008-02-20T11:31:09.000Z
SPACECRAFT_ORIENTATION = (0.0,-1.0,0.0)
^MEX_ORIENTATION_DESC = "MEX_ORIENTATION_DESC.TXT"
SPACECRAFT_POINTING_MODE = NADIR
^MEX_POINTING_DESC = "MEX_POINTING_DESC.TXT"
RIGHT_ASCENSION = -1e+32
DECLINATION = -1e+32
OFFSET_ANGLE = -1e+32
SPACECRAFT_SOLAR_DISTANCE = 2.44278e+08
TARGET_NAME = MARS
/* CAMERA DATA ELEMENTS */
DETECTOR_TEMPERATURE = 17.9627
FOCAL_PLANE_TEMPERATURE = 8.1755
INST_CMPRS_NAME = "DISCRETE COSINE TRANSFORMATION (DCT)"
INST_CMPRS_RATIO = 6.72386
INST_CMPRS_QUALITY = 0
INST_CMPRS_QUANTZ_TBL_ID = 0
INSTRUMENT_TEMPERATURE = 11.234
LENS_TEMPERATURE = 8.5833
MACROPIXEL_SIZE = 1
MISSING_FRAMES = 0
PIXEL_SUBSAMPLING_FLAG = N
SIGNAL_CHAIN_ID = 0
/* RADIOMETRIC DATA ELEMENTS */
BANDWIDTH = 177.0
CENTER_FILTER_WAVELENGTH = 677.5
RADIANCE_OFFSET = 5.4266
RADIANCE_SCALING_FACTOR = 0.0113497
REFLECTANCE_SCALING_FACTOR = 0.00035978
MEX:REFLECTANCE_OFFSET = 0.17202
/* IMAGE OBJECT DEFINITIONS */
OBJECT = IMAGE
  INTERCHANGE_FORMAT = BINARY
  LINES = 60736
  LINE_SAMPLES = 7954
  SAMPLE_TYPE = UNSIGNED_INTEGER
  SAMPLE_BITS = 8
  BANDS = 1
  BAND_STORAGE_TYPE = BAND_SEQUENTIAL
  MAXIMUM = 255
  MEAN = 117.156
  MINIMUM = 1
  STANDARD_DEVIATION = 25.2444
END_OBJECT = IMAGE
/* MAP OBJECT DEFINITIONS */
OBJECT = IMAGE_MAP_PROJECTION
  ^DATA_SET_MAP_PROJECTION_CATALOG= "DSMAP.CAT"
  A_AXIS_RADIUS = 3396.0
  B_AXIS_RADIUS = 3396.0
  C_AXIS_RADIUS = 3396.0
  CENTER_LATITUDE = 0.0
  CENTER_LONGITUDE = 194.0
  COORDINATE_SYSTEM_NAME = PLANETOGRAPHIC
  COORDINATE_SYSTEM_TYPE = "BODY-FIXED ROTATING"
  EASTERNMOST_LONGITUDE = 195.205
  FIRST_STANDARD_PARALLEL = "N/A"
  LINE_FIRST_PIXEL = 1
  LINE_LAST_PIXEL = 60736
  LINE_PROJECTION_OFFSET = 229012.0
  MAP_PROJECTION_ROTATION = 0.0
  MAP_PROJECTION_TYPE = SINUSOIDAL
  MAP_RESOLUTION = 4741.71043093333
  MAP_SCALE = 0.0125
  MAXIMUM_LATITUDE = 48.2945
  MINIMUM_LATITUDE = 35.4886
  POSITIVE_LONGITUDE_DIRECTION = EAST
  REFERENCE_LATITUDE = "N/A"
  REFERENCE_LONGITUDE = "N/A"
  SAMPLE_FIRST_PIXEL = 1
  SAMPLE_LAST_PIXEL = 7954
  SAMPLE_PROJECTION_OFFSET = 3302.0
  SECOND_STANDARD_PARALLEL = "N/A"
  WESTERNMOST_LONGITUDE = 192.954
END_OBJECT = IMAGE_MAP_PROJECTION
END
