PDS_VERSION_ID = PDS3
/* FILE DATA ELEMENTS */
RECORD_TYPE = UNDEFINED
/* POINTERS TO DATA OBJECTS */
^IMAGE = ("H5319_0009_RE4.TIF")
/* IDENTIFICATION DATA ELEMENTS */
DATA_SET_ID = "MEX-M-HRSC-4-REFDR-MAPPROJECT-EXT2-V4.0"
DATA_SET_NAME = "MARS EXPRESS HRSC MAP PROJECTED REFDR EXTENSION2 V4.0"
DETECTOR_ID = MEX_HRSC_RED
EVENT_TYPE = "MARS-REGIONAL-MAPPING-Vo-Te-Mw"
INSTRUMENT_HOST_ID = MEX
INSTRUMENT_HOST_NAME = "MARS EXPRESS"
INSTRUMENT_ID = HRSC
INSTRUMENT_NAME = "HIGH RESOLUTION STEREO CAMERA"
MISSION_NAME = "MARS EXPRESS"
MISSION_PHASE_NAME = ME_Phase_11
PROCESSING_LEVEL_ID = 4
PRODUCT_CREATION_TIME = 2023-02-02T05:41:08.000Z
PRODUCT_ID = "H5319_0009_RE4.TIF"
RELEASE_ID = 0002
REVISION_ID = 0000
/* QUALITY DATA ELEMENTS */
DATA_QUALITY_ID = 1
DATA_QUALITY_DESC = "Data calculated based on original SPICE kernels"
/* TIME DATA ELEMENTS */
SPACECRAFT_CLOCK_START_COUNT = "1/0151759598.09097"
SPACECRAFT_CLOCK_STOP_COUNT = "1/0151759938.30678"
START_TIME = 2008-02-22T11:27:40.422Z
STOP_TIME = 2008-02-22T11:32:11.282Z
/* ORBITAL DATA ELEMENTS */
ASCENDING_NODE_LONGITUDE = 117.53
MAXIMUM_RESOLUTION = 0.1214
FOOTPRINT_POINT_LATITUDE = (28.0625,28.0478,28.0292,28.0289, 28.0617,27.6272,27.1951,26.9026,26.3276 ,25.9915,25.6506,25.3074,24.9686, 24.6283,24.1203,23.613,23.1083,22.7706, 22.4339,22.1011,21.7661,21.2659,20.7683 ,20.2704,19.9432,19.6143,19.2853, 18.7935,18.4671,18.141,17.8156,17.4908, 17.1677,16.8459,16.3638,16.0428,15.7231 ,15.2446,14.9277,14.6119,14.2966, 13.9821,13.6683,13.3552,13.0427,12.7308 ,12.4197,12.1099,11.9555,11.8669, 11.8684,11.8713,11.8746,11.8774,11.8776 ,11.8795,12.344,12.6542,12.9656,13.2775 ,13.5903,13.9051,14.2194,14.5357, 15.0122,15.3301,15.6492,15.9686,16.2901 ,16.7712,17.2568,17.7424,18.2332, 18.5604,19.0464,19.3756,19.7009,20.0315 ,20.3607,20.692,21.1944,21.5307,21.8626 ,22.2005,22.7008,23.2042,23.5439, 23.8821,24.2219,24.7306,25.0715,25.4162 ,25.9274,26.2685,26.5684,27.0007,27.577 ,27.868,28.0125,28.0625)
FOOTPRINT_POINT_LONGITUDE = (215.374,214.731,213.982,213.969, 213.958,213.959,213.959,213.96,213.96, 213.959,213.958,213.957,213.956,213.954 ,213.951,213.948,213.944,213.941, 213.938,213.935,213.932,213.926,213.92, 213.914,213.909,213.904,213.899,213.891 ,213.886,213.88,213.874,213.868,213.862 ,213.856,213.846,213.839,213.832, 213.822,213.814,213.807,213.799,213.791 ,213.783,213.775,213.767,213.758,213.75 ,213.741,213.736,213.734,214.098, 214.633,215.021,215.496,215.513,215.525 ,215.52,215.516,215.513,215.509,215.506 ,215.503,215.5,215.497,215.493,215.49, 215.487,215.484,215.481,215.476,215.473 ,215.469,215.466,215.464,215.457, 215.455,215.451,215.448,215.445,215.443 ,215.441,215.441,215.437,215.437, 215.431,215.427,215.426,215.424,215.422 ,215.418,215.416,215.416,215.412, 215.408,215.408,215.405,215.4,215.399, 215.398,215.374)
ORBIT_NUMBER = 5319
ORBITAL_ECCENTRICITY = 0.571
ORBITAL_INCLINATION = 86.74
ORBITAL_SEMIMAJOR_AXIS = 8693.45
PERIAPSIS_ALTITUDE = 337.28
PERIAPSIS_ARGUMENT_ANGLE = 142.55
PERIAPSIS_TIME = 2008-02-22T11:24:49.000Z
SPACECRAFT_ORIENTATION = (0.0,-1.0,0.0)
^MEX_ORIENTATION_DESC = "MEX_ORIENTATION_DESC.TXT"
SPACECRAFT_POINTING_MODE = ACROSSTRACK
^MEX_POINTING_DESC = "MEX_POINTING_DESC.TXT"
RIGHT_ASCENSION = -1e+32
DECLINATION = -1e+32
OFFSET_ANGLE = 0.45
SPACECRAFT_SOLAR_DISTANCE = 2.44508e+08
TARGET_NAME = MARS
/* CAMERA DATA ELEMENTS */
DETECTOR_TEMPERATURE = 18.7783
FOCAL_PLANE_TEMPERATURE = 8.9911
INST_CMPRS_NAME = "DISCRETE COSINE TRANSFORMATION (DCT)"
INST_CMPRS_RATIO = 5.8636
INST_CMPRS_QUALITY = 0
INST_CMPRS_QUANTZ_TBL_ID = 0
INSTRUMENT_TEMPERATURE = 11.234
LENS_TEMPERATURE = 9.195
MACROPIXEL_SIZE = 8
MISSING_FRAMES = 0
PIXEL_SUBSAMPLING_FLAG = N
SIGNAL_CHAIN_ID = 2
/* RADIOMETRIC DATA ELEMENTS */
BANDWIDTH = 48.0
CENTER_FILTER_WAVELENGTH = 748.0
RADIANCE_OFFSET = 1.5147
RADIANCE_SCALING_FACTOR = 0.0063871
REFLECTANCE_SCALING_FACTOR = 0.000871396
MEX:REFLECTANCE_OFFSET = 0.206652
/* IMAGE OBJECT DEFINITIONS */
OBJECT = IMAGE
  INTERCHANGE_FORMAT = BINARY
  LINES = 9622
  LINE_SAMPLES = 983
  SAMPLE_TYPE = UNSIGNED_INTEGER
  SAMPLE_BITS = 8
  BANDS = 1
  BAND_STORAGE_TYPE = BAND_SEQUENTIAL
  MAXIMUM = 255
  MEAN = 140.857
  MINIMUM = 1
  STANDARD_DEVIATION = 25.746
END_OBJECT = IMAGE
/* MAP OBJECT DEFINITIONS */
OBJECT = IMAGE_MAP_PROJECTION
  ^DATA_SET_MAP_PROJECTION_CATALOG= "DSMAP.CAT"
  A_AXIS_RADIUS = 3396.0
  B_AXIS_RADIUS = 3396.0
  C_AXIS_RADIUS = 3396.0
  CENTER_LATITUDE = 0.0
  CENTER_LONGITUDE = 215.0
  COORDINATE_SYSTEM_NAME = PLANETOGRAPHIC
  COORDINATE_SYSTEM_TYPE = "BODY-FIXED ROTATING"
  EASTERNMOST_LONGITUDE = 215.525
  FIRST_STANDARD_PARALLEL = "N/A"
  LINE_FIRST_PIXEL = 1
  LINE_LAST_PIXEL = 9622
  LINE_PROJECTION_OFFSET = 16648.3125
  MAP_PROJECTION_ROTATION = 0.0
  MAP_PROJECTION_TYPE = SINUSOIDAL
  MAP_RESOLUTION = 592.713803866667
  MAP_SCALE = 0.1
  MAXIMUM_LATITUDE = 28.0625
  MINIMUM_LATITUDE = 11.8669
  POSITIVE_LONGITUDE_DIRECTION = EAST
  REFERENCE_LATITUDE = "N/A"
  REFERENCE_LONGITUDE = "N/A"
  SAMPLE_FIRST_PIXEL = 1
  SAMPLE_LAST_PIXEL = 983
  SAMPLE_PROJECTION_OFFSET = 712.0625
  SECOND_STANDARD_PARALLEL = "N/A"
  WESTERNMOST_LONGITUDE = 213.734
END_OBJECT = IMAGE_MAP_PROJECTION
END
