PDS_VERSION_ID = PDS3
/* FILE DATA ELEMENTS */
RECORD_TYPE = UNDEFINED
/* POINTERS TO DATA OBJECTS */
^IMAGE = ("H5324_0000_P24.TIF")
/* IDENTIFICATION DATA ELEMENTS */
DATA_SET_ID = "MEX-M-HRSC-4-REFDR-MAPPROJECT-EXT2-V4.0"
DATA_SET_NAME = "MARS EXPRESS HRSC MAP PROJECTED REFDR EXTENSION2 V4.0"
DETECTOR_ID = MEX_HRSC_P2
EVENT_TYPE = "MARS-REGIONAL-MAPPING-Te-Gl-Ot"
INSTRUMENT_HOST_ID = MEX
INSTRUMENT_HOST_NAME = "MARS EXPRESS"
INSTRUMENT_ID = HRSC
INSTRUMENT_NAME = "HIGH RESOLUTION STEREO CAMERA"
MISSION_NAME = "MARS EXPRESS"
MISSION_PHASE_NAME = ME_Phase_11
PROCESSING_LEVEL_ID = 4
PRODUCT_CREATION_TIME = 2023-02-02T05:41:08.000Z
PRODUCT_ID = "H5324_0000_P24.TIF"
RELEASE_ID = 0002
REVISION_ID = 0000
/* QUALITY DATA ELEMENTS */
DATA_QUALITY_ID = 1
DATA_QUALITY_DESC = "Data calculated based on original SPICE kernels"
/* TIME DATA ELEMENTS */
SPACECRAFT_CLOCK_START_COUNT = "1/0151882526.09069"
SPACECRAFT_CLOCK_STOP_COUNT = "1/0151882908.58003"
START_TIME = 2008-02-23T21:36:21.952Z
STOP_TIME = 2008-02-23T21:41:37.944Z
/* ORBITAL DATA ELEMENTS */
ASCENDING_NODE_LONGITUDE = 117.42
MAXIMUM_RESOLUTION = 0.028
FOOTPRINT_POINT_LATITUDE = (44.435,44.3968,44.3963,44.4469,44.0378 ,43.4244,43.0147,42.6065,42.1975, 41.7913,41.3967,41.0014,40.6073,40.0151 ,39.6209,39.03,38.6362,38.242,37.8496, 37.4572,36.8684,36.4757,36.0847,35.4804 ,35.0767,34.4718,34.0691,33.6671, 33.0652,32.6576,32.2548,31.8602,31.4561 ,31.0569,30.6675,30.2607,29.6718, 29.2786,28.8806,28.2813,27.8921,27.4984 ,27.0985,26.7075,26.0295,25.5649, 24.8719,24.4101,24.1795,24.1491,24.1491 ,24.1538,24.1539,24.1543,24.6209, 25.0746,25.5381,26.0057,26.6969,27.0889 ,27.4743,28.0736,28.4739,29.0666, 29.4601,29.8604,30.2573,30.654,31.0545, 31.654,32.055,32.4536,33.0561,33.4587, 34.0618,34.4661,34.8693,35.273,35.6778, 36.0817,36.6704,37.0632,37.4562,37.8497 ,38.2442,38.6382,39.0329,39.4277, 40.0201,40.4154,41.0086,41.4041,41.8002 ,42.2062,42.6161,43.2304,43.8455, 44.2556,44.4609,44.435)
FOOTPRINT_POINT_LONGITUDE = (74.1602,72.5373,72.5214,72.481,72.509, 72.5493,72.5756,72.6001,72.6244,72.6474 ,72.6686,72.6897,72.7094,72.7385, 72.7568,72.7831,72.7999,72.8165,72.8314 ,72.846,72.8672,72.8809,72.8933,72.9121 ,72.9238,72.9403,72.9507,72.9603, 72.9737,72.9859,72.9951,72.9997,73.0092 ,73.0159,73.0172,73.0276,73.0317, 73.0346,73.04,73.049,73.0496,73.0525, 73.0585,73.0598,73.0615,73.062,73.0611, 73.0603,73.0599,73.0599,73.5596,74.5163 ,74.5307,74.5358,74.5327,74.5227, 74.5169,74.5125,74.5076,74.5028,74.4943 ,74.4913,74.4892,74.4815,74.475,74.4715 ,74.4659,74.4598,74.4552,74.447,74.4417 ,74.4348,74.4261,74.4203,74.4105, 74.4046,74.3977,74.3908,74.3841,74.3773 ,74.367,74.3599,74.3524,74.345,74.3377, 74.3299,74.3221,74.314,74.3014,74.2927, 74.2793,74.27,74.2606,74.2506,74.2406, 74.2246,74.2084,74.1971,74.1915, 74.1602)
ORBIT_NUMBER = 5324
ORBITAL_ECCENTRICITY = 0.572
ORBITAL_INCLINATION = 86.75
ORBITAL_SEMIMAJOR_AXIS = 8697.37
PERIAPSIS_ALTITUDE = 337.41
PERIAPSIS_ARGUMENT_ANGLE = 141.68
PERIAPSIS_TIME = 2008-02-23T21:37:36.000Z
SPACECRAFT_ORIENTATION = (0.0,-1.0,0.0)
^MEX_ORIENTATION_DESC = "MEX_ORIENTATION_DESC.TXT"
SPACECRAFT_POINTING_MODE = NADIR
^MEX_POINTING_DESC = "MEX_POINTING_DESC.TXT"
RIGHT_ASCENSION = -1e+32
DECLINATION = -1e+32
OFFSET_ANGLE = -1e+32
SPACECRAFT_SOLAR_DISTANCE = 2.44669e+08
TARGET_NAME = MARS
/* CAMERA DATA ELEMENTS */
DETECTOR_TEMPERATURE = 18.3705
FOCAL_PLANE_TEMPERATURE = 8.3794
INST_CMPRS_NAME = "DISCRETE COSINE TRANSFORMATION (DCT)"
INST_CMPRS_RATIO = 6.67709
INST_CMPRS_QUALITY = 0
INST_CMPRS_QUANTZ_TBL_ID = 0
INSTRUMENT_TEMPERATURE = 11.234
LENS_TEMPERATURE = 8.5833
MACROPIXEL_SIZE = 2
MISSING_FRAMES = 0
PIXEL_SUBSAMPLING_FLAG = N
SIGNAL_CHAIN_ID = 3
/* RADIOMETRIC DATA ELEMENTS */
BANDWIDTH = 177.0
CENTER_FILTER_WAVELENGTH = 676.5
RADIANCE_OFFSET = 3.42593
RADIANCE_SCALING_FACTOR = 0.0235113
REFLECTANCE_SCALING_FACTOR = 0.000746261
MEX:REFLECTANCE_OFFSET = 0.108741
/* IMAGE OBJECT DEFINITIONS */
OBJECT = IMAGE
  INTERCHANGE_FORMAT = BINARY
  LINES = 48166
  LINE_SAMPLES = 3688
  SAMPLE_TYPE = UNSIGNED_INTEGER
  SAMPLE_BITS = 8
  BANDS = 1
  BAND_STORAGE_TYPE = BAND_SEQUENTIAL
  MAXIMUM = 255
  MEAN = 156.897
  MINIMUM = 1
  STANDARD_DEVIATION = 29.394
END_OBJECT = IMAGE
/* MAP OBJECT DEFINITIONS */
OBJECT = IMAGE_MAP_PROJECTION
  ^DATA_SET_MAP_PROJECTION_CATALOG= "DSMAP.CAT"
  A_AXIS_RADIUS = 3396.0
  B_AXIS_RADIUS = 3396.0
  C_AXIS_RADIUS = 3396.0
  CENTER_LATITUDE = 0.0
  CENTER_LONGITUDE = 74.0
  COORDINATE_SYSTEM_NAME = PLANETOGRAPHIC
  COORDINATE_SYSTEM_TYPE = "BODY-FIXED ROTATING"
  EASTERNMOST_LONGITUDE = 74.53579999999999
  FIRST_STANDARD_PARALLEL = "N/A"
  LINE_FIRST_PIXEL = 1
  LINE_LAST_PIXEL = 48166
  LINE_PROJECTION_OFFSET = 105440.25
  MAP_PROJECTION_ROTATION = 0.0
  MAP_PROJECTION_TYPE = SINUSOIDAL
  MAP_RESOLUTION = 2370.85521546667
  MAP_SCALE = 0.025
  MAXIMUM_LATITUDE = 44.4609
  MINIMUM_LATITUDE = 24.1491
  POSITIVE_LONGITUDE_DIRECTION = EAST
  REFERENCE_LATITUDE = "N/A"
  REFERENCE_LONGITUDE = "N/A"
  SAMPLE_FIRST_PIXEL = 1
  SAMPLE_LAST_PIXEL = 3688
  SAMPLE_PROJECTION_OFFSET = 2575.25
  SECOND_STANDARD_PARALLEL = "N/A"
  WESTERNMOST_LONGITUDE = 72.48099999999999
END_OBJECT = IMAGE_MAP_PROJECTION
END
