PDS_VERSION_ID = PDS3
/* FILE DATA ELEMENTS */
RECORD_TYPE = UNDEFINED
/* POINTERS TO DATA OBJECTS */
^IMAGE = ("H5327_0000_RE4.TIF")
/* IDENTIFICATION DATA ELEMENTS */
DATA_SET_ID = "MEX-M-HRSC-4-REFDR-MAPPROJECT-EXT2-V4.0"
DATA_SET_NAME = "MARS EXPRESS HRSC MAP PROJECTED REFDR EXTENSION2 V4.0"
DETECTOR_ID = MEX_HRSC_RED
EVENT_TYPE = "MARS-REGIONAL-MAPPING-Vo-Te-Fl"
INSTRUMENT_HOST_ID = MEX
INSTRUMENT_HOST_NAME = "MARS EXPRESS"
INSTRUMENT_ID = HRSC
INSTRUMENT_NAME = "HIGH RESOLUTION STEREO CAMERA"
MISSION_NAME = "MARS EXPRESS"
MISSION_PHASE_NAME = ME_Phase_11
PROCESSING_LEVEL_ID = 4
PRODUCT_CREATION_TIME = 2023-02-02T05:41:08.000Z
PRODUCT_ID = "H5327_0000_RE4.TIF"
RELEASE_ID = 0002
REVISION_ID = 0000
/* QUALITY DATA ELEMENTS */
DATA_QUALITY_ID = 1
DATA_QUALITY_DESC = "Data calculated based on original SPICE kernels"
/* TIME DATA ELEMENTS */
SPACECRAFT_CLOCK_START_COUNT = "1/0151956621.07297"
SPACECRAFT_CLOCK_STOP_COUNT = "1/0151956917.22726"
START_TIME = 2008-02-24T18:11:21.675Z
STOP_TIME = 2008-02-24T18:15:11.527Z
/* ORBITAL DATA ELEMENTS */
ASCENDING_NODE_LONGITUDE = 117.36
MAXIMUM_RESOLUTION = 0.0595
FOOTPRINT_POINT_LATITUDE = (32.0621,32.0592,32.0544,32.0479, 32.0477,32.0979,31.717,31.3369,31.0838, 30.8306,30.578,30.3258,29.9478,29.4449, 28.8181,28.3179,27.8192,27.5363,27.2396 ,26.9437,26.5003,26.2053,25.911,25.6172 ,25.3236,25.0306,24.738,24.4457,24.1542 ,23.8635,23.5732,23.2836,22.9941, 22.7056,22.2727,21.9855,21.549,21.2553, 20.9619,20.6695,20.2222,19.9235,19.6253 ,19.1708,18.8671,18.564,18.2558,18.1011 ,18.0172,18.0148,18.0113,18.0074, 18.0072,18.0082,18.318,18.625,18.9285, 19.2335,19.5379,19.836,20.2848,20.5845, 20.8775,21.1719,21.4695,21.7612,22.0482 ,22.3366,22.77,23.0593,23.3488,23.6403, 24.0784,24.3706,24.6632,24.956,25.2495, 25.543,25.8372,26.132,26.4272,26.723, 27.0192,27.3157,27.7605,28.2599,28.7601 ,29.0115,29.5141,29.7657,30.0176,30.27, 30.5227,30.7756,31.0288,31.2824,31.5361 ,31.9173,32.0444,32.0621)
FOOTPRINT_POINT_LONGITUDE = (134.22,133.86,133.367,132.807,132.794, 132.768,132.775,132.781,132.785,132.789 ,132.792,132.796,132.8,132.806,132.812, 132.816,132.82,132.822,132.823,132.824, 132.826,132.827,132.827,132.827,132.827 ,132.827,132.827,132.827,132.826, 132.825,132.824,132.822,132.821,132.819 ,132.817,132.814,132.811,132.808, 132.806,132.803,132.798,132.794,132.791 ,132.785,132.78,132.776,132.771,132.769 ,132.767,133.214,133.753,134.399, 134.415,134.42,134.416,134.413,134.409, 134.405,134.402,134.398,134.393,134.39, 134.386,134.383,134.381,134.377,134.373 ,134.37,134.365,134.361,134.357,134.354 ,134.35,134.346,134.343,134.339,134.335 ,134.332,134.328,134.324,134.32,134.317 ,134.313,134.309,134.303,134.296, 134.289,134.286,134.279,134.275,134.272 ,134.268,134.264,134.261,134.257, 134.253,134.249,134.244,134.242,134.22)
ORBIT_NUMBER = 5327
ORBITAL_ECCENTRICITY = 0.571
ORBITAL_INCLINATION = 86.73
ORBITAL_SEMIMAJOR_AXIS = 8694.34
PERIAPSIS_ALTITUDE = 338.61
PERIAPSIS_ARGUMENT_ANGLE = 141.16
PERIAPSIS_TIME = 2008-02-24T18:09:12.000Z
SPACECRAFT_ORIENTATION = (0.0,-1.0,0.0)
^MEX_ORIENTATION_DESC = "MEX_ORIENTATION_DESC.TXT"
SPACECRAFT_POINTING_MODE = NADIR
^MEX_POINTING_DESC = "MEX_POINTING_DESC.TXT"
RIGHT_ASCENSION = -1e+32
DECLINATION = -1e+32
OFFSET_ANGLE = -1e+32
SPACECRAFT_SOLAR_DISTANCE = 2.44764e+08
TARGET_NAME = MARS
/* CAMERA DATA ELEMENTS */
DETECTOR_TEMPERATURE = 18.3705
FOCAL_PLANE_TEMPERATURE = 8.1755
INST_CMPRS_NAME = "DISCRETE COSINE TRANSFORMATION (DCT)"
INST_CMPRS_RATIO = 16.9162
INST_CMPRS_QUALITY = 0
INST_CMPRS_QUANTZ_TBL_ID = 0
INSTRUMENT_TEMPERATURE = 11.0301
LENS_TEMPERATURE = 8.5833
MACROPIXEL_SIZE = 4
MISSING_FRAMES = 0
PIXEL_SUBSAMPLING_FLAG = N
SIGNAL_CHAIN_ID = 2
/* RADIOMETRIC DATA ELEMENTS */
BANDWIDTH = 48.0
CENTER_FILTER_WAVELENGTH = 748.0
RADIANCE_OFFSET = 1.08348
RADIANCE_SCALING_FACTOR = 0.00678021
REFLECTANCE_SCALING_FACTOR = 0.000926971
MEX:REFLECTANCE_OFFSET = 0.14813
/* IMAGE OBJECT DEFINITIONS */
OBJECT = IMAGE
  INTERCHANGE_FORMAT = BINARY
  LINES = 16694
  LINE_SAMPLES = 1772
  SAMPLE_TYPE = UNSIGNED_INTEGER
  SAMPLE_BITS = 8
  BANDS = 1
  BAND_STORAGE_TYPE = BAND_SEQUENTIAL
  MAXIMUM = 255
  MEAN = 133.212
  MINIMUM = 1
  STANDARD_DEVIATION = 49.1478
END_OBJECT = IMAGE
/* MAP OBJECT DEFINITIONS */
OBJECT = IMAGE_MAP_PROJECTION
  ^DATA_SET_MAP_PROJECTION_CATALOG= "DSMAP.CAT"
  A_AXIS_RADIUS = 3396.0
  B_AXIS_RADIUS = 3396.0
  C_AXIS_RADIUS = 3396.0
  CENTER_LATITUDE = 0.0
  CENTER_LONGITUDE = 134.0
  COORDINATE_SYSTEM_NAME = PLANETOGRAPHIC
  COORDINATE_SYSTEM_TYPE = "BODY-FIXED ROTATING"
  EASTERNMOST_LONGITUDE = 134.42
  FIRST_STANDARD_PARALLEL = "N/A"
  LINE_FIRST_PIXEL = 1
  LINE_LAST_PIXEL = 16694
  LINE_PROJECTION_OFFSET = 38038.625
  MAP_PROJECTION_ROTATION = 0.0
  MAP_PROJECTION_TYPE = SINUSOIDAL
  MAP_RESOLUTION = 1185.42760773333
  MAP_SCALE = 0.05
  MAXIMUM_LATITUDE = 32.0979
  MINIMUM_LATITUDE = 18.0072
  POSITIVE_LONGITUDE_DIRECTION = EAST
  REFERENCE_LATITUDE = "N/A"
  REFERENCE_LONGITUDE = "N/A"
  SAMPLE_FIRST_PIXEL = 1
  SAMPLE_LAST_PIXEL = 1772
  SAMPLE_PROJECTION_OFFSET = 1348.125
  SECOND_STANDARD_PARALLEL = "N/A"
  WESTERNMOST_LONGITUDE = 132.767
END_OBJECT = IMAGE_MAP_PROJECTION
END
