PDS_VERSION_ID = PDS3
/* FILE DATA ELEMENTS */
RECORD_TYPE = UNDEFINED
/* POINTERS TO DATA OBJECTS */
^IMAGE = ("H5329_0000_IR4.TIF")
/* IDENTIFICATION DATA ELEMENTS */
DATA_SET_ID = "MEX-M-HRSC-4-REFDR-MAPPROJECT-EXT2-V4.0"
DATA_SET_NAME = "MARS EXPRESS HRSC MAP PROJECTED REFDR EXTENSION2 V4.0"
DETECTOR_ID = MEX_HRSC_IR
EVENT_TYPE = "MARS-REGIONAL-MAPPING-Vo-Te-Fl"
INSTRUMENT_HOST_ID = MEX
INSTRUMENT_HOST_NAME = "MARS EXPRESS"
INSTRUMENT_ID = HRSC
INSTRUMENT_NAME = "HIGH RESOLUTION STEREO CAMERA"
MISSION_NAME = "MARS EXPRESS"
MISSION_PHASE_NAME = ME_Phase_11
PROCESSING_LEVEL_ID = 4
PRODUCT_CREATION_TIME = 2023-02-02T05:41:08.000Z
PRODUCT_ID = "H5329_0000_IR4.TIF"
RELEASE_ID = 0002
REVISION_ID = 0000
/* QUALITY DATA ELEMENTS */
DATA_QUALITY_ID = 1
DATA_QUALITY_DESC = "Data calculated based on original SPICE kernels"
/* TIME DATA ELEMENTS */
SPACECRAFT_CLOCK_START_COUNT = "1/0152005521.07278"
SPACECRAFT_CLOCK_STOP_COUNT = "1/0152005868.47059"
START_TIME = 2008-02-25T07:45:31.893Z
STOP_TIME = 2008-02-25T07:50:14.894Z
/* ORBITAL DATA ELEMENTS */
ASCENDING_NODE_LONGITUDE = 117.32
MAXIMUM_RESOLUTION = 0.0566
FOOTPRINT_POINT_LATITUDE = (55.7167,55.6681,55.6125,55.6112, 55.5213,55.1331,54.7446,54.3642,53.983, 53.6007,53.2175,52.8333,52.4481,52.062, 51.675,51.096,50.7093,50.3188,49.9329, 49.5393,49.1476,48.7563,48.2622,47.9284 ,47.2659,46.7667,46.2704,45.7663, 45.4325,44.9338,44.6012,44.2581,43.757, 43.2513,42.9136,42.5754,42.237,41.8951, 41.5548,41.2154,40.8746,40.3624,40.0209 ,39.5085,38.9932,38.6486,38.3062, 37.9741,37.8076,37.776,37.7932,37.8121, 37.8123,37.8132,38.313,38.6544,38.9983, 39.5145,39.8573,40.1999,40.5416,40.884, 41.2271,41.567,41.9084,42.2473,42.5892, 42.9289,43.4383,43.7751,44.2811,44.6185 ,45.1222,45.459,45.7943,46.458,46.7965, 47.299,47.6349,47.9677,48.2998,48.7971, 49.184,49.577,49.9742,50.5606,50.9527, 51.3438,51.7332,52.1171,52.5058,52.896, 53.2786,53.6633,54.2388,54.6216,55.0074 ,55.399,55.5947,55.7167)
FOOTPRINT_POINT_LONGITUDE = (293.175,291.853,290.716,290.693, 290.637,290.705,290.772,290.835,290.896 ,290.956,291.014,291.07,291.125,291.178 ,291.23,291.307,291.357,291.404,291.453 ,291.496,291.54,291.582,291.634,291.666 ,291.731,291.777,291.823,291.864, 291.892,291.935,291.963,291.984,292.023 ,292.059,292.082,292.104,292.126, 292.146,292.166,292.186,292.205,292.233 ,292.251,292.277,292.3,292.315,292.331, 292.345,292.352,292.353,292.954,293.833 ,293.847,293.852,293.841,293.835, 293.827,293.816,293.808,293.8,293.793, 293.785,293.776,293.768,293.759,293.751 ,293.742,293.733,293.719,293.711, 293.697,293.687,293.673,293.663,293.653 ,293.635,293.622,293.604,293.592,293.58 ,293.568,293.55,293.535,293.521,293.503 ,293.48,293.463,293.446,293.429,293.414 ,293.395,293.375,293.358,293.339, 293.309,293.289,293.267,293.245,293.233 ,293.175)
ORBIT_NUMBER = 5329
ORBITAL_ECCENTRICITY = 0.571
ORBITAL_INCLINATION = 86.73
ORBITAL_SEMIMAJOR_AXIS = 8692.22
PERIAPSIS_ALTITUDE = 338.57
PERIAPSIS_ARGUMENT_ANGLE = 140.81
PERIAPSIS_TIME = 2008-02-25T07:50:19.000Z
SPACECRAFT_ORIENTATION = (0.0,-1.0,0.0)
^MEX_ORIENTATION_DESC = "MEX_ORIENTATION_DESC.TXT"
SPACECRAFT_POINTING_MODE = ACROSSTRACK
^MEX_POINTING_DESC = "MEX_POINTING_DESC.TXT"
RIGHT_ASCENSION = -1e+32
DECLINATION = -1e+32
OFFSET_ANGLE = -0.1
SPACECRAFT_SOLAR_DISTANCE = 2.44827e+08
TARGET_NAME = MARS
/* CAMERA DATA ELEMENTS */
DETECTOR_TEMPERATURE = 44.0619
FOCAL_PLANE_TEMPERATURE = 8.3794
INST_CMPRS_NAME = "DISCRETE COSINE TRANSFORMATION (DCT)"
INST_CMPRS_RATIO = 11.0449
INST_CMPRS_QUALITY = 0
INST_CMPRS_QUANTZ_TBL_ID = 0
INSTRUMENT_TEMPERATURE = 11.0301
LENS_TEMPERATURE = 8.5833
MACROPIXEL_SIZE = 4
MISSING_FRAMES = 0
PIXEL_SUBSAMPLING_FLAG = N
SIGNAL_CHAIN_ID = 2
/* RADIOMETRIC DATA ELEMENTS */
BANDWIDTH = 81.0
CENTER_FILTER_WAVELENGTH = 955.5
RADIANCE_OFFSET = 0.609264
RADIANCE_SCALING_FACTOR = 0.00932398
REFLECTANCE_SCALING_FACTOR = 0.00120573
MEX:REFLECTANCE_OFFSET = 0.0787868
/* IMAGE OBJECT DEFINITIONS */
OBJECT = IMAGE
  INTERCHANGE_FORMAT = BINARY
  LINES = 21167
  LINE_SAMPLES = 2358
  SAMPLE_TYPE = UNSIGNED_INTEGER
  SAMPLE_BITS = 8
  BANDS = 1
  BAND_STORAGE_TYPE = BAND_SEQUENTIAL
  MAXIMUM = 255
  MEAN = 121.901
  MINIMUM = 1
  STANDARD_DEVIATION = 37.2501
END_OBJECT = IMAGE
/* MAP OBJECT DEFINITIONS */
OBJECT = IMAGE_MAP_PROJECTION
  ^DATA_SET_MAP_PROJECTION_CATALOG= "DSMAP.CAT"
  A_AXIS_RADIUS = 3396.0
  B_AXIS_RADIUS = 3396.0
  C_AXIS_RADIUS = 3396.0
  CENTER_LATITUDE = 0.0
  CENTER_LONGITUDE = 293.0
  COORDINATE_SYSTEM_NAME = PLANETOGRAPHIC
  COORDINATE_SYSTEM_TYPE = "BODY-FIXED ROTATING"
  EASTERNMOST_LONGITUDE = 293.852
  FIRST_STANDARD_PARALLEL = "N/A"
  LINE_FIRST_PIXEL = 1
  LINE_LAST_PIXEL = 21167
  LINE_PROJECTION_OFFSET = 65964.125
  MAP_PROJECTION_ROTATION = 0.0
  MAP_PROJECTION_TYPE = SINUSOIDAL
  MAP_RESOLUTION = 1185.42760773333
  MAP_SCALE = 0.05
  MAXIMUM_LATITUDE = 55.7167
  MINIMUM_LATITUDE = 37.776
  POSITIVE_LONGITUDE_DIRECTION = EAST
  REFERENCE_LATITUDE = "N/A"
  REFERENCE_LONGITUDE = "N/A"
  SAMPLE_FIRST_PIXEL = 1
  SAMPLE_LAST_PIXEL = 2358
  SAMPLE_PROJECTION_OFFSET = 1562.375
  SECOND_STANDARD_PARALLEL = "N/A"
  WESTERNMOST_LONGITUDE = 290.637
END_OBJECT = IMAGE_MAP_PROJECTION
END
