PDS_VERSION_ID = PDS3
/* FILE DATA ELEMENTS */
RECORD_TYPE = UNDEFINED
/* POINTERS TO DATA OBJECTS */
^IMAGE = ("H5335_0000_P14.TIF")
/* IDENTIFICATION DATA ELEMENTS */
DATA_SET_ID = "MEX-M-HRSC-4-REFDR-MAPPROJECT-EXT2-V4.0"
DATA_SET_NAME = "MARS EXPRESS HRSC MAP PROJECTED REFDR EXTENSION2 V4.0"
DETECTOR_ID = MEX_HRSC_P1
EVENT_TYPE = "MARS-REGIONAL-MAPPING-Vo-Te-Pf"
INSTRUMENT_HOST_ID = MEX
INSTRUMENT_HOST_NAME = "MARS EXPRESS"
INSTRUMENT_ID = HRSC
INSTRUMENT_NAME = "HIGH RESOLUTION STEREO CAMERA"
MISSION_NAME = "MARS EXPRESS"
MISSION_PHASE_NAME = ME_Phase_11
PROCESSING_LEVEL_ID = 4
PRODUCT_CREATION_TIME = 2023-02-02T05:41:08.000Z
PRODUCT_ID = "H5335_0000_P14.TIF"
RELEASE_ID = 0002
REVISION_ID = 0000
/* QUALITY DATA ELEMENTS */
DATA_QUALITY_ID = 1
DATA_QUALITY_DESC = "Data calculated based on original SPICE kernels"
/* TIME DATA ELEMENTS */
SPACECRAFT_CLOCK_START_COUNT = "1/0152153389.07281"
SPACECRAFT_CLOCK_STOP_COUNT = "1/0152153660.54422"
START_TIME = 2008-02-27T00:50:05.279Z
STOP_TIME = 2008-02-27T00:53:32.156Z
/* ORBITAL DATA ELEMENTS */
ASCENDING_NODE_LONGITUDE = 117.2
MAXIMUM_RESOLUTION = 0.0278
FOOTPRINT_POINT_LATITUDE = (51.9008,51.8694,51.8401,51.8097, 51.8086,51.745,51.4455,51.1455,50.8453, 50.5445,50.2431,49.9495,49.4444,49.19, 48.809,48.2997,48.0449,47.5383,47.2803, 47.0236,46.5149,46.2575,46.0022,45.7431 ,45.4853,45.1003,44.8387,44.5812, 44.3235,43.9355,43.674,43.4145,43.1535, 42.7645,42.5048,42.1147,41.8548,41.5919 ,41.2013,40.9428,40.6864,40.4209, 40.1583,39.8988,39.5125,39.2523,38.9902 ,38.7289,38.5975,38.562,38.5848,38.6018 ,38.6109,38.6113,38.6118,39.0055,39.268 ,39.528,39.7918,40.0534,40.4422,40.7008 ,41.0915,41.3532,41.748,42.0107,42.2691 ,42.5335,42.7899,43.0499,43.3116, 43.7025,43.9611,44.2216,44.6145,44.8741 ,45.1322,45.3927,45.6516,46.0388,46.295 ,46.5506,46.8074,47.0652,47.3222, 47.5793,47.8346,48.0907,48.3465,48.6019 ,48.8574,49.3677,50.0038,50.4435, 50.7461,51.0482,51.3501,51.6511,51.8017 ,51.9008)
FOOTPRINT_POINT_LONGITUDE = (52.6972,51.8775,51.2343,50.6478, 50.6276,50.5642,50.6046,50.6442,50.6832 ,50.7213,50.7583,50.7937,50.8542, 50.8824,50.9247,50.9791,51.0057,51.0609 ,51.084,51.1081,51.1594,51.1821,51.2064 ,51.2272,51.2488,51.2824,51.3001, 51.3213,51.3421,51.3747,51.3917,51.4102 ,51.4271,51.4544,51.4719,51.4975, 51.5143,51.5284,51.5525,51.5698,51.5887 ,51.5998,51.6131,51.6288,51.6544,51.669 ,51.6818,51.6951,51.7011,51.7025, 52.3082,52.836,53.2003,53.2148,53.22, 53.2102,53.2035,53.1975,53.19,53.1831, 53.1739,53.1678,53.1573,53.1497,53.1371 ,53.1287,53.1217,53.1123,53.1057, 53.0976,53.0886,53.0754,53.0672,53.058, 53.0442,53.0348,53.0258,53.0156,53.0059 ,52.9913,52.9821,52.9729,52.963,52.9524 ,52.9419,52.9311,52.9208,52.9099, 52.8988,52.8877,52.8762,52.8527,52.8225 ,52.8009,52.7856,52.7701,52.7542, 52.7382,52.73,52.6972)
ORBIT_NUMBER = 5335
ORBITAL_ECCENTRICITY = 0.571
ORBITAL_INCLINATION = 86.74
ORBITAL_SEMIMAJOR_AXIS = 8693.34
PERIAPSIS_ALTITUDE = 339.05
PERIAPSIS_ARGUMENT_ANGLE = 139.76
PERIAPSIS_TIME = 2008-02-27T00:53:28.000Z
SPACECRAFT_ORIENTATION = (0.0,-1.0,0.0)
^MEX_ORIENTATION_DESC = "MEX_ORIENTATION_DESC.TXT"
SPACECRAFT_POINTING_MODE = ACROSSTRACK
^MEX_POINTING_DESC = "MEX_POINTING_DESC.TXT"
RIGHT_ASCENSION = -1e+32
DECLINATION = -1e+32
OFFSET_ANGLE = -0.269
SPACECRAFT_SOLAR_DISTANCE = 2.45014e+08
TARGET_NAME = MARS
/* CAMERA DATA ELEMENTS */
DETECTOR_TEMPERATURE = 17.351
FOCAL_PLANE_TEMPERATURE = 7.9716
INST_CMPRS_NAME = "DISCRETE COSINE TRANSFORMATION (DCT)"
INST_CMPRS_RATIO = 9.62853
INST_CMPRS_QUALITY = 0
INST_CMPRS_QUANTZ_TBL_ID = 0
INSTRUMENT_TEMPERATURE = 10.8262
LENS_TEMPERATURE = 8.5833
MACROPIXEL_SIZE = 2
MISSING_FRAMES = 1
PIXEL_SUBSAMPLING_FLAG = N
SIGNAL_CHAIN_ID = 3
/* RADIOMETRIC DATA ELEMENTS */
BANDWIDTH = 174.0
CENTER_FILTER_WAVELENGTH = 675.0
RADIANCE_OFFSET = 3.6861
RADIANCE_SCALING_FACTOR = 0.0232045
REFLECTANCE_SCALING_FACTOR = 0.000749271
MEX:REFLECTANCE_OFFSET = 0.119024
/* IMAGE OBJECT DEFINITIONS */
OBJECT = IMAGE
  INTERCHANGE_FORMAT = BINARY
  LINES = 31460
  LINE_SAMPLES = 4342
  SAMPLE_TYPE = UNSIGNED_INTEGER
  SAMPLE_BITS = 8
  BANDS = 1
  BAND_STORAGE_TYPE = BAND_SEQUENTIAL
  MAXIMUM = 255
  MEAN = 139.879
  MINIMUM = 1
  STANDARD_DEVIATION = 25.9737
END_OBJECT = IMAGE
/* MAP OBJECT DEFINITIONS */
OBJECT = IMAGE_MAP_PROJECTION
  ^DATA_SET_MAP_PROJECTION_CATALOG= "DSMAP.CAT"
  A_AXIS_RADIUS = 3396.0
  B_AXIS_RADIUS = 3396.0
  C_AXIS_RADIUS = 3396.0
  CENTER_LATITUDE = 0.0
  CENTER_LONGITUDE = 52.0
  COORDINATE_SYSTEM_NAME = PLANETOGRAPHIC
  COORDINATE_SYSTEM_TYPE = "BODY-FIXED ROTATING"
  EASTERNMOST_LONGITUDE = 53.22
  FIRST_STANDARD_PARALLEL = "N/A"
  LINE_FIRST_PIXEL = 1
  LINE_LAST_PIXEL = 31460
  LINE_PROJECTION_OFFSET = 122918.25
  MAP_PROJECTION_ROTATION = 0.0
  MAP_PROJECTION_TYPE = SINUSOIDAL
  MAP_RESOLUTION = 2370.85521546667
  MAP_SCALE = 0.025
  MAXIMUM_LATITUDE = 51.9008
  MINIMUM_LATITUDE = 38.562
  POSITIVE_LONGITUDE_DIRECTION = EAST
  REFERENCE_LATITUDE = "N/A"
  REFERENCE_LONGITUDE = "N/A"
  SAMPLE_FIRST_PIXEL = 1
  SAMPLE_LAST_PIXEL = 4342
  SAMPLE_PROJECTION_OFFSET = 2080.75
  SECOND_STANDARD_PARALLEL = "N/A"
  WESTERNMOST_LONGITUDE = 50.5642
END_OBJECT = IMAGE_MAP_PROJECTION
END
