PDS_VERSION_ID = PDS3
/* FILE DATA ELEMENTS */
RECORD_TYPE = UNDEFINED
/* POINTERS TO DATA OBJECTS */
^IMAGE = ("H5370_0001_P14.TIF")
/* IDENTIFICATION DATA ELEMENTS */
DATA_SET_ID = "MEX-M-HRSC-4-REFDR-MAPPROJECT-EXT2-V4.0"
DATA_SET_NAME = "MARS EXPRESS HRSC MAP PROJECTED REFDR EXTENSION2 V4.0"
DETECTOR_ID = MEX_HRSC_P1
EVENT_TYPE = "MARS-LOCAL-STEREO-Vo"
INSTRUMENT_HOST_ID = MEX
INSTRUMENT_HOST_NAME = "MARS EXPRESS"
INSTRUMENT_ID = HRSC
INSTRUMENT_NAME = "HIGH RESOLUTION STEREO CAMERA"
MISSION_NAME = "MARS EXPRESS"
MISSION_PHASE_NAME = ME_Phase_11
PROCESSING_LEVEL_ID = 4
PRODUCT_CREATION_TIME = 2023-02-02T05:41:08.000Z
PRODUCT_ID = "H5370_0001_P14.TIF"
RELEASE_ID = 0002
REVISION_ID = 0000
/* QUALITY DATA ELEMENTS */
DATA_QUALITY_ID = 1
DATA_QUALITY_DESC = "Data calculated based on original SPICE kernels"
/* TIME DATA ELEMENTS */
SPACECRAFT_CLOCK_START_COUNT = "1/0153015865.07318"
SPACECRAFT_CLOCK_STOP_COUNT = "1/0153016003.06584"
START_TIME = 2008-03-08T00:24:39.770Z
STOP_TIME = 2008-03-08T00:25:43.383Z
/* ORBITAL DATA ELEMENTS */
ASCENDING_NODE_LONGITUDE = 116.49
MAXIMUM_RESOLUTION = 0.0302
FOOTPRINT_POINT_LATITUDE = (34.2733,34.2734,34.2734,34.2732, 34.2729,34.2723,34.2717,34.2708,34.2699 ,34.2688,34.2674,34.2658,34.2642,34.264 ,34.2234,34.0401,33.8934,33.7101, 33.5641,33.455,33.3106,33.2027,33.0243, 32.8817,32.7144,32.5442,32.2866,32.1148 ,31.899,31.7255,31.6375,31.5499,31.4619 ,31.3726,31.2832,31.1483,31.0591, 30.9698,30.8808,30.792,30.7027,30.6131, 30.5235,30.435,30.3478,30.2607,30.1736, 30.1302,30.0922,30.0934,30.0943,30.0952 ,30.0957,30.0961,30.0964,30.0964, 30.0961,30.0951,30.0942,30.0941,30.0946 ,30.2252,30.3123,30.3996,30.487,30.5744 ,30.6617,30.7491,30.8364,30.9237, 31.0547,31.1423,31.2303,31.3186,31.4064 ,31.4946,31.5822,31.6697,31.7571, 31.8444,31.9322,32.0193,32.1063,32.2366 ,32.3236,32.4102,32.497,32.5844,32.7573 ,32.8834,33.0288,33.2117,33.3583, 33.5051,33.6884,33.872,34.0555,34.1656, 34.2023,34.2733)
FOOTPRINT_POINT_LONGITUDE = (151.602,151.469,151.351,151.234, 151.116,150.954,150.837,150.72,150.603, 150.486,150.355,150.224,150.108,150.093 ,150.074,150.077,150.08,150.083,150.085 ,150.087,150.09,150.092,150.096,150.1, 150.104,150.107,150.112,150.115,150.118 ,150.12,150.121,150.122,150.122,150.122 ,150.122,150.122,150.122,150.122, 150.122,150.122,150.122,150.122,150.121 ,150.121,150.122,150.122,150.123, 150.123,150.123,150.243,150.363,150.559 ,150.679,150.8,150.981,151.102,151.239, 151.497,151.665,151.68,151.685,151.684, 151.683,151.682,151.68,151.679,151.678, 151.677,151.676,151.675,151.673,151.672 ,151.67,151.668,151.667,151.665,151.664 ,151.662,151.661,151.66,151.659,151.658 ,151.657,151.656,151.655,151.654, 151.654,151.652,151.652,151.65,151.649, 151.647,151.645,151.643,151.64,151.637, 151.635,151.633,151.632,151.602)
ORBIT_NUMBER = 5370
ORBITAL_ECCENTRICITY = 0.57
ORBITAL_INCLINATION = 86.74
ORBITAL_SEMIMAJOR_AXIS = 8678.22
PERIAPSIS_ALTITUDE = 343.5
PERIAPSIS_ARGUMENT_ANGLE = 133.59
PERIAPSIS_TIME = 2008-03-08T00:21:54.000Z
SPACECRAFT_ORIENTATION = (0.0,-1.0,0.0)
^MEX_ORIENTATION_DESC = "MEX_ORIENTATION_DESC.TXT"
SPACECRAFT_POINTING_MODE = ACROSSTRACK
^MEX_POINTING_DESC = "MEX_POINTING_DESC.TXT"
RIGHT_ASCENSION = -1e+32
DECLINATION = -1e+32
OFFSET_ANGLE = 0.2
SPACECRAFT_SOLAR_DISTANCE = 2.46028e+08
TARGET_NAME = MARS
/* CAMERA DATA ELEMENTS */
DETECTOR_TEMPERATURE = 18.7783
FOCAL_PLANE_TEMPERATURE = 8.7872
INST_CMPRS_NAME = "DISCRETE COSINE TRANSFORMATION (DCT)"
INST_CMPRS_RATIO = 10.7543
INST_CMPRS_QUALITY = 0
INST_CMPRS_QUANTZ_TBL_ID = 0
INSTRUMENT_TEMPERATURE = 13.273
LENS_TEMPERATURE = 9.195
MACROPIXEL_SIZE = 2
MISSING_FRAMES = 0
PIXEL_SUBSAMPLING_FLAG = N
SIGNAL_CHAIN_ID = 3
/* RADIOMETRIC DATA ELEMENTS */
BANDWIDTH = 174.0
CENTER_FILTER_WAVELENGTH = 675.0
RADIANCE_OFFSET = 6.41693
RADIANCE_SCALING_FACTOR = 0.0192115
REFLECTANCE_SCALING_FACTOR = 0.000625485
MEX:REFLECTANCE_OFFSET = 0.208921
/* IMAGE OBJECT DEFINITIONS */
OBJECT = IMAGE
  INTERCHANGE_FORMAT = BINARY
  LINES = 9847
  LINE_SAMPLES = 3284
  SAMPLE_TYPE = UNSIGNED_INTEGER
  SAMPLE_BITS = 8
  BANDS = 1
  BAND_STORAGE_TYPE = BAND_SEQUENTIAL
  MAXIMUM = 255
  MEAN = 138.703
  MINIMUM = 1
  STANDARD_DEVIATION = 29.0647
END_OBJECT = IMAGE
/* MAP OBJECT DEFINITIONS */
OBJECT = IMAGE_MAP_PROJECTION
  ^DATA_SET_MAP_PROJECTION_CATALOG= "DSMAP.CAT"
  A_AXIS_RADIUS = 3396.0
  B_AXIS_RADIUS = 3396.0
  C_AXIS_RADIUS = 3396.0
  CENTER_LATITUDE = 0.0
  CENTER_LONGITUDE = 151.0
  COORDINATE_SYSTEM_NAME = PLANETOGRAPHIC
  COORDINATE_SYSTEM_TYPE = "BODY-FIXED ROTATING"
  EASTERNMOST_LONGITUDE = 151.685
  FIRST_STANDARD_PARALLEL = "N/A"
  LINE_FIRST_PIXEL = 1
  LINE_LAST_PIXEL = 9847
  LINE_PROJECTION_OFFSET = 81187.75
  MAP_PROJECTION_ROTATION = 0.0
  MAP_PROJECTION_TYPE = SINUSOIDAL
  MAP_RESOLUTION = 2370.85521546667
  MAP_SCALE = 0.025
  MAXIMUM_LATITUDE = 34.2734
  MINIMUM_LATITUDE = 30.0922
  POSITIVE_LONGITUDE_DIRECTION = EAST
  REFERENCE_LATITUDE = "N/A"
  REFERENCE_LONGITUDE = "N/A"
  SAMPLE_FIRST_PIXEL = 1
  SAMPLE_LAST_PIXEL = 3284
  SAMPLE_PROJECTION_OFFSET = 1847.25
  SECOND_STANDARD_PARALLEL = "N/A"
  WESTERNMOST_LONGITUDE = 150.074
END_OBJECT = IMAGE_MAP_PROJECTION
END
