PDS_VERSION_ID = PDS3
/* FILE DATA ELEMENTS */
RECORD_TYPE = UNDEFINED
/* POINTERS TO DATA OBJECTS */
^IMAGE = ("H5381_0009_ND4.TIF")
/* IDENTIFICATION DATA ELEMENTS */
DATA_SET_ID = "MEX-M-HRSC-4-REFDR-MAPPROJECT-EXT2-V4.0"
DATA_SET_NAME = "MARS EXPRESS HRSC MAP PROJECTED REFDR EXTENSION2 V4.0"
DETECTOR_ID = MEX_HRSC_NADIR
EVENT_TYPE = "MARS-REGIONAL-STEREO-Te-Im-Pf"
INSTRUMENT_HOST_ID = MEX
INSTRUMENT_HOST_NAME = "MARS EXPRESS"
INSTRUMENT_ID = HRSC
INSTRUMENT_NAME = "HIGH RESOLUTION STEREO CAMERA"
MISSION_NAME = "MARS EXPRESS"
MISSION_PHASE_NAME = ME_Phase_11
PROCESSING_LEVEL_ID = 4
PRODUCT_CREATION_TIME = 2023-02-02T05:41:08.000Z
PRODUCT_ID = "H5381_0009_ND4.TIF"
RELEASE_ID = 0002
REVISION_ID = 0000
/* QUALITY DATA ELEMENTS */
DATA_QUALITY_ID = 1
DATA_QUALITY_DESC = "Data calculated based on original SPICE kernels"
/* TIME DATA ELEMENTS */
SPACECRAFT_CLOCK_START_COUNT = "1/0153286472.08244"
SPACECRAFT_CLOCK_STOP_COUNT = "1/0153286746.48245"
START_TIME = 2008-03-11T03:35:10.018Z
STOP_TIME = 2008-03-11T03:38:37.024Z
/* ORBITAL DATA ELEMENTS */
ASCENDING_NODE_LONGITUDE = 116.27
MAXIMUM_RESOLUTION = 0.0139
FOOTPRINT_POINT_LATITUDE = (57.6839,57.6593,57.6369,57.596,57.5949 ,57.593,57.0623,56.531,55.999,55.4663, 54.933,54.3992,53.8649,53.3301,53.0625, 52.7949,52.5271,52.2592,51.9913,51.7232 ,51.4551,51.1869,50.9187,50.6503, 50.3819,50.1135,49.845,49.5765,49.3079, 48.9049,48.6363,48.3676,48.0989,47.6958 ,47.427,47.1583,46.8896,46.6208,46.3521 ,46.0834,45.8147,45.5461,45.2775, 45.0089,44.7403,44.4718,44.3376,44.2038 ,44.2223,44.2359,44.2459,44.2462, 44.2466,44.5157,44.7849,45.0542,45.3235 ,45.5928,45.8622,46.1316,46.401,46.6705 ,46.94,47.2095,47.479,47.7485,48.0181, 48.2876,48.5572,48.8267,49.0962,49.3657 ,49.6352,49.9046,50.174,50.4434,50.7128 ,50.9821,51.2514,51.5205,51.7897, 52.0588,52.3278,52.5968,52.8656,53.1344 ,53.4032,53.6718,53.9403,54.2088, 54.4771,54.7454,55.0135,55.2815,55.8172 ,56.3524,56.887,57.4211,57.5545, 57.6839)
FOOTPRINT_POINT_LONGITUDE = (129.579,128.833,128.247,127.323, 127.301,127.228,127.324,127.415,127.503 ,127.586,127.667,127.744,127.818, 127.888,127.922,127.956,127.989,128.021 ,128.052,128.083,128.113,128.142, 128.171,128.199,128.227,128.254,128.28, 128.306,128.331,128.368,128.392,128.415 ,128.438,128.471,128.493,128.514, 128.534,128.555,128.574,128.593,128.612 ,128.63,128.649,128.666,128.683,128.7, 128.708,128.716,129.34,129.896,130.402, 130.419,130.427,130.417,130.407,130.396 ,130.386,130.375,130.364,130.353, 130.342,130.33,130.319,130.307,130.295, 130.282,130.27,130.257,130.244,130.231, 130.218,130.204,130.19,130.176,130.162, 130.147,130.133,130.118,130.102,130.086 ,130.07,130.054,130.038,130.021,130.005 ,129.987,129.97,129.952,129.934,129.915 ,129.896,129.877,129.857,129.837, 129.796,129.754,129.71,129.664,129.652, 129.579)
ORBIT_NUMBER = 5381
ORBITAL_ECCENTRICITY = 0.57
ORBITAL_INCLINATION = 86.74
ORBITAL_SEMIMAJOR_AXIS = 8678.82
PERIAPSIS_ALTITUDE = 344.14
PERIAPSIS_ARGUMENT_ANGLE = 131.65
PERIAPSIS_TIME = 2008-03-11T03:37:35.000Z
SPACECRAFT_ORIENTATION = (0.0,-1.0,0.0)
^MEX_ORIENTATION_DESC = "MEX_ORIENTATION_DESC.TXT"
SPACECRAFT_POINTING_MODE = NADIR
^MEX_POINTING_DESC = "MEX_POINTING_DESC.TXT"
RIGHT_ASCENSION = -1e+32
DECLINATION = -1e+32
OFFSET_ANGLE = -1e+32
SPACECRAFT_SOLAR_DISTANCE = 2.46319e+08
TARGET_NAME = MARS
/* CAMERA DATA ELEMENTS */
DETECTOR_TEMPERATURE = 18.1666
FOCAL_PLANE_TEMPERATURE = 8.5833
INST_CMPRS_NAME = "DISCRETE COSINE TRANSFORMATION (DCT)"
INST_CMPRS_RATIO = 7.45426
INST_CMPRS_QUALITY = 0
INST_CMPRS_QUANTZ_TBL_ID = 0
INSTRUMENT_TEMPERATURE = 11.8457
LENS_TEMPERATURE = 9.195
MACROPIXEL_SIZE = 1
MISSING_FRAMES = 0
PIXEL_SUBSAMPLING_FLAG = N
SIGNAL_CHAIN_ID = 0
/* RADIOMETRIC DATA ELEMENTS */
BANDWIDTH = 177.0
CENTER_FILTER_WAVELENGTH = 677.5
RADIANCE_OFFSET = 3.361
RADIANCE_SCALING_FACTOR = 0.0192214
REFLECTANCE_SCALING_FACTOR = 0.000619533
MEX:REFLECTANCE_OFFSET = 0.10833
/* IMAGE OBJECT DEFINITIONS */
OBJECT = IMAGE
  INTERCHANGE_FORMAT = BINARY
  LINES = 63936
  LINE_SAMPLES = 9350
  SAMPLE_TYPE = UNSIGNED_INTEGER
  SAMPLE_BITS = 8
  BANDS = 1
  BAND_STORAGE_TYPE = BAND_SEQUENTIAL
  MAXIMUM = 255
  MEAN = 112.856
  MINIMUM = 1
  STANDARD_DEVIATION = 61.8291
END_OBJECT = IMAGE
/* MAP OBJECT DEFINITIONS */
OBJECT = IMAGE_MAP_PROJECTION
  ^DATA_SET_MAP_PROJECTION_CATALOG= "DSMAP.CAT"
  A_AXIS_RADIUS = 3396.0
  B_AXIS_RADIUS = 3396.0
  C_AXIS_RADIUS = 3396.0
  CENTER_LATITUDE = 0.0
  CENTER_LONGITUDE = 129.0
  COORDINATE_SYSTEM_NAME = PLANETOGRAPHIC
  COORDINATE_SYSTEM_TYPE = "BODY-FIXED ROTATING"
  EASTERNMOST_LONGITUDE = 130.427
  FIRST_STANDARD_PARALLEL = "N/A"
  LINE_FIRST_PIXEL = 1
  LINE_LAST_PIXEL = 63936
  LINE_PROJECTION_OFFSET = 273537.0
  MAP_PROJECTION_ROTATION = 0.0
  MAP_PROJECTION_TYPE = SINUSOIDAL
  MAP_RESOLUTION = 4741.71043093333
  MAP_SCALE = 0.0125
  MAXIMUM_LATITUDE = 57.6839
  MINIMUM_LATITUDE = 44.2038
  POSITIVE_LONGITUDE_DIRECTION = EAST
  REFERENCE_LATITUDE = "N/A"
  REFERENCE_LONGITUDE = "N/A"
  SAMPLE_FIRST_PIXEL = 1
  SAMPLE_LAST_PIXEL = 9350
  SAMPLE_PROJECTION_OFFSET = 4502.0
  SECOND_STANDARD_PARALLEL = "N/A"
  WESTERNMOST_LONGITUDE = 127.228
END_OBJECT = IMAGE_MAP_PROJECTION
END
