PDS_VERSION_ID = PDS3
/* FILE DATA ELEMENTS */
RECORD_TYPE = UNDEFINED
/* POINTERS TO DATA OBJECTS */
^IMAGE = ("H5385_0000_IR4.TIF")
/* IDENTIFICATION DATA ELEMENTS */
DATA_SET_ID = "MEX-M-HRSC-4-REFDR-MAPPROJECT-EXT2-V4.0"
DATA_SET_NAME = "MARS EXPRESS HRSC MAP PROJECTED REFDR EXTENSION2 V4.0"
DETECTOR_ID = MEX_HRSC_IR
EVENT_TYPE = "MARS-REGIONAL-MAPPING-Te-Im-Pf"
INSTRUMENT_HOST_ID = MEX
INSTRUMENT_HOST_NAME = "MARS EXPRESS"
INSTRUMENT_ID = HRSC
INSTRUMENT_NAME = "HIGH RESOLUTION STEREO CAMERA"
MISSION_NAME = "MARS EXPRESS"
MISSION_PHASE_NAME = ME_Phase_11
PROCESSING_LEVEL_ID = 4
PRODUCT_CREATION_TIME = 2023-02-02T05:41:08.000Z
PRODUCT_ID = "H5385_0000_IR4.TIF"
RELEASE_ID = 0002
REVISION_ID = 0000
/* QUALITY DATA ELEMENTS */
DATA_QUALITY_ID = 1
DATA_QUALITY_DESC = "Data calculated based on original SPICE kernels"
/* TIME DATA ELEMENTS */
SPACECRAFT_CLOCK_START_COUNT = "1/0153384898.09042"
SPACECRAFT_CLOCK_STOP_COUNT = "1/0153385209.42167"
START_TIME = 2008-03-12T06:55:08.734Z
STOP_TIME = 2008-03-12T06:59:14.968Z
/* ORBITAL DATA ELEMENTS */
ASCENDING_NODE_LONGITUDE = 116.19
MAXIMUM_RESOLUTION = 0.058
FOOTPRINT_POINT_LATITUDE = (64.4755,64.4231,64.3801,64.3417, 64.3401,64.239,63.9052,63.5789,63.2511, 62.9231,62.5942,62.2646,61.9341,61.4372 ,61.1058,60.7732,60.4393,60.1041, 59.6011,59.2653,58.9285,58.5914,58.2535 ,57.915,57.4254,56.8555,56.2839,55.7107 ,55.1361,54.5604,54.2718,53.983,53.6937 ,53.4044,53.1145,52.824,52.5331,52.0967 ,51.8056,51.5139,51.076,50.7837,50.3448 ,49.9053,49.6122,49.3186,49.0248, 48.8778,48.8247,48.8453,48.8631,48.872, 48.8722,48.8731,49.1683,49.4633,49.7579 ,50.0521,50.3461,50.64,50.9335,51.2267, 51.5197,51.8123,52.1049,52.397,52.6889, 52.9804,53.2717,53.5628,53.8534,54.1438 ,54.4339,54.7237,55.0131,55.5911, 56.1678,56.7434,57.317,57.7732,58.1134, 58.4551,58.7948,59.1333,59.6412,59.9792 ,60.3168,60.6539,60.9892,61.3246, 61.6591,61.9934,62.3269,62.6598,62.9922 ,63.3238,63.655,64.1514,64.3205, 64.4755)
FOOTPRINT_POINT_LONGITUDE = (88.8152,87.3526,86.4043,85.6662, 85.6368,85.5891,85.695,85.7955,85.893, 85.988,86.0804,86.1702,86.2575,86.3842, 86.466,86.5455,86.6226,86.6973,86.8062, 86.8764,86.9447,87.0112,87.0759,87.1389 ,87.2272,87.3252,87.4189,87.5083, 87.5939,87.6758,87.7153,87.754,87.7918, 87.8288,87.8648,87.9,87.9344,87.9846, 88.0172,88.049,88.0953,88.1253,88.169, 88.2112,88.2385,88.2652,88.2912,88.304, 88.3085,88.9596,89.6665,90.1336,90.151, 90.1567,90.1434,90.1298,90.1161,90.1022 ,90.0881,90.0736,90.059,90.0441,90.0289 ,90.0136,89.9978,89.9818,89.9654, 89.9489,89.932,89.9147,89.8972,89.8793, 89.8611,89.8425,89.8236,89.7846,89.7439 ,89.7015,89.6578,89.6216,89.5946, 89.5649,89.5359,89.5068,89.4607,89.4289 ,89.3961,89.3624,89.3291,89.2943, 89.2588,89.2219,89.1843,89.1457,89.1059 ,89.0652,89.0232,88.9591,88.9365, 88.8152)
ORBIT_NUMBER = 5385
ORBITAL_ECCENTRICITY = 0.57
ORBITAL_INCLINATION = 86.75
ORBITAL_SEMIMAJOR_AXIS = 8679.52
PERIAPSIS_ALTITUDE = 343.54
PERIAPSIS_ARGUMENT_ANGLE = 130.93
PERIAPSIS_TIME = 2008-03-12T06:59:38.000Z
SPACECRAFT_ORIENTATION = (0.0,-1.0,0.0)
^MEX_ORIENTATION_DESC = "MEX_ORIENTATION_DESC.TXT"
SPACECRAFT_POINTING_MODE = ACROSSTRACK
^MEX_POINTING_DESC = "MEX_POINTING_DESC.TXT"
RIGHT_ASCENSION = -1e+32
DECLINATION = -1e+32
OFFSET_ANGLE = 0.1
SPACECRAFT_SOLAR_DISTANCE = 2.46422e+08
TARGET_NAME = MARS
/* CAMERA DATA ELEMENTS */
DETECTOR_TEMPERATURE = 18.5744
FOCAL_PLANE_TEMPERATURE = 8.5833
INST_CMPRS_NAME = "DISCRETE COSINE TRANSFORMATION (DCT)"
INST_CMPRS_RATIO = 26.5416
INST_CMPRS_QUALITY = 0
INST_CMPRS_QUANTZ_TBL_ID = 0
INSTRUMENT_TEMPERATURE = 11.0301
LENS_TEMPERATURE = 8.7872
MACROPIXEL_SIZE = 4
MISSING_FRAMES = 0
PIXEL_SUBSAMPLING_FLAG = N
SIGNAL_CHAIN_ID = 2
/* RADIOMETRIC DATA ELEMENTS */
BANDWIDTH = 81.0
CENTER_FILTER_WAVELENGTH = 955.5
RADIANCE_OFFSET = 0.534964
RADIANCE_SCALING_FACTOR = 0.00407924
REFLECTANCE_SCALING_FACTOR = 0.000534399
MEX:REFLECTANCE_OFFSET = 0.0700826
/* IMAGE OBJECT DEFINITIONS */
OBJECT = IMAGE
  INTERCHANGE_FORMAT = BINARY
  LINES = 18423
  LINE_SAMPLES = 2631
  SAMPLE_TYPE = UNSIGNED_INTEGER
  SAMPLE_BITS = 8
  BANDS = 1
  BAND_STORAGE_TYPE = BAND_SEQUENTIAL
  MAXIMUM = 255
  MEAN = 86.0728
  MINIMUM = 1
  STANDARD_DEVIATION = 31.4243
END_OBJECT = IMAGE
/* MAP OBJECT DEFINITIONS */
OBJECT = IMAGE_MAP_PROJECTION
  ^DATA_SET_MAP_PROJECTION_CATALOG= "DSMAP.CAT"
  A_AXIS_RADIUS = 3396.0
  B_AXIS_RADIUS = 3396.0
  C_AXIS_RADIUS = 3396.0
  CENTER_LATITUDE = 0.0
  CENTER_LONGITUDE = 89.0
  COORDINATE_SYSTEM_NAME = PLANETOGRAPHIC
  COORDINATE_SYSTEM_TYPE = "BODY-FIXED ROTATING"
  EASTERNMOST_LONGITUDE = 90.1567
  FIRST_STANDARD_PARALLEL = "N/A"
  LINE_FIRST_PIXEL = 1
  LINE_LAST_PIXEL = 18423
  LINE_PROJECTION_OFFSET = 76328.125
  MAP_PROJECTION_ROTATION = 0.0
  MAP_PROJECTION_TYPE = SINUSOIDAL
  MAP_RESOLUTION = 1185.42760773333
  MAP_SCALE = 0.05
  MAXIMUM_LATITUDE = 64.4755
  MINIMUM_LATITUDE = 48.8247
  POSITIVE_LONGITUDE_DIRECTION = EAST
  REFERENCE_LATITUDE = "N/A"
  REFERENCE_LONGITUDE = "N/A"
  SAMPLE_FIRST_PIXEL = 1
  SAMPLE_LAST_PIXEL = 2631
  SAMPLE_PROJECTION_OFFSET = 1736.625
  SECOND_STANDARD_PARALLEL = "N/A"
  WESTERNMOST_LONGITUDE = 85.5891
END_OBJECT = IMAGE_MAP_PROJECTION
END
