PDS_VERSION_ID = PDS3
/* FILE DATA ELEMENTS */
RECORD_TYPE = UNDEFINED
/* POINTERS TO DATA OBJECTS */
^IMAGE = ("H5420_0000_P14.TIF")
/* IDENTIFICATION DATA ELEMENTS */
DATA_SET_ID = "MEX-M-HRSC-4-REFDR-MAPPROJECT-EXT2-V4.0"
DATA_SET_NAME = "MARS EXPRESS HRSC MAP PROJECTED REFDR EXTENSION2 V4.0"
DETECTOR_ID = MEX_HRSC_P1
EVENT_TYPE = "MARS-REGIONAL-MAPPING-Te-Im-Pf"
INSTRUMENT_HOST_ID = MEX
INSTRUMENT_HOST_NAME = "MARS EXPRESS"
INSTRUMENT_ID = HRSC
INSTRUMENT_NAME = "HIGH RESOLUTION STEREO CAMERA"
MISSION_NAME = "MARS EXPRESS"
MISSION_PHASE_NAME = ME_Phase_11
PROCESSING_LEVEL_ID = 4
PRODUCT_CREATION_TIME = 2023-02-02T05:41:08.000Z
PRODUCT_ID = "H5420_0000_P14.TIF"
RELEASE_ID = 0002
REVISION_ID = 0000
/* QUALITY DATA ELEMENTS */
DATA_QUALITY_ID = 1
DATA_QUALITY_DESC = "Data calculated based on original SPICE kernels"
/* TIME DATA ELEMENTS */
SPACECRAFT_CLOCK_START_COUNT = "1/0154247040.08245"
SPACECRAFT_CLOCK_STOP_COUNT = "1/0154247305.31160"
START_TIME = 2008-03-22T06:24:16.502Z
STOP_TIME = 2008-03-22T06:27:34.870Z
/* ORBITAL DATA ELEMENTS */
ASCENDING_NODE_LONGITUDE = 115.48
MAXIMUM_RESOLUTION = 0.0288
FOOTPRINT_POINT_LATITUDE = (66.1886,66.1248,66.0701,66.0204, 66.0184,65.929,65.6485,65.227,64.8045, 64.5224,64.2398,63.9568,63.6734,63.3895 ,62.9832,62.5058,62.0267,61.5469, 60.9456,60.7048,60.343,60.1015,59.8599, 59.6179,59.2547,59.0122,58.7696,58.5268 ,58.2838,58.0406,57.7971,57.5533, 57.3095,57.0655,56.8213,56.5769,56.3324 ,56.0878,55.8429,55.4753,55.2303, 54.9853,54.7397,54.4938,54.248,54.0022, 53.756,53.5099,53.3868,53.3568,53.3924, 53.4131,53.447,53.4477,53.4484,53.6956, 53.9428,54.1898,54.4368,54.807,55.0541, 55.3003,55.5466,55.7929,56.0391,56.2851 ,56.6539,56.8996,57.1452,57.3906, 57.7583,58.0038,58.3706,58.6151,58.8595 ,59.1037,59.3476,59.5914,59.835,60.0784 ,60.3216,60.6863,60.9291,61.293,61.5359 ,61.8984,62.3817,62.6236,62.9848, 63.5096,63.7962,64.0824,64.511,64.7965, 65.0815,65.3661,65.6504,65.9342,66.076, 66.1886)
FOOTPRINT_POINT_LONGITUDE = (185.417,184.077,183.103,182.31,182.279 ,182.178,182.286,182.444,182.596, 182.694,182.789,182.883,182.974,183.063 ,183.186,183.325,183.458,183.586, 183.738,183.797,183.884,183.94,183.995, 184.049,184.128,184.179,184.229,184.279 ,184.327,184.374,184.421,184.466, 184.511,184.555,184.598,184.64,184.681, 184.722,184.761,184.819,184.857,184.895 ,184.931,184.967,185.001,185.036, 185.069,185.102,185.118,185.122,185.824 ,186.284,187.161,187.181,187.188, 187.168,187.147,187.126,187.105,187.072 ,187.05,187.028,187.005,186.982,186.958 ,186.934,186.897,186.872,186.847, 186.821,186.781,186.754,186.713,186.685 ,186.656,186.627,186.598,186.568, 186.537,186.506,186.474,186.425,186.392 ,186.341,186.306,186.253,186.179, 186.141,186.083,185.997,185.947,185.897 ,185.819,185.766,185.711,185.655, 185.598,185.539,185.509,185.417)
ORBIT_NUMBER = 5420
ORBITAL_ECCENTRICITY = 0.569
ORBITAL_INCLINATION = 86.75
ORBITAL_SEMIMAJOR_AXIS = 8660.95
PERIAPSIS_ALTITUDE = 348.02
PERIAPSIS_ARGUMENT_ANGLE = 124.8
PERIAPSIS_TIME = 2008-03-22T06:27:30.000Z
SPACECRAFT_ORIENTATION = (0.0,-1.0,0.0)
^MEX_ORIENTATION_DESC = "MEX_ORIENTATION_DESC.TXT"
SPACECRAFT_POINTING_MODE = ACROSSTRACK
^MEX_POINTING_DESC = "MEX_POINTING_DESC.TXT"
RIGHT_ASCENSION = -1e+32
DECLINATION = -1e+32
OFFSET_ANGLE = -0.2
SPACECRAFT_SOLAR_DISTANCE = 2.47244e+08
TARGET_NAME = MARS
/* CAMERA DATA ELEMENTS */
DETECTOR_TEMPERATURE = 16.3315
FOCAL_PLANE_TEMPERATURE = 8.1755
INST_CMPRS_NAME = "DISCRETE COSINE TRANSFORMATION (DCT)"
INST_CMPRS_RATIO = 18.0058
INST_CMPRS_QUALITY = 0
INST_CMPRS_QUANTZ_TBL_ID = 0
INSTRUMENT_TEMPERATURE = 11.234
LENS_TEMPERATURE = 8.7872
MACROPIXEL_SIZE = 2
MISSING_FRAMES = 0
PIXEL_SUBSAMPLING_FLAG = N
SIGNAL_CHAIN_ID = 3
/* RADIOMETRIC DATA ELEMENTS */
BANDWIDTH = 174.0
CENTER_FILTER_WAVELENGTH = 675.0
RADIANCE_OFFSET = 2.91008
RADIANCE_SCALING_FACTOR = 0.0114121
REFLECTANCE_SCALING_FACTOR = 0.000375233
MEX:REFLECTANCE_OFFSET = 0.0956844
/* IMAGE OBJECT DEFINITIONS */
OBJECT = IMAGE
  INTERCHANGE_FORMAT = BINARY
  LINES = 30226
  LINE_SAMPLES = 5797
  SAMPLE_TYPE = UNSIGNED_INTEGER
  SAMPLE_BITS = 8
  BANDS = 1
  BAND_STORAGE_TYPE = BAND_SEQUENTIAL
  MAXIMUM = 255
  MEAN = 127.802
  MINIMUM = 1
  STANDARD_DEVIATION = 33.7728
END_OBJECT = IMAGE
/* MAP OBJECT DEFINITIONS */
OBJECT = IMAGE_MAP_PROJECTION
  ^DATA_SET_MAP_PROJECTION_CATALOG= "DSMAP.CAT"
  A_AXIS_RADIUS = 3396.0
  B_AXIS_RADIUS = 3396.0
  C_AXIS_RADIUS = 3396.0
  CENTER_LATITUDE = 0.0
  CENTER_LONGITUDE = 185.0
  COORDINATE_SYSTEM_NAME = PLANETOGRAPHIC
  COORDINATE_SYSTEM_TYPE = "BODY-FIXED ROTATING"
  EASTERNMOST_LONGITUDE = 187.188
  FIRST_STANDARD_PARALLEL = "N/A"
  LINE_FIRST_PIXEL = 1
  LINE_LAST_PIXEL = 30226
  LINE_PROJECTION_OFFSET = 156763.25
  MAP_PROJECTION_ROTATION = 0.0
  MAP_PROJECTION_TYPE = SINUSOIDAL
  MAP_RESOLUTION = 2370.85521546667
  MAP_SCALE = 0.025
  MAXIMUM_LATITUDE = 66.18859999999999
  MINIMUM_LATITUDE = 53.3568
  POSITIVE_LONGITUDE_DIRECTION = EAST
  REFERENCE_LATITUDE = "N/A"
  REFERENCE_LONGITUDE = "N/A"
  SAMPLE_FIRST_PIXEL = 1
  SAMPLE_LAST_PIXEL = 5797
  SAMPLE_PROJECTION_OFFSET = 2710.25
  SECOND_STANDARD_PARALLEL = "N/A"
  WESTERNMOST_LONGITUDE = 182.178
END_OBJECT = IMAGE_MAP_PROJECTION
END
