PDS_VERSION_ID = PDS3
/* FILE DATA ELEMENTS */
RECORD_TYPE = UNDEFINED
/* POINTERS TO DATA OBJECTS */
^IMAGE = ("H5425_0009_GR4.TIF")
/* IDENTIFICATION DATA ELEMENTS */
DATA_SET_ID = "MEX-M-HRSC-4-REFDR-MAPPROJECT-EXT2-V4.0"
DATA_SET_NAME = "MARS EXPRESS HRSC MAP PROJECTED REFDR EXTENSION2 V4.0"
DETECTOR_ID = MEX_HRSC_GREEN
EVENT_TYPE = "MARS-REGIONAL-MAPPING-Te-Im-Pf"
INSTRUMENT_HOST_ID = MEX
INSTRUMENT_HOST_NAME = "MARS EXPRESS"
INSTRUMENT_ID = HRSC
INSTRUMENT_NAME = "HIGH RESOLUTION STEREO CAMERA"
MISSION_NAME = "MARS EXPRESS"
MISSION_PHASE_NAME = ME_Phase_11
PROCESSING_LEVEL_ID = 4
PRODUCT_CREATION_TIME = 2023-02-02T05:41:08.000Z
PRODUCT_ID = "H5425_0009_GR4.TIF"
RELEASE_ID = 0002
REVISION_ID = 0000
/* QUALITY DATA ELEMENTS */
DATA_QUALITY_ID = 1
DATA_QUALITY_DESC = "Data calculated based on original SPICE kernels"
/* TIME DATA ELEMENTS */
SPACECRAFT_CLOCK_START_COUNT = "1/0154370220.08236"
SPACECRAFT_CLOCK_STOP_COUNT = "1/0154370470.32938"
START_TIME = 2008-03-23T16:37:32.651Z
STOP_TIME = 2008-03-23T16:40:35.071Z
/* ORBITAL DATA ELEMENTS */
ASCENDING_NODE_LONGITUDE = 115.38
MAXIMUM_RESOLUTION = 0.0561
FOOTPRINT_POINT_LATITUDE = (65.2078,65.1567,65.1128,65.0768, 65.0753,65.0513,64.5918,64.1315,63.6704 ,63.2086,62.7462,62.5148,62.2831, 62.0514,61.8195,61.5874,61.3553,61.1229 ,60.8905,60.6579,60.4252,60.1924, 59.9595,59.7264,59.4933,59.2601,59.0268 ,58.7933,58.5597,58.3261,57.9754, 57.6247,57.3907,57.1567,56.9226,56.6884 ,56.4543,56.22,55.8685,55.6341,55.2825, 54.9306,54.696,54.4614,54.1094,53.8747, 53.5228,53.4054,53.3284,53.3501,53.3668 ,53.3979,53.3983,53.3994,53.635,53.9884 ,54.2239,54.4595,54.695,54.9307,55.1661 ,55.4017,55.6371,55.9902,56.2256,56.461 ,56.6963,57.0492,57.2844,57.5196, 57.7547,57.9898,58.3422,58.5771,58.812, 59.0467,59.2815,59.5161,59.7506,59.9851 ,60.2195,60.4538,60.688,60.9221,61.273, 61.5069,61.7407,61.9744,62.2079,62.4413 ,62.6746,62.9078,63.1409,63.3739, 63.6067,64.0719,64.5366,65.0007,65.1166 ,65.2078)
FOOTPRINT_POINT_LONGITUDE = (45.7598,44.4814,43.5611,42.8851, 42.8581,42.7726,42.9232,43.0677,43.2061 ,43.3388,43.4662,43.528,43.5884,43.6477 ,43.7058,43.7626,43.8183,43.8729, 43.9265,43.9789,44.0304,44.0809,44.1303 ,44.1788,44.2264,44.2731,44.3188, 44.3635,44.4074,44.4503,44.5133,44.5744 ,44.6142,44.6532,44.6915,44.729,44.766, 44.8021,44.8548,44.8892,44.9396,44.9882 ,45.0199,45.051,45.0964,45.1261,45.1696 ,45.1839,45.1931,45.726,46.1839,47.2162 ,47.2353,47.2417,47.2239,47.1967, 47.1786,47.1599,47.141,47.121,47.1019, 47.0818,47.0618,47.0309,47.0099,46.9884 ,46.9667,46.9332,46.9105,46.8874, 46.8639,46.8399,46.8035,46.7786,46.7533 ,46.7275,46.7011,46.6745,46.6475, 46.6198,46.5915,46.5628,46.5334,46.5041 ,46.4586,46.4275,46.3958,46.3635, 46.3308,46.2974,46.2632,46.2286,46.1932 ,46.157,46.1203,46.0449,45.9665,45.8848 ,45.8639,45.7598)
ORBIT_NUMBER = 5425
ORBITAL_ECCENTRICITY = 0.569
ORBITAL_INCLINATION = 86.75
ORBITAL_SEMIMAJOR_AXIS = 8665.83
PERIAPSIS_ALTITUDE = 348.34
PERIAPSIS_ARGUMENT_ANGLE = 123.93
PERIAPSIS_TIME = 2008-03-23T16:40:00.000Z
SPACECRAFT_ORIENTATION = (0.0,-1.0,0.0)
^MEX_ORIENTATION_DESC = "MEX_ORIENTATION_DESC.TXT"
SPACECRAFT_POINTING_MODE = NADIR
^MEX_POINTING_DESC = "MEX_POINTING_DESC.TXT"
RIGHT_ASCENSION = -1e+32
DECLINATION = -1e+32
OFFSET_ANGLE = -1e+32
SPACECRAFT_SOLAR_DISTANCE = 2.4735e+08
TARGET_NAME = MARS
/* CAMERA DATA ELEMENTS */
DETECTOR_TEMPERATURE = 18.3705
FOCAL_PLANE_TEMPERATURE = 8.3794
INST_CMPRS_NAME = "DISCRETE COSINE TRANSFORMATION (DCT)"
INST_CMPRS_RATIO = 20.4862
INST_CMPRS_QUALITY = 0
INST_CMPRS_QUANTZ_TBL_ID = 0
INSTRUMENT_TEMPERATURE = 11.4379
LENS_TEMPERATURE = 8.7872
MACROPIXEL_SIZE = 4
MISSING_FRAMES = 0
PIXEL_SUBSAMPLING_FLAG = N
SIGNAL_CHAIN_ID = 2
/* RADIOMETRIC DATA ELEMENTS */
BANDWIDTH = 88.0
CENTER_FILTER_WAVELENGTH = 538.0
RADIANCE_OFFSET = 1.20699
RADIANCE_SCALING_FACTOR = 0.00334594
REFLECTANCE_SCALING_FACTOR = 0.00017625
MEX:REFLECTANCE_OFFSET = 0.063579
/* IMAGE OBJECT DEFINITIONS */
OBJECT = IMAGE
  INTERCHANGE_FORMAT = BINARY
  LINES = 14064
  LINE_SAMPLES = 2705
  SAMPLE_TYPE = UNSIGNED_INTEGER
  SAMPLE_BITS = 8
  BANDS = 1
  BAND_STORAGE_TYPE = BAND_SEQUENTIAL
  MAXIMUM = 255
  MEAN = 106.888
  MINIMUM = 1
  STANDARD_DEVIATION = 34.6669
END_OBJECT = IMAGE
/* MAP OBJECT DEFINITIONS */
OBJECT = IMAGE_MAP_PROJECTION
  ^DATA_SET_MAP_PROJECTION_CATALOG= "DSMAP.CAT"
  A_AXIS_RADIUS = 3396.0
  B_AXIS_RADIUS = 3396.0
  C_AXIS_RADIUS = 3396.0
  CENTER_LATITUDE = 0.0
  CENTER_LONGITUDE = 45.0
  COORDINATE_SYSTEM_NAME = PLANETOGRAPHIC
  COORDINATE_SYSTEM_TYPE = "BODY-FIXED ROTATING"
  EASTERNMOST_LONGITUDE = 47.2417
  FIRST_STANDARD_PARALLEL = "N/A"
  LINE_FIRST_PIXEL = 1
  LINE_LAST_PIXEL = 14064
  LINE_PROJECTION_OFFSET = 77286.875
  MAP_PROJECTION_ROTATION = 0.0
  MAP_PROJECTION_TYPE = SINUSOIDAL
  MAP_RESOLUTION = 1185.42760773333
  MAP_SCALE = 0.05
  MAXIMUM_LATITUDE = 65.20780000000001
  MINIMUM_LATITUDE = 53.3284
  POSITIVE_LONGITUDE_DIRECTION = EAST
  REFERENCE_LATITUDE = "N/A"
  REFERENCE_LONGITUDE = "N/A"
  SAMPLE_FIRST_PIXEL = 1
  SAMPLE_LAST_PIXEL = 2705
  SAMPLE_PROJECTION_OFFSET = 1117.625
  SECOND_STANDARD_PARALLEL = "N/A"
  WESTERNMOST_LONGITUDE = 42.7726
END_OBJECT = IMAGE_MAP_PROJECTION
END
