PDS_VERSION_ID = PDS3
/* FILE DATA ELEMENTS */
RECORD_TYPE = UNDEFINED
/* POINTERS TO DATA OBJECTS */
^IMAGE = ("H5425_0009_P24.TIF")
/* IDENTIFICATION DATA ELEMENTS */
DATA_SET_ID = "MEX-M-HRSC-4-REFDR-MAPPROJECT-EXT2-V4.0"
DATA_SET_NAME = "MARS EXPRESS HRSC MAP PROJECTED REFDR EXTENSION2 V4.0"
DETECTOR_ID = MEX_HRSC_P2
EVENT_TYPE = "MARS-REGIONAL-MAPPING-Te-Im-Pf"
INSTRUMENT_HOST_ID = MEX
INSTRUMENT_HOST_NAME = "MARS EXPRESS"
INSTRUMENT_ID = HRSC
INSTRUMENT_NAME = "HIGH RESOLUTION STEREO CAMERA"
MISSION_NAME = "MARS EXPRESS"
MISSION_PHASE_NAME = ME_Phase_11
PROCESSING_LEVEL_ID = 4
PRODUCT_CREATION_TIME = 2023-02-02T05:41:08.000Z
PRODUCT_ID = "H5425_0009_P24.TIF"
RELEASE_ID = 0002
REVISION_ID = 0000
/* QUALITY DATA ELEMENTS */
DATA_QUALITY_ID = 1
DATA_QUALITY_DESC = "Data calculated based on original SPICE kernels"
/* TIME DATA ELEMENTS */
SPACECRAFT_CLOCK_START_COUNT = "1/0154370220.08236"
SPACECRAFT_CLOCK_STOP_COUNT = "1/0154370470.32938"
START_TIME = 2008-03-23T16:38:00.273Z
STOP_TIME = 2008-03-23T16:41:01.112Z
/* ORBITAL DATA ELEMENTS */
ASCENDING_NODE_LONGITUDE = 115.38
MAXIMUM_RESOLUTION = 0.029
FOOTPRINT_POINT_LATITUDE = (65.1076,65.0752,65.0217,64.9809, 64.9794,65.0556,64.8217,64.5879,64.3538 ,64.1198,63.8856,63.6517,63.4176, 63.1835,62.8321,62.5978,62.2464,62.0121 ,61.7777,61.5435,61.3091,60.9577, 60.7233,60.489,60.2546,60.0203,59.7859, 59.4343,59.0829,58.7318,58.4977,58.1467 ,57.9126,57.5616,57.3278,57.094,56.7434 ,56.3925,56.159,55.8089,55.4588,55.1088 ,54.8759,54.5266,54.2939,53.9449, 53.4795,53.3632,53.3453,53.3648,53.3884 ,53.4139,53.4144,53.4151,53.7648, 54.1151,54.3489,54.5826,54.9327,55.2843 ,55.636,55.8704,56.2221,56.574,56.8087, 57.0434,57.3958,57.6308,57.8659,58.1007 ,58.3364,58.5717,58.8071,59.0425, 59.2779,59.5135,59.7491,59.9849,60.2204 ,60.4561,60.8098,61.0458,61.3995, 61.6353,61.8711,62.1071,62.3431,62.5789 ,62.815,63.0509,63.2867,63.5227,63.7589 ,63.9948,64.2308,64.5848,64.8207, 65.0567,65.1747,65.1076)
FOOTPRINT_POINT_LONGITUDE = (45.7616,44.9248,43.7298,42.9256, 42.8979,42.7779,42.8547,42.9296,43.0032 ,43.0749,43.1453,43.2138,43.2808, 43.3466,43.4426,43.505,43.596,43.6549, 43.713,43.7694,43.8249,43.9059,43.9585, 44.0101,44.0606,44.11,44.1586,44.2296, 44.2984,44.3648,44.4081,44.4712,44.5124 ,44.5726,44.6117,44.6499,44.7059, 44.7607,44.796,44.8476,44.8978,44.9466, 44.978,45.0241,45.054,45.0979,45.1547, 45.1686,45.1707,45.6735,46.3581,47.2254 ,47.2456,47.2529,47.2257,47.1981, 47.1793,47.1602,47.1304,47.1007,47.0701 ,47.0493,47.0172,46.9843,46.9619,46.939 ,46.9041,46.8803,46.8561,46.8312, 46.8065,46.7811,46.7551,46.7286,46.7017 ,46.6744,46.6466,46.6183,46.5892, 46.5598,46.5147,46.4839,46.4366,46.4042 ,46.3712,46.3376,46.3035,46.2685,46.233 ,46.1967,46.1596,46.1219,46.0836, 46.0443,46.0042,45.9426,45.9005,45.8575 ,45.8356,45.7616)
ORBIT_NUMBER = 5425
ORBITAL_ECCENTRICITY = 0.569
ORBITAL_INCLINATION = 86.75
ORBITAL_SEMIMAJOR_AXIS = 8665.83
PERIAPSIS_ALTITUDE = 348.34
PERIAPSIS_ARGUMENT_ANGLE = 123.93
PERIAPSIS_TIME = 2008-03-23T16:40:00.000Z
SPACECRAFT_ORIENTATION = (0.0,-1.0,0.0)
^MEX_ORIENTATION_DESC = "MEX_ORIENTATION_DESC.TXT"
SPACECRAFT_POINTING_MODE = NADIR
^MEX_POINTING_DESC = "MEX_POINTING_DESC.TXT"
RIGHT_ASCENSION = -1e+32
DECLINATION = -1e+32
OFFSET_ANGLE = -1e+32
SPACECRAFT_SOLAR_DISTANCE = 2.4735e+08
TARGET_NAME = MARS
/* CAMERA DATA ELEMENTS */
DETECTOR_TEMPERATURE = 18.9822
FOCAL_PLANE_TEMPERATURE = 8.3794
INST_CMPRS_NAME = "DISCRETE COSINE TRANSFORMATION (DCT)"
INST_CMPRS_RATIO = 9.70517
INST_CMPRS_QUALITY = 0
INST_CMPRS_QUANTZ_TBL_ID = 0
INSTRUMENT_TEMPERATURE = 11.4379
LENS_TEMPERATURE = 8.7872
MACROPIXEL_SIZE = 2
MISSING_FRAMES = 0
PIXEL_SUBSAMPLING_FLAG = N
SIGNAL_CHAIN_ID = 3
/* RADIOMETRIC DATA ELEMENTS */
BANDWIDTH = 177.0
CENTER_FILTER_WAVELENGTH = 676.5
RADIANCE_OFFSET = 3.63461
RADIANCE_SCALING_FACTOR = 0.0144761
REFLECTANCE_SCALING_FACTOR = 0.000469606
MEX:REFLECTANCE_OFFSET = 0.117907
/* IMAGE OBJECT DEFINITIONS */
OBJECT = IMAGE
  INTERCHANGE_FORMAT = BINARY
  LINES = 28128
  LINE_SAMPLES = 5409
  SAMPLE_TYPE = UNSIGNED_INTEGER
  SAMPLE_BITS = 8
  BANDS = 1
  BAND_STORAGE_TYPE = BAND_SEQUENTIAL
  MAXIMUM = 255
  MEAN = 87.4398
  MINIMUM = 1
  STANDARD_DEVIATION = 33.8321
END_OBJECT = IMAGE
/* MAP OBJECT DEFINITIONS */
OBJECT = IMAGE_MAP_PROJECTION
  ^DATA_SET_MAP_PROJECTION_CATALOG= "DSMAP.CAT"
  A_AXIS_RADIUS = 3396.0
  B_AXIS_RADIUS = 3396.0
  C_AXIS_RADIUS = 3396.0
  CENTER_LATITUDE = 0.0
  CENTER_LONGITUDE = 45.0
  COORDINATE_SYSTEM_NAME = PLANETOGRAPHIC
  COORDINATE_SYSTEM_TYPE = "BODY-FIXED ROTATING"
  EASTERNMOST_LONGITUDE = 47.2529
  FIRST_STANDARD_PARALLEL = "N/A"
  LINE_FIRST_PIXEL = 1
  LINE_LAST_PIXEL = 28128
  LINE_PROJECTION_OFFSET = 154574.25
  MAP_PROJECTION_ROTATION = 0.0
  MAP_PROJECTION_TYPE = SINUSOIDAL
  MAP_RESOLUTION = 2370.85521546667
  MAP_SCALE = 0.025
  MAXIMUM_LATITUDE = 65.1747
  MINIMUM_LATITUDE = 53.3453
  POSITIVE_LONGITUDE_DIRECTION = EAST
  REFERENCE_LATITUDE = "N/A"
  REFERENCE_LONGITUDE = "N/A"
  SAMPLE_FIRST_PIXEL = 1
  SAMPLE_LAST_PIXEL = 5409
  SAMPLE_PROJECTION_OFFSET = 2235.75
  SECOND_STANDARD_PARALLEL = "N/A"
  WESTERNMOST_LONGITUDE = 42.7779
END_OBJECT = IMAGE_MAP_PROJECTION
END
