PDS_VERSION_ID = PDS3
/* FILE DATA ELEMENTS */
RECORD_TYPE = UNDEFINED
/* POINTERS TO DATA OBJECTS */
^IMAGE = ("H5440_0000_GR4.TIF")
/* IDENTIFICATION DATA ELEMENTS */
DATA_SET_ID = "MEX-M-HRSC-4-REFDR-MAPPROJECT-EXT2-V4.0"
DATA_SET_NAME = "MARS EXPRESS HRSC MAP PROJECTED REFDR EXTENSION2 V4.0"
DETECTOR_ID = MEX_HRSC_GREEN
EVENT_TYPE = "MARS-REGIONAL-MAPPING-Te-Im-Pf"
INSTRUMENT_HOST_ID = MEX
INSTRUMENT_HOST_NAME = "MARS EXPRESS"
INSTRUMENT_ID = HRSC
INSTRUMENT_NAME = "HIGH RESOLUTION STEREO CAMERA"
MISSION_NAME = "MARS EXPRESS"
MISSION_PHASE_NAME = ME_Phase_11
PROCESSING_LEVEL_ID = 4
PRODUCT_CREATION_TIME = 2023-02-02T05:41:08.000Z
PRODUCT_ID = "H5440_0000_GR4.TIF"
RELEASE_ID = 0002
REVISION_ID = 0000
/* QUALITY DATA ELEMENTS */
DATA_QUALITY_ID = 1
DATA_QUALITY_DESC = "Data calculated based on original SPICE kernels"
/* TIME DATA ELEMENTS */
SPACECRAFT_CLOCK_START_COUNT = "1/0154739669.07306"
SPACECRAFT_CLOCK_STOP_COUNT = "1/0154739930.56634"
START_TIME = 2008-03-27T23:15:01.842Z
STOP_TIME = 2008-03-27T23:18:15.216Z
/* ORBITAL DATA ELEMENTS */
ASCENDING_NODE_LONGITUDE = 115.08
MAXIMUM_RESOLUTION = 0.0566
FOOTPRINT_POINT_LATITUDE = (68.1994,68.1381,68.0858,68.0431, 68.0413,68.0138,67.7271,67.3159,66.8338 ,66.3509,65.8671,65.3824,65.1398, 64.8971,64.6541,64.4109,64.1676,63.9242 ,63.6806,63.4367,63.1928,62.9487, 62.7045,62.4601,62.2156,61.971,61.7262, 61.3589,61.1139,60.8687,60.6235,60.3781 ,60.1327,59.8872,59.5187,59.273,58.8974 ,58.6515,58.4055,58.1595,57.9134, 57.5442,57.298,57.0517,56.6823,56.3127, 56.0663,55.8199,55.6967,55.6163,55.6547 ,55.6798,55.6956,55.6962,55.6972, 55.9447,56.3158,56.5633,56.9344,57.1819 ,57.4292,57.8002,58.0476,58.2949, 58.5422,58.7894,59.0366,59.4141,59.6612 ,59.9082,60.2786,60.5255,60.8957, 61.1424,61.389,61.7588,62.0052,62.2515, 62.4978,62.7439,62.99,63.2359,63.4818, 63.7275,63.9731,64.3413,64.5866,64.8318 ,65.0768,65.3218,65.5666,65.8112, 66.0557,66.3,66.5443,67.0322,67.5194, 67.9436,68.0887,68.1994)
FOOTPRINT_POINT_LONGITUDE = (344.161,342.712,341.671,340.907, 340.876,340.773,340.898,341.071,341.265 ,341.45,341.627,341.795,341.876,341.956 ,342.034,342.11,342.184,342.257,342.328 ,342.397,342.465,342.531,342.597,342.66 ,342.723,342.783,342.843,342.93,342.986 ,343.042,343.096,343.149,343.2,343.251, 343.325,343.373,343.445,343.49,343.535, 343.579,343.622,343.684,343.725,343.764 ,343.823,343.879,343.915,343.951, 343.968,343.98,344.896,345.61,346.142, 346.162,346.169,346.146,346.112,346.088 ,346.052,346.028,346.003,345.965, 345.939,345.912,345.885,345.858,345.83, 345.786,345.756,345.727,345.681,345.649 ,345.601,345.568,345.535,345.484, 345.449,345.413,345.376,345.339,345.301 ,345.262,345.222,345.182,345.141, 345.077,345.034,344.99,344.945,344.898, 344.851,344.803,344.754,344.703,344.652 ,344.545,344.434,344.333,344.297, 344.161)
ORBIT_NUMBER = 5440
ORBITAL_ECCENTRICITY = 0.569
ORBITAL_INCLINATION = 86.75
ORBITAL_SEMIMAJOR_AXIS = 8657.09
PERIAPSIS_ALTITUDE = 349.87
PERIAPSIS_ARGUMENT_ANGLE = 121.27
PERIAPSIS_TIME = 2008-03-27T23:17:35.000Z
SPACECRAFT_ORIENTATION = (0.0,-1.0,0.0)
^MEX_ORIENTATION_DESC = "MEX_ORIENTATION_DESC.TXT"
SPACECRAFT_POINTING_MODE = NADIR
^MEX_POINTING_DESC = "MEX_POINTING_DESC.TXT"
RIGHT_ASCENSION = -1e+32
DECLINATION = -1e+32
OFFSET_ANGLE = -1e+32
SPACECRAFT_SOLAR_DISTANCE = 2.47652e+08
TARGET_NAME = MARS
/* CAMERA DATA ELEMENTS */
DETECTOR_TEMPERATURE = 18.1666
FOCAL_PLANE_TEMPERATURE = 8.5833
INST_CMPRS_NAME = "DISCRETE COSINE TRANSFORMATION (DCT)"
INST_CMPRS_RATIO = 21.061
INST_CMPRS_QUALITY = 0
INST_CMPRS_QUANTZ_TBL_ID = 0
INSTRUMENT_TEMPERATURE = 11.234
LENS_TEMPERATURE = 8.9911
MACROPIXEL_SIZE = 4
MISSING_FRAMES = 1
PIXEL_SUBSAMPLING_FLAG = N
SIGNAL_CHAIN_ID = 2
/* RADIOMETRIC DATA ELEMENTS */
BANDWIDTH = 88.0
CENTER_FILTER_WAVELENGTH = 538.0
RADIANCE_OFFSET = 1.27281
RADIANCE_SCALING_FACTOR = 0.00868371
REFLECTANCE_SCALING_FACTOR = 0.000458542
MEX:REFLECTANCE_OFFSET = 0.0672107
/* IMAGE OBJECT DEFINITIONS */
OBJECT = IMAGE
  INTERCHANGE_FORMAT = BINARY
  LINES = 14901
  LINE_SAMPLES = 2888
  SAMPLE_TYPE = UNSIGNED_INTEGER
  SAMPLE_BITS = 8
  BANDS = 1
  BAND_STORAGE_TYPE = BAND_SEQUENTIAL
  MAXIMUM = 255
  MEAN = 41.7125
  MINIMUM = 1
  STANDARD_DEVIATION = 33.3482
END_OBJECT = IMAGE
/* MAP OBJECT DEFINITIONS */
OBJECT = IMAGE_MAP_PROJECTION
  ^DATA_SET_MAP_PROJECTION_CATALOG= "DSMAP.CAT"
  A_AXIS_RADIUS = 3396.0
  B_AXIS_RADIUS = 3396.0
  C_AXIS_RADIUS = 3396.0
  CENTER_LATITUDE = 0.0
  CENTER_LONGITUDE = 344.0
  COORDINATE_SYSTEM_NAME = PLANETOGRAPHIC
  COORDINATE_SYSTEM_TYPE = "BODY-FIXED ROTATING"
  EASTERNMOST_LONGITUDE = 346.169
  FIRST_STANDARD_PARALLEL = "N/A"
  LINE_FIRST_PIXEL = 1
  LINE_LAST_PIXEL = 14901
  LINE_PROJECTION_OFFSET = 80830.125
  MAP_PROJECTION_ROTATION = 0.0
  MAP_PROJECTION_TYPE = SINUSOIDAL
  MAP_RESOLUTION = 1185.42760773333
  MAP_SCALE = 0.05
  MAXIMUM_LATITUDE = 68.1994
  MINIMUM_LATITUDE = 55.6163
  POSITIVE_LONGITUDE_DIRECTION = EAST
  REFERENCE_LATITUDE = "N/A"
  REFERENCE_LONGITUDE = "N/A"
  SAMPLE_FIRST_PIXEL = 1
  SAMPLE_LAST_PIXEL = 2888
  SAMPLE_PROJECTION_OFFSET = 1437.625
  SECOND_STANDARD_PARALLEL = "N/A"
  WESTERNMOST_LONGITUDE = 340.773
END_OBJECT = IMAGE_MAP_PROJECTION
END
