PDS_VERSION_ID = PDS3
/* FILE DATA ELEMENTS */
RECORD_TYPE = UNDEFINED
/* POINTERS TO DATA OBJECTS */
^IMAGE = ("H5457_0000_RE4.TIF")
/* IDENTIFICATION DATA ELEMENTS */
DATA_SET_ID = "MEX-M-HRSC-4-REFDR-MAPPROJECT-EXT2-V4.0"
DATA_SET_NAME = "MARS EXPRESS HRSC MAP PROJECTED REFDR EXTENSION2 V4.0"
DETECTOR_ID = MEX_HRSC_RED
EVENT_TYPE = "MARS-REGIONAL-MAPPING-Te-Im-Pf"
INSTRUMENT_HOST_ID = MEX
INSTRUMENT_HOST_NAME = "MARS EXPRESS"
INSTRUMENT_ID = HRSC
INSTRUMENT_NAME = "HIGH RESOLUTION STEREO CAMERA"
MISSION_NAME = "MARS EXPRESS"
MISSION_PHASE_NAME = ME_Phase_11
PROCESSING_LEVEL_ID = 4
PRODUCT_CREATION_TIME = 2023-02-02T05:41:08.000Z
PRODUCT_ID = "H5457_0000_RE4.TIF"
RELEASE_ID = 0002
REVISION_ID = 0000
/* QUALITY DATA ELEMENTS */
DATA_QUALITY_ID = 1
DATA_QUALITY_DESC = "Data calculated based on original SPICE kernels"
/* TIME DATA ELEMENTS */
SPACECRAFT_CLOCK_START_COUNT = "1/0155158430.09089"
SPACECRAFT_CLOCK_STOP_COUNT = "1/0155158659.57334"
START_TIME = 2008-04-01T19:34:54.288Z
STOP_TIME = 2008-04-01T19:37:36.073Z
/* ORBITAL DATA ELEMENTS */
ASCENDING_NODE_LONGITUDE = 114.73
MAXIMUM_RESOLUTION = 0.0591
FOOTPRINT_POINT_LATITUDE = (68.3067,68.2719,68.21,68.1601,68.1584, 68.2546,68.046,67.8378,67.6295,67.3168, 67.1084,66.7957,66.483,66.2745,66.0659, 65.7533,65.5448,65.2322,65.0237,64.8155 ,64.607,64.3987,64.1904,63.8779,63.6697 ,63.4615,63.2534,63.0451,62.8373, 62.6292,62.4212,62.2131,62.0056,61.7978 ,61.5901,61.2789,60.9678,60.7606, 60.5532,60.3461,60.139,59.932,59.6217, 59.415,59.1049,58.7949,58.3824,57.9704, 57.8674,57.8421,57.8773,57.9026,57.9265 ,57.9271,57.9282,58.2383,58.4455, 58.6527,58.9637,59.275,59.4825,59.6903, 59.8983,60.1063,60.3143,60.5224,60.7308 ,60.9394,61.2524,61.5656,61.7743, 61.9833,62.1922,62.4014,62.6106,62.82, 63.0294,63.3437,63.6579,63.8677,64.1823 ,64.3922,64.6026,64.9177,65.2322, 65.5476,65.7578,65.968,66.2834,66.4936, 66.8091,67.0195,67.2304,67.4408,67.6514 ,67.862,68.0727,68.2833,68.3885, 68.3067)
FOOTPRINT_POINT_LONGITUDE = (82.7503,81.8868,80.5488,79.5977, 79.5679,79.3996,79.4939,79.5853,79.6749 ,79.806,79.891,80.0151,80.1354,80.2135, 80.2902,80.4019,80.4745,80.5806,80.6496 ,80.7169,80.7832,80.8482,80.9117, 81.0048,81.0654,81.1247,81.1828,81.24, 81.2957,81.3507,81.4046,81.4576,81.5089 ,81.5598,81.6096,81.6823,81.753,81.7989 ,81.8442,81.8885,81.9321,81.9748, 82.0373,82.0781,82.1379,82.1963,82.2711 ,82.3431,82.3607,82.365,83.2234,83.9279 ,84.6979,84.7199,84.7271,84.6902, 84.6651,84.6396,84.6007,84.5608,84.5336 ,84.5061,84.4781,84.4496,84.4206, 84.3911,84.3613,84.3309,84.2844,84.2368 ,84.2042,84.1712,84.1376,84.1034, 84.0686,84.0333,83.9973,83.9421,83.8853 ,83.8467,83.7874,83.7469,83.706,83.6428 ,83.5775,83.5106,83.465,83.4184,83.3468 ,83.2979,83.2228,83.1714,83.1192, 83.0658,83.0113,82.9556,82.8989,82.8409 ,82.8114,82.7503)
ORBIT_NUMBER = 5457
ORBITAL_ECCENTRICITY = 0.569
ORBITAL_INCLINATION = 86.76
ORBITAL_SEMIMAJOR_AXIS = 8657.82
PERIAPSIS_ALTITUDE = 350.33
PERIAPSIS_ARGUMENT_ANGLE = 118.29
PERIAPSIS_TIME = 2008-04-01T19:36:12.000Z
SPACECRAFT_ORIENTATION = (0.0,-1.0,0.0)
^MEX_ORIENTATION_DESC = "MEX_ORIENTATION_DESC.TXT"
SPACECRAFT_POINTING_MODE = ACROSSTRACK
^MEX_POINTING_DESC = "MEX_POINTING_DESC.TXT"
RIGHT_ASCENSION = -1e+32
DECLINATION = -1e+32
OFFSET_ANGLE = -0.1
SPACECRAFT_SOLAR_DISTANCE = 2.47962e+08
TARGET_NAME = MARS
/* CAMERA DATA ELEMENTS */
DETECTOR_TEMPERATURE = 18.3705
FOCAL_PLANE_TEMPERATURE = 7.9716
INST_CMPRS_NAME = "DISCRETE COSINE TRANSFORMATION (DCT)"
INST_CMPRS_RATIO = 30.7711
INST_CMPRS_QUALITY = 0
INST_CMPRS_QUANTZ_TBL_ID = 0
INSTRUMENT_TEMPERATURE = 11.234
LENS_TEMPERATURE = 8.5833
MACROPIXEL_SIZE = 4
MISSING_FRAMES = 0
PIXEL_SUBSAMPLING_FLAG = N
SIGNAL_CHAIN_ID = 2
/* RADIOMETRIC DATA ELEMENTS */
BANDWIDTH = 48.0
CENTER_FILTER_WAVELENGTH = 748.0
RADIANCE_OFFSET = 0.832024
RADIANCE_SCALING_FACTOR = 0.00705684
REFLECTANCE_SCALING_FACTOR = 0.000990169
MEX:REFLECTANCE_OFFSET = 0.116744
/* IMAGE OBJECT DEFINITIONS */
OBJECT = IMAGE
  INTERCHANGE_FORMAT = BINARY
  LINES = 12544
  LINE_SAMPLES = 2666
  SAMPLE_TYPE = UNSIGNED_INTEGER
  SAMPLE_BITS = 8
  BANDS = 1
  BAND_STORAGE_TYPE = BAND_SEQUENTIAL
  MAXIMUM = 255
  MEAN = 71.0716
  MINIMUM = 1
  STANDARD_DEVIATION = 40.2643
END_OBJECT = IMAGE
/* MAP OBJECT DEFINITIONS */
OBJECT = IMAGE_MAP_PROJECTION
  ^DATA_SET_MAP_PROJECTION_CATALOG= "DSMAP.CAT"
  A_AXIS_RADIUS = 3396.0
  B_AXIS_RADIUS = 3396.0
  C_AXIS_RADIUS = 3396.0
  CENTER_LATITUDE = 0.0
  CENTER_LONGITUDE = 83.0
  COORDINATE_SYSTEM_NAME = PLANETOGRAPHIC
  COORDINATE_SYSTEM_TYPE = "BODY-FIXED ROTATING"
  EASTERNMOST_LONGITUDE = 84.72709999999999
  FIRST_STANDARD_PARALLEL = "N/A"
  LINE_FIRST_PIXEL = 1
  LINE_LAST_PIXEL = 12544
  LINE_PROJECTION_OFFSET = 81096.625
  MAP_PROJECTION_ROTATION = 0.0
  MAP_PROJECTION_TYPE = SINUSOIDAL
  MAP_RESOLUTION = 1185.42760773333
  MAP_SCALE = 0.05
  MAXIMUM_LATITUDE = 68.38849999999999
  MINIMUM_LATITUDE = 57.8421
  POSITIVE_LONGITUDE_DIRECTION = EAST
  REFERENCE_LATITUDE = "N/A"
  REFERENCE_LONGITUDE = "N/A"
  SAMPLE_FIRST_PIXEL = 1
  SAMPLE_LAST_PIXEL = 2666
  SAMPLE_PROJECTION_OFFSET = 1589.375
  SECOND_STANDARD_PARALLEL = "N/A"
  WESTERNMOST_LONGITUDE = 79.39960000000001
END_OBJECT = IMAGE_MAP_PROJECTION
END
