PDS_VERSION_ID = PDS3
/* FILE DATA ELEMENTS */
RECORD_TYPE = UNDEFINED
/* POINTERS TO DATA OBJECTS */
^IMAGE = ("H5477_0000_IR4.TIF")
/* IDENTIFICATION DATA ELEMENTS */
DATA_SET_ID = "MEX-M-HRSC-4-REFDR-MAPPROJECT-EXT2-V4.0"
DATA_SET_NAME = "MARS EXPRESS HRSC MAP PROJECTED REFDR EXTENSION2 V4.0"
DETECTOR_ID = MEX_HRSC_IR
EVENT_TYPE = "MARS-REGIONAL-COLOR-Vo-Eo-Ts"
INSTRUMENT_HOST_ID = MEX
INSTRUMENT_HOST_NAME = "MARS EXPRESS"
INSTRUMENT_ID = HRSC
INSTRUMENT_NAME = "HIGH RESOLUTION STEREO CAMERA"
MISSION_NAME = "MARS EXPRESS"
MISSION_PHASE_NAME = ME_Phase_12
PROCESSING_LEVEL_ID = 4
PRODUCT_CREATION_TIME = 2023-02-02T05:41:08.000Z
PRODUCT_ID = "H5477_0000_IR4.TIF"
RELEASE_ID = 0002
REVISION_ID = 0000
/* QUALITY DATA ELEMENTS */
DATA_QUALITY_ID = 1
DATA_QUALITY_DESC = "Data calculated based on original SPICE kernels"
/* TIME DATA ELEMENTS */
SPACECRAFT_CLOCK_START_COUNT = "1/0155650846.09093"
SPACECRAFT_CLOCK_STOP_COUNT = "1/0155651086.07695"
START_TIME = 2008-04-07T12:20:57.490Z
STOP_TIME = 2008-04-07T12:23:46.758Z
/* ORBITAL DATA ELEMENTS */
ASCENDING_NODE_LONGITUDE = 114.34
MAXIMUM_RESOLUTION = 0.0629
FOOTPRINT_POINT_LATITUDE = (83.0549,82.9173,82.8182,82.7133, 82.6029,82.4871,82.3505,82.3427,82.2084 ,81.9358,81.755,81.5725,81.3882,81.2023 ,81.0151,80.8308,80.6452,80.4583, 80.2701,80.0807,79.8914,79.7045,79.5165 ,79.3276,79.1378,78.9473,78.6613,78.286 ,77.8133,77.4302,77.1447,76.9499, 76.5647,76.3696,75.9781,75.6862,75.3912 ,75.0944,74.8963,74.698,74.4992,74.3006 ,74.101,73.9001,73.6998,73.399,73.0959, 72.8931,72.6909,72.5898,72.5879,72.6543 ,72.7005,72.7914,72.8526,72.8546, 72.8562,73.0626,73.2695,73.4755,73.6813 ,73.8866,74.1945,74.502,74.7069,74.9113 ,75.1149,75.3184,75.5211,75.7241,75.927 ,76.2303,76.4323,76.634,76.8353,77.2368 ,77.5373,77.8375,78.2347,78.7301, 79.1241,79.4256,79.6267,79.9274,80.227, 80.4259,80.628,80.831,81.0333,81.2349, 81.4358,81.636,81.8406,82.0447,82.2476, 82.4492,82.6501,82.8533,82.9553, 83.0549)
FOOTPRINT_POINT_LONGITUDE = (226.325,223.874,222.29,220.747,219.247 ,217.79,216.198,216.112,216.22,217.504, 218.298,219.058,219.787,220.485,221.153 ,221.779,222.381,222.96,223.517,224.052 ,224.564,225.048,225.515,225.966,226.4, 226.82,227.421,228.16,229.02,229.66, 230.117,230.408,230.969,231.236,231.747 ,232.115,232.465,232.801,233.018, 233.229,233.435,233.635,233.83,234.02, 234.205,234.474,234.733,234.9,235.063, 235.143,235.145,236.075,236.766,238.276 ,239.463,239.504,239.517,239.415,239.31 ,239.203,239.093,238.981,238.806, 238.624,238.499,238.37,238.239,238.104, 237.965,237.822,237.675,237.447,237.288 ,237.125,236.957,236.606,236.328, 236.034,235.624,235.069,234.591,234.198 ,233.923,233.491,233.033,232.712, 232.372,232.014,231.64,231.249,230.841, 230.413,229.951,229.466,228.957,228.423 ,227.859,227.254,226.936,226.325)
ORBIT_NUMBER = 5477
ORBITAL_ECCENTRICITY = 0.569
ORBITAL_INCLINATION = 86.75
ORBITAL_SEMIMAJOR_AXIS = 8649.14
PERIAPSIS_ALTITUDE = 352.14
PERIAPSIS_ARGUMENT_ANGLE = 114.77
PERIAPSIS_TIME = 2008-04-07T12:26:15.000Z
SPACECRAFT_ORIENTATION = (0.0,-1.0,0.0)
^MEX_ORIENTATION_DESC = "MEX_ORIENTATION_DESC.TXT"
SPACECRAFT_POINTING_MODE = ACROSSTRACK
^MEX_POINTING_DESC = "MEX_POINTING_DESC.TXT"
RIGHT_ASCENSION = -1e+32
DECLINATION = -1e+32
OFFSET_ANGLE = -0.23
SPACECRAFT_SOLAR_DISTANCE = 2.48285e+08
TARGET_NAME = MARS
/* CAMERA DATA ELEMENTS */
DETECTOR_TEMPERATURE = 16.9432
FOCAL_PLANE_TEMPERATURE = 7.7677
INST_CMPRS_NAME = "DISCRETE COSINE TRANSFORMATION (DCT)"
INST_CMPRS_RATIO = 5.92931
INST_CMPRS_QUALITY = 0
INST_CMPRS_QUANTZ_TBL_ID = 0
INSTRUMENT_TEMPERATURE = 10.8262
LENS_TEMPERATURE = 8.1755
MACROPIXEL_SIZE = 4
MISSING_FRAMES = 0
PIXEL_SUBSAMPLING_FLAG = N
SIGNAL_CHAIN_ID = 2
/* RADIOMETRIC DATA ELEMENTS */
BANDWIDTH = 81.0
CENTER_FILTER_WAVELENGTH = 955.5
RADIANCE_OFFSET = 1.20695
RADIANCE_SCALING_FACTOR = 0.00694191
REFLECTANCE_SCALING_FACTOR = 0.000923224
MEX:REFLECTANCE_OFFSET = 0.160515
/* IMAGE OBJECT DEFINITIONS */
OBJECT = IMAGE
  INTERCHANGE_FORMAT = BINARY
  LINES = 12253
  LINE_SAMPLES = 4937
  SAMPLE_TYPE = UNSIGNED_INTEGER
  SAMPLE_BITS = 8
  BANDS = 1
  BAND_STORAGE_TYPE = BAND_SEQUENTIAL
  MAXIMUM = 255
  MEAN = 148.278
  MINIMUM = 1
  STANDARD_DEVIATION = 34.6526
END_OBJECT = IMAGE
/* MAP OBJECT DEFINITIONS */
OBJECT = IMAGE_MAP_PROJECTION
  ^DATA_SET_MAP_PROJECTION_CATALOG= "DSMAP.CAT"
  A_AXIS_RADIUS = 3396.0
  B_AXIS_RADIUS = 3396.0
  C_AXIS_RADIUS = 3396.0
  CENTER_LATITUDE = 0.0
  CENTER_LONGITUDE = 233.0
  COORDINATE_SYSTEM_NAME = PLANETOGRAPHIC
  COORDINATE_SYSTEM_TYPE = "BODY-FIXED ROTATING"
  EASTERNMOST_LONGITUDE = 239.517
  FIRST_STANDARD_PARALLEL = "N/A"
  LINE_FIRST_PIXEL = 1
  LINE_LAST_PIXEL = 12253
  LINE_PROJECTION_OFFSET = 98330.125
  MAP_PROJECTION_ROTATION = 0.0
  MAP_PROJECTION_TYPE = SINUSOIDAL
  MAP_RESOLUTION = 1185.42760773333
  MAP_SCALE = 0.05
  MAXIMUM_LATITUDE = 83.0549
  MINIMUM_LATITUDE = 72.5879
  POSITIVE_LONGITUDE_DIRECTION = EAST
  REFERENCE_LATITUDE = "N/A"
  REFERENCE_LONGITUDE = "N/A"
  SAMPLE_FIRST_PIXEL = 1
  SAMPLE_LAST_PIXEL = 4937
  SAMPLE_PROJECTION_OFFSET = 2678.875
  SECOND_STANDARD_PARALLEL = "N/A"
  WESTERNMOST_LONGITUDE = 216.112
END_OBJECT = IMAGE_MAP_PROJECTION
END
