PDS_VERSION_ID = PDS3
/* FILE DATA ELEMENTS */
RECORD_TYPE = UNDEFINED
/* POINTERS TO DATA OBJECTS */
^IMAGE = ("H5477_0000_ND4.TIF")
/* IDENTIFICATION DATA ELEMENTS */
DATA_SET_ID = "MEX-M-HRSC-4-REFDR-MAPPROJECT-EXT2-V4.0"
DATA_SET_NAME = "MARS EXPRESS HRSC MAP PROJECTED REFDR EXTENSION2 V4.0"
DETECTOR_ID = MEX_HRSC_NADIR
EVENT_TYPE = "MARS-REGIONAL-COLOR-Vo-Eo-Ts"
INSTRUMENT_HOST_ID = MEX
INSTRUMENT_HOST_NAME = "MARS EXPRESS"
INSTRUMENT_ID = HRSC
INSTRUMENT_NAME = "HIGH RESOLUTION STEREO CAMERA"
MISSION_NAME = "MARS EXPRESS"
MISSION_PHASE_NAME = ME_Phase_12
PROCESSING_LEVEL_ID = 4
PRODUCT_CREATION_TIME = 2023-02-02T05:41:08.000Z
PRODUCT_ID = "H5477_0000_ND4.TIF"
RELEASE_ID = 0002
REVISION_ID = 0000
/* QUALITY DATA ELEMENTS */
DATA_QUALITY_ID = 1
DATA_QUALITY_DESC = "Data calculated based on original SPICE kernels"
/* TIME DATA ELEMENTS */
SPACECRAFT_CLOCK_START_COUNT = "1/0155650846.09093"
SPACECRAFT_CLOCK_STOP_COUNT = "1/0155651086.07695"
START_TIME = 2008-04-07T12:21:31.992Z
STOP_TIME = 2008-04-07T12:24:14.993Z
/* ORBITAL DATA ELEMENTS */
ASCENDING_NODE_LONGITUDE = 114.34
MAXIMUM_RESOLUTION = 0.0148
FOOTPRINT_POINT_LATITUDE = (82.9361,82.8126,82.7159,82.4847, 82.2886,82.2811,82.2482,82.0667,81.8831 ,81.6998,81.5175,81.3337,81.1484, 80.9618,80.7738,80.4915,80.1186,79.7417 ,79.3612,78.9774,78.5907,78.3963, 78.2012,78.0054,77.8093,77.6122,77.4149 ,77.2172,77.0186,76.8194,76.6202, 76.4202,76.2197,76.0189,75.8178,75.6163 ,75.4143,75.212,75.0091,74.806,74.6026, 74.3989,74.1949,73.9905,73.7858,73.4858 ,73.1415,72.71,72.6236,72.6133,72.7003, 72.7544,72.8531,72.855,72.8561,73.3841, 73.7355,74.0401,74.2494,74.4585,74.6674 ,74.8761,75.0847,75.2931,75.5014, 75.7093,75.9171,76.1247,76.332,76.5391, 76.746,76.9526,77.159,77.3651,77.5709, 77.7764,77.9818,78.1868,78.3914,78.5957 ,78.7998,79.0034,79.2067,79.4096, 79.6122,79.8143,80.2172,80.6184,81.0174 ,81.219,81.4225,81.6253,81.8274,82.0287 ,82.2293,82.4291,82.6332,82.8363, 82.9374,82.9361)
FOOTPRINT_POINT_LONGITUDE = (226.403,224.148,222.553,219.202, 216.744,216.655,216.243,217.109,217.938 ,218.721,219.459,220.166,220.843, 221.492,222.115,222.997,224.073,225.069 ,225.993,226.853,227.654,228.034, 228.402,228.756,229.103,229.432,229.755 ,230.071,230.372,230.661,230.949, 231.223,231.488,231.747,232.0,232.246, 232.483,232.714,232.937,233.154,233.366 ,233.572,233.774,233.968,234.157, 234.426,234.721,235.071,235.139,235.148 ,236.504,237.438,239.397,239.44,239.461 ,239.189,238.999,238.826,238.704, 238.578,238.448,238.314,238.178,238.037 ,237.893,237.744,237.59,237.432,237.269 ,237.101,236.927,236.748,236.563, 236.372,236.175,235.97,235.761,235.542, 235.315,235.081,234.839,234.587,234.326 ,234.054,233.772,233.479,232.857, 232.181,231.446,231.048,230.626,230.183 ,229.718,229.229,228.716,228.177, 227.593,226.975,226.653,226.403)
ORBIT_NUMBER = 5477
ORBITAL_ECCENTRICITY = 0.569
ORBITAL_INCLINATION = 86.75
ORBITAL_SEMIMAJOR_AXIS = 8649.14
PERIAPSIS_ALTITUDE = 352.14
PERIAPSIS_ARGUMENT_ANGLE = 114.77
PERIAPSIS_TIME = 2008-04-07T12:26:15.000Z
SPACECRAFT_ORIENTATION = (0.0,-1.0,0.0)
^MEX_ORIENTATION_DESC = "MEX_ORIENTATION_DESC.TXT"
SPACECRAFT_POINTING_MODE = ACROSSTRACK
^MEX_POINTING_DESC = "MEX_POINTING_DESC.TXT"
RIGHT_ASCENSION = -1e+32
DECLINATION = -1e+32
OFFSET_ANGLE = -0.23
SPACECRAFT_SOLAR_DISTANCE = 2.48285e+08
TARGET_NAME = MARS
/* CAMERA DATA ELEMENTS */
DETECTOR_TEMPERATURE = 18.9822
FOCAL_PLANE_TEMPERATURE = 7.7677
INST_CMPRS_NAME = "DISCRETE COSINE TRANSFORMATION (DCT)"
INST_CMPRS_RATIO = 5.38388
INST_CMPRS_QUALITY = 0
INST_CMPRS_QUANTZ_TBL_ID = 0
INSTRUMENT_TEMPERATURE = 10.8262
LENS_TEMPERATURE = 8.1755
MACROPIXEL_SIZE = 1
MISSING_FRAMES = 0
PIXEL_SUBSAMPLING_FLAG = N
SIGNAL_CHAIN_ID = 0
/* RADIOMETRIC DATA ELEMENTS */
BANDWIDTH = 177.0
CENTER_FILTER_WAVELENGTH = 677.5
RADIANCE_OFFSET = 4.29421
RADIANCE_SCALING_FACTOR = 0.0287551
REFLECTANCE_SCALING_FACTOR = 0.000941668
MEX:REFLECTANCE_OFFSET = 0.140626
/* IMAGE OBJECT DEFINITIONS */
OBJECT = IMAGE
  INTERCHANGE_FORMAT = BINARY
  LINES = 49011
  LINE_SAMPLES = 19748
  SAMPLE_TYPE = UNSIGNED_INTEGER
  SAMPLE_BITS = 8
  BANDS = 1
  BAND_STORAGE_TYPE = BAND_SEQUENTIAL
  MAXIMUM = 255
  MEAN = 152.798
  MINIMUM = 1
  STANDARD_DEVIATION = 34.5175
END_OBJECT = IMAGE
/* MAP OBJECT DEFINITIONS */
OBJECT = IMAGE_MAP_PROJECTION
  ^DATA_SET_MAP_PROJECTION_CATALOG= "DSMAP.CAT"
  A_AXIS_RADIUS = 3396.0
  B_AXIS_RADIUS = 3396.0
  C_AXIS_RADIUS = 3396.0
  CENTER_LATITUDE = 0.0
  CENTER_LONGITUDE = 233.0
  COORDINATE_SYSTEM_NAME = PLANETOGRAPHIC
  COORDINATE_SYSTEM_TYPE = "BODY-FIXED ROTATING"
  EASTERNMOST_LONGITUDE = 239.461
  FIRST_STANDARD_PARALLEL = "N/A"
  LINE_FIRST_PIXEL = 1
  LINE_LAST_PIXEL = 49011
  LINE_PROJECTION_OFFSET = 393322.0
  MAP_PROJECTION_ROTATION = 0.0
  MAP_PROJECTION_TYPE = SINUSOIDAL
  MAP_RESOLUTION = 4741.71043093333
  MAP_SCALE = 0.0125
  MAXIMUM_LATITUDE = 82.9374
  MINIMUM_LATITUDE = 72.6133
  POSITIVE_LONGITUDE_DIRECTION = EAST
  REFERENCE_LATITUDE = "N/A"
  REFERENCE_LONGITUDE = "N/A"
  SAMPLE_FIRST_PIXEL = 1
  SAMPLE_LAST_PIXEL = 19748
  SAMPLE_PROJECTION_OFFSET = 10717.0
  SECOND_STANDARD_PARALLEL = "N/A"
  WESTERNMOST_LONGITUDE = 216.243
END_OBJECT = IMAGE_MAP_PROJECTION
END
