PDS_VERSION_ID = PDS3
/* FILE DATA ELEMENTS */
RECORD_TYPE = UNDEFINED
/* POINTERS TO DATA OBJECTS */
^IMAGE = ("H5477_0000_P14.TIF")
/* IDENTIFICATION DATA ELEMENTS */
DATA_SET_ID = "MEX-M-HRSC-4-REFDR-MAPPROJECT-EXT2-V4.0"
DATA_SET_NAME = "MARS EXPRESS HRSC MAP PROJECTED REFDR EXTENSION2 V4.0"
DETECTOR_ID = MEX_HRSC_P1
EVENT_TYPE = "MARS-REGIONAL-COLOR-Vo-Eo-Ts"
INSTRUMENT_HOST_ID = MEX
INSTRUMENT_HOST_NAME = "MARS EXPRESS"
INSTRUMENT_ID = HRSC
INSTRUMENT_NAME = "HIGH RESOLUTION STEREO CAMERA"
MISSION_NAME = "MARS EXPRESS"
MISSION_PHASE_NAME = ME_Phase_12
PROCESSING_LEVEL_ID = 4
PRODUCT_CREATION_TIME = 2023-02-02T05:41:08.000Z
PRODUCT_ID = "H5477_0000_P14.TIF"
RELEASE_ID = 0002
REVISION_ID = 0000
/* QUALITY DATA ELEMENTS */
DATA_QUALITY_ID = 1
DATA_QUALITY_DESC = "Data calculated based on original SPICE kernels"
/* TIME DATA ELEMENTS */
SPACECRAFT_CLOCK_START_COUNT = "1/0155650846.09093"
SPACECRAFT_CLOCK_STOP_COUNT = "1/0155651086.07695"
START_TIME = 2008-04-07T12:21:05.041Z
STOP_TIME = 2008-04-07T12:23:52.642Z
/* ORBITAL DATA ELEMENTS */
ASCENDING_NODE_LONGITUDE = 114.34
MAXIMUM_RESOLUTION = 0.0308
FOOTPRINT_POINT_LATITUDE = (83.0232,82.8637,82.7541,82.645,82.53, 82.3312,82.3232,82.2102,82.0319,81.8517 ,81.6696,81.3936,81.212,81.0288,80.8443 ,80.6584,80.4713,80.2841,80.0994, 79.9135,79.7266,79.5387,79.3498,79.0658 ,78.6934,78.318,77.9396,77.6543,77.4632 ,77.1777,76.9842,76.7901,76.404,76.2086 ,75.9158,75.7213,75.4272,75.1314, 74.9337,74.7359,74.5377,74.3395,74.1406 ,73.9407,73.6406,73.3404,73.0379, 72.7355,72.6349,72.597,72.6645,72.7089, 72.7705,72.8102,72.8571,72.8591,72.8603 ,73.169,73.3747,73.5798,73.7847,73.9894 ,74.1939,74.3982,74.6026,74.8067, 75.0102,75.2131,75.517,75.7196,76.0232, 76.3256,76.5271,76.7283,76.929,77.1295, 77.3298,77.6298,77.8294,78.2264,78.4249 ,78.8201,79.2137,79.4105,79.7074, 79.9076,80.2073,80.4063,80.6049,80.8028 ,81.1041,81.3057,81.5065,81.8066, 82.0061,82.3092,82.5109,82.8117,82.9115 ,83.0232)
FOOTPRINT_POINT_LONGITUDE = (226.354,223.532,221.816,220.246, 218.722,216.334,216.244,216.237,217.088 ,217.902,218.68,219.785,220.467,221.122 ,221.751,222.354,222.935,223.489, 224.013,224.517,225.003,225.471,225.923 ,226.57,227.363,228.106,228.801,229.295 ,229.611,230.071,230.363,230.646, 231.192,231.452,231.828,232.073,232.424 ,232.761,232.978,233.189,233.395, 233.596,233.792,233.981,234.258,234.524 ,234.779,235.025,235.106,235.135, 236.102,236.776,237.79,238.51,239.444, 239.486,239.501,239.347,239.241,239.132 ,239.021,238.907,238.79,238.669,238.545 ,238.418,238.287,238.154,237.948, 237.804,237.581,237.349,237.188,237.022 ,236.851,236.675,236.493,236.209, 236.012,235.601,235.383,234.927,234.439 ,234.178,233.768,233.477,233.018, 232.697,232.362,232.013,231.45,231.051, 230.633,229.967,229.494,228.727,228.18, 227.302,226.993,226.354)
ORBIT_NUMBER = 5477
ORBITAL_ECCENTRICITY = 0.569
ORBITAL_INCLINATION = 86.75
ORBITAL_SEMIMAJOR_AXIS = 8649.14
PERIAPSIS_ALTITUDE = 352.14
PERIAPSIS_ARGUMENT_ANGLE = 114.77
PERIAPSIS_TIME = 2008-04-07T12:26:15.000Z
SPACECRAFT_ORIENTATION = (0.0,-1.0,0.0)
^MEX_ORIENTATION_DESC = "MEX_ORIENTATION_DESC.TXT"
SPACECRAFT_POINTING_MODE = ACROSSTRACK
^MEX_POINTING_DESC = "MEX_POINTING_DESC.TXT"
RIGHT_ASCENSION = -1e+32
DECLINATION = -1e+32
OFFSET_ANGLE = -0.23
SPACECRAFT_SOLAR_DISTANCE = 2.48285e+08
TARGET_NAME = MARS
/* CAMERA DATA ELEMENTS */
DETECTOR_TEMPERATURE = 16.9432
FOCAL_PLANE_TEMPERATURE = 7.7677
INST_CMPRS_NAME = "DISCRETE COSINE TRANSFORMATION (DCT)"
INST_CMPRS_RATIO = 5.26737
INST_CMPRS_QUALITY = 0
INST_CMPRS_QUANTZ_TBL_ID = 0
INSTRUMENT_TEMPERATURE = 10.8262
LENS_TEMPERATURE = 8.1755
MACROPIXEL_SIZE = 2
MISSING_FRAMES = 0
PIXEL_SUBSAMPLING_FLAG = N
SIGNAL_CHAIN_ID = 3
/* RADIOMETRIC DATA ELEMENTS */
BANDWIDTH = 174.0
CENTER_FILTER_WAVELENGTH = 675.0
RADIANCE_OFFSET = 4.71072
RADIANCE_SCALING_FACTOR = 0.0276221
REFLECTANCE_SCALING_FACTOR = 0.000915889
MEX:REFLECTANCE_OFFSET = 0.156197
/* IMAGE OBJECT DEFINITIONS */
OBJECT = IMAGE
  INTERCHANGE_FORMAT = BINARY
  LINES = 24506
  LINE_SAMPLES = 9874
  SAMPLE_TYPE = UNSIGNED_INTEGER
  SAMPLE_BITS = 8
  BANDS = 1
  BAND_STORAGE_TYPE = BAND_SEQUENTIAL
  MAXIMUM = 255
  MEAN = 153.356
  MINIMUM = 1
  STANDARD_DEVIATION = 34.0273
END_OBJECT = IMAGE
/* MAP OBJECT DEFINITIONS */
OBJECT = IMAGE_MAP_PROJECTION
  ^DATA_SET_MAP_PROJECTION_CATALOG= "DSMAP.CAT"
  A_AXIS_RADIUS = 3396.0
  B_AXIS_RADIUS = 3396.0
  C_AXIS_RADIUS = 3396.0
  CENTER_LATITUDE = 0.0
  CENTER_LONGITUDE = 233.0
  COORDINATE_SYSTEM_NAME = PLANETOGRAPHIC
  COORDINATE_SYSTEM_TYPE = "BODY-FIXED ROTATING"
  EASTERNMOST_LONGITUDE = 239.501
  FIRST_STANDARD_PARALLEL = "N/A"
  LINE_FIRST_PIXEL = 1
  LINE_LAST_PIXEL = 24506
  LINE_PROJECTION_OFFSET = 196660.75
  MAP_PROJECTION_ROTATION = 0.0
  MAP_PROJECTION_TYPE = SINUSOIDAL
  MAP_RESOLUTION = 2370.85521546667
  MAP_SCALE = 0.025
  MAXIMUM_LATITUDE = 83.0232
  MINIMUM_LATITUDE = 72.59699999999999
  POSITIVE_LONGITUDE_DIRECTION = EAST
  REFERENCE_LATITUDE = "N/A"
  REFERENCE_LONGITUDE = "N/A"
  SAMPLE_FIRST_PIXEL = 1
  SAMPLE_LAST_PIXEL = 9874
  SAMPLE_PROJECTION_OFFSET = 5358.25
  SECOND_STANDARD_PARALLEL = "N/A"
  WESTERNMOST_LONGITUDE = 216.237
END_OBJECT = IMAGE_MAP_PROJECTION
END
