PDS_VERSION_ID = PDS3
/* FILE DATA ELEMENTS */
RECORD_TYPE = UNDEFINED
/* POINTERS TO DATA OBJECTS */
^IMAGE = ("H5478_0000_RE4.TIF")
/* IDENTIFICATION DATA ELEMENTS */
DATA_SET_ID = "MEX-M-HRSC-4-REFDR-MAPPROJECT-EXT2-V4.0"
DATA_SET_NAME = "MARS EXPRESS HRSC MAP PROJECTED REFDR EXTENSION2 V4.0"
DETECTOR_ID = MEX_HRSC_RED
EVENT_TYPE = "MARS-REGIONAL-MAPPING-Gl-Eo-La"
INSTRUMENT_HOST_ID = MEX
INSTRUMENT_HOST_NAME = "MARS EXPRESS"
INSTRUMENT_ID = HRSC
INSTRUMENT_NAME = "HIGH RESOLUTION STEREO CAMERA"
MISSION_NAME = "MARS EXPRESS"
MISSION_PHASE_NAME = ME_Phase_12
PROCESSING_LEVEL_ID = 4
PRODUCT_CREATION_TIME = 2023-02-02T05:41:08.000Z
PRODUCT_ID = "H5478_0000_RE4.TIF"
RELEASE_ID = 0002
REVISION_ID = 0000
/* QUALITY DATA ELEMENTS */
DATA_QUALITY_ID = 1
DATA_QUALITY_DESC = "Data calculated based on original SPICE kernels"
/* TIME DATA ELEMENTS */
SPACECRAFT_CLOCK_START_COUNT = "1/0155675424.08237"
SPACECRAFT_CLOCK_STOP_COUNT = "1/0155675666.16894"
START_TIME = 2008-04-07T19:11:48.098Z
STOP_TIME = 2008-04-07T19:14:22.387Z
/* ORBITAL DATA ELEMENTS */
ASCENDING_NODE_LONGITUDE = 114.32
MAXIMUM_RESOLUTION = 0.0632
FOOTPRINT_POINT_LATITUDE = (85.8408,85.6105,85.4289,85.2682, 84.8488,84.8384,84.8773,84.677,84.4663, 84.3231,84.1013,83.9488,83.7141,83.5542 ,83.3945,83.235,83.0717,82.906,82.7381, 82.5684,82.3973,82.059,81.7155,81.2793, 80.9257,80.7475,80.5684,80.2982,80.1172 ,79.9353,79.753,79.5698,79.3862,79.2019 ,79.0169,78.7386,78.4593,78.2725, 78.0853,77.8038,77.5217,77.2386,77.0494 ,76.8599,76.6701,76.2897,76.1944, 76.1646,76.2155,76.2931,76.3509,76.4191 ,76.4563,76.4586,76.4604,76.7543, 76.9499,77.2433,77.4388,77.7318,77.9271 ,78.1217,78.414,78.6087,78.9003,79.0946 ,79.2885,79.482,79.6757,79.8689,80.0618 ,80.2546,80.447,80.735,80.9267,81.1179, 81.4041,81.6893,81.9736,82.1626,82.3509 ,82.6324,82.8192,83.0055,83.29,83.4793, 83.6668,83.8517,84.0382,84.2215,84.407, 84.5915,84.7768,84.9615,85.1397,85.3182 ,85.5848,85.846,85.9313,85.8408)
FOOTPRINT_POINT_LONGITUDE = (112.242,108.418,105.839,103.803, 99.3205,99.2222,97.9159,100.604,103.098 ,104.62,106.758,108.099,109.984,111.163 ,112.269,113.29,114.282,115.231,116.139 ,117.004,117.829,119.334,120.712,122.28 ,123.423,123.961,124.479,125.219, 125.689,126.143,126.578,127.0,127.405, 127.797,128.176,128.719,129.235,129.565 ,129.885,130.344,130.781,131.199, 131.467,131.727,131.979,132.461,132.577 ,132.613,133.413,134.729,135.801, 137.193,138.024,138.076,138.093,137.868 ,137.713,137.47,137.302,137.039,136.857 ,136.669,136.374,136.169,135.848, 135.624,135.392,135.151,134.902,134.642 ,134.372,134.092,133.8,133.339,133.015, 132.677,132.142,131.569,130.956,130.523 ,130.068,129.341,128.825,128.282, 127.389,126.748,126.069,125.349,124.583 ,123.77,122.896,121.946,120.926,119.829 ,118.659,117.393,115.285,112.875, 112.004,112.242)
ORBIT_NUMBER = 5478
ORBITAL_ECCENTRICITY = 0.568
ORBITAL_INCLINATION = 86.74
ORBITAL_SEMIMAJOR_AXIS = 8650.63
PERIAPSIS_ALTITUDE = 353.56
PERIAPSIS_ARGUMENT_ANGLE = 114.62
PERIAPSIS_TIME = 2008-04-07T19:16:48.000Z
SPACECRAFT_ORIENTATION = (0.0,-1.0,0.0)
^MEX_ORIENTATION_DESC = "MEX_ORIENTATION_DESC.TXT"
SPACECRAFT_POINTING_MODE = NADIR
^MEX_POINTING_DESC = "MEX_POINTING_DESC.TXT"
RIGHT_ASCENSION = -1e+32
DECLINATION = -1e+32
OFFSET_ANGLE = -1e+32
SPACECRAFT_SOLAR_DISTANCE = 2.483e+08
TARGET_NAME = MARS
/* CAMERA DATA ELEMENTS */
DETECTOR_TEMPERATURE = 18.1666
FOCAL_PLANE_TEMPERATURE = 7.3599
INST_CMPRS_NAME = "DISCRETE COSINE TRANSFORMATION (DCT)"
INST_CMPRS_RATIO = 7.27963
INST_CMPRS_QUALITY = 0
INST_CMPRS_QUANTZ_TBL_ID = 0
INSTRUMENT_TEMPERATURE = 10.8262
LENS_TEMPERATURE = 7.9716
MACROPIXEL_SIZE = 4
MISSING_FRAMES = 0
PIXEL_SUBSAMPLING_FLAG = N
SIGNAL_CHAIN_ID = 2
/* RADIOMETRIC DATA ELEMENTS */
BANDWIDTH = 48.0
CENTER_FILTER_WAVELENGTH = 748.0
RADIANCE_OFFSET = 1.33752
RADIANCE_SCALING_FACTOR = 0.00660018
REFLECTANCE_SCALING_FACTOR = 0.000928614
MEX:REFLECTANCE_OFFSET = 0.188183
/* IMAGE OBJECT DEFINITIONS */
OBJECT = IMAGE
  INTERCHANGE_FORMAT = BINARY
  LINES = 11647
  LINE_SAMPLES = 6041
  SAMPLE_TYPE = UNSIGNED_INTEGER
  SAMPLE_BITS = 8
  BANDS = 1
  BAND_STORAGE_TYPE = BAND_SEQUENTIAL
  MAXIMUM = 255
  MEAN = 144.021
  MINIMUM = 1
  STANDARD_DEVIATION = 53.053
END_OBJECT = IMAGE
/* MAP OBJECT DEFINITIONS */
OBJECT = IMAGE_MAP_PROJECTION
  ^DATA_SET_MAP_PROJECTION_CATALOG= "DSMAP.CAT"
  A_AXIS_RADIUS = 3396.0
  B_AXIS_RADIUS = 3396.0
  C_AXIS_RADIUS = 3396.0
  CENTER_LATITUDE = 0.0
  CENTER_LONGITUDE = 128.0
  COORDINATE_SYSTEM_NAME = PLANETOGRAPHIC
  COORDINATE_SYSTEM_TYPE = "BODY-FIXED ROTATING"
  EASTERNMOST_LONGITUDE = 138.093
  FIRST_STANDARD_PARALLEL = "N/A"
  LINE_FIRST_PIXEL = 1
  LINE_LAST_PIXEL = 11647
  LINE_PROJECTION_OFFSET = 101919.125
  MAP_PROJECTION_ROTATION = 0.0
  MAP_PROJECTION_TYPE = SINUSOIDAL
  MAP_RESOLUTION = 1185.42760773333
  MAP_SCALE = 0.05
  MAXIMUM_LATITUDE = 85.93129999999999
  MINIMUM_LATITUDE = 76.16459999999999
  POSITIVE_LONGITUDE_DIRECTION = EAST
  REFERENCE_LATITUDE = "N/A"
  REFERENCE_LONGITUDE = "N/A"
  SAMPLE_FIRST_PIXEL = 1
  SAMPLE_LAST_PIXEL = 6041
  SAMPLE_PROJECTION_OFFSET = 3225.625
  SECOND_STANDARD_PARALLEL = "N/A"
  WESTERNMOST_LONGITUDE = 97.91589999999999
END_OBJECT = IMAGE_MAP_PROJECTION
END
