PDS_VERSION_ID = PDS3
/* FILE DATA ELEMENTS */
RECORD_TYPE = UNDEFINED
/* POINTERS TO DATA OBJECTS */
^IMAGE = ("H5482_0000_RE4.TIF")
/* IDENTIFICATION DATA ELEMENTS */
DATA_SET_ID = "MEX-M-HRSC-4-REFDR-MAPPROJECT-EXT2-V4.0"
DATA_SET_NAME = "MARS EXPRESS HRSC MAP PROJECTED REFDR EXTENSION2 V4.0"
DETECTOR_ID = MEX_HRSC_RED
EVENT_TYPE = "MARS-REGIONAL-MAPPING-Gl-La"
INSTRUMENT_HOST_ID = MEX
INSTRUMENT_HOST_NAME = "MARS EXPRESS"
INSTRUMENT_ID = HRSC
INSTRUMENT_NAME = "HIGH RESOLUTION STEREO CAMERA"
MISSION_NAME = "MARS EXPRESS"
MISSION_PHASE_NAME = ME_Phase_12
PROCESSING_LEVEL_ID = 4
PRODUCT_CREATION_TIME = 2023-02-02T05:41:08.000Z
PRODUCT_ID = "H5482_0000_RE4.TIF"
RELEASE_ID = 0002
REVISION_ID = 0000
/* QUALITY DATA ELEMENTS */
DATA_QUALITY_ID = 1
DATA_QUALITY_DESC = "Data calculated based on original SPICE kernels"
/* TIME DATA ELEMENTS */
SPACECRAFT_CLOCK_START_COUNT = "1/0155773822.09057"
SPACECRAFT_CLOCK_STOP_COUNT = "1/0155774082.40855"
START_TIME = 2008-04-08T22:32:04.350Z
STOP_TIME = 2008-04-08T22:34:37.757Z
/* ORBITAL DATA ELEMENTS */
ASCENDING_NODE_LONGITUDE = 114.24
MAXIMUM_RESOLUTION = 0.0695
FOOTPRINT_POINT_LATITUDE = (85.5839,85.4911,85.4155,85.3273, 85.2276,85.1177,84.9985,84.9908,84.9012 ,85.1785,85.3598,85.5346,85.7044, 85.8734,86.0375,86.1927,86.4145,86.6214 ,86.7508,86.8681,86.9763,87.0739, 87.1984,87.2644,87.316,87.3664,87.3825, 87.3735,87.35,87.2881,87.2299,87.1594, 87.0767,86.985,86.8847,86.7759,86.6597, 86.5367,86.4073,86.2729,86.1364,85.9955 ,85.8506,85.7028,85.5512,85.397,85.2407 ,84.9286,84.4477,83.9548,83.8733,83.856 ,84.0233,84.1592,84.2342,84.2951, 84.3961,84.3998,84.4021,84.7632,85.1236 ,85.4855,85.847,86.2121,86.3913,86.5737 ,86.7556,86.9352,87.2007,87.4703, 87.6486,87.824,87.996,88.1639,88.3261, 88.4838,88.6324,88.8279,88.9322,89.0326 ,89.0527,89.0304,88.9684,88.8733,88.685 ,88.4548,88.2873,88.0227,87.8398,87.554 ,87.3589,87.0628,86.761,86.5557,86.2456 ,86.0384,85.8279,85.615,85.5081, 85.5839)
FOOTPRINT_POINT_LONGITUDE = (302.537,307.996,311.169,314.189, 317.049,319.751,322.303,322.457,321.501 ,323.468,324.919,326.45,328.08,329.899, 331.866,333.943,337.376,341.235,344.126 ,347.136,350.391,353.866,359.512,363.51 ,367.622,374.005,380.593,384.996, 389.246,395.421,399.356,403.109,406.675 ,409.976,413.05,415.925,418.602,421.094 ,423.412,425.556,427.51,429.329,431.023 ,432.6,434.072,435.445,436.723,438.993, 441.909,444.343,444.703,444.777,448.052 ,451.202,453.2,455.0,458.617,458.767, 458.815,458.166,457.368,456.466,455.418 ,454.15,453.372,452.55,451.638,450.607, 448.797,446.586,444.825,442.776,440.372 ,437.524,434.114,429.913,424.734, 414.652,406.057,390.303,378.325,366.316 ,355.319,345.875,334.693,326.415, 322.179,317.237,314.618,311.415,309.646 ,307.446,305.633,304.599,303.249, 302.477,301.758,301.114,300.81,302.537)
ORBIT_NUMBER = 5482
ORBITAL_ECCENTRICITY = 0.569
ORBITAL_INCLINATION = 86.75
ORBITAL_SEMIMAJOR_AXIS = 8651.68
PERIAPSIS_ALTITUDE = 352.49
PERIAPSIS_ARGUMENT_ANGLE = 113.9
PERIAPSIS_TIME = 2008-04-08T22:38:50.000Z
SPACECRAFT_ORIENTATION = (0.0,-1.0,0.0)
^MEX_ORIENTATION_DESC = "MEX_ORIENTATION_DESC.TXT"
SPACECRAFT_POINTING_MODE = ACROSSTRACK
^MEX_POINTING_DESC = "MEX_POINTING_DESC.TXT"
RIGHT_ASCENSION = -1e+32
DECLINATION = -1e+32
OFFSET_ANGLE = 1.346
SPACECRAFT_SOLAR_DISTANCE = 2.48358e+08
TARGET_NAME = MARS
/* CAMERA DATA ELEMENTS */
DETECTOR_TEMPERATURE = 18.5744
FOCAL_PLANE_TEMPERATURE = 7.9716
INST_CMPRS_NAME = "DISCRETE COSINE TRANSFORMATION (DCT)"
INST_CMPRS_RATIO = 24.6294
INST_CMPRS_QUALITY = 0
INST_CMPRS_QUANTZ_TBL_ID = 0
INSTRUMENT_TEMPERATURE = 11.234
LENS_TEMPERATURE = 8.3794
MACROPIXEL_SIZE = 4
MISSING_FRAMES = 0
PIXEL_SUBSAMPLING_FLAG = N
SIGNAL_CHAIN_ID = 2
/* RADIOMETRIC DATA ELEMENTS */
BANDWIDTH = 48.0
CENTER_FILTER_WAVELENGTH = 748.0
RADIANCE_OFFSET = 1.09539
RADIANCE_SCALING_FACTOR = 0.00669919
REFLECTANCE_SCALING_FACTOR = 0.000942979
MEX:REFLECTANCE_OFFSET = 0.154188
/* IMAGE OBJECT DEFINITIONS */
OBJECT = IMAGE
  INTERCHANGE_FORMAT = BINARY
  LINES = 5874
  LINE_SAMPLES = 11795
  SAMPLE_TYPE = UNSIGNED_INTEGER
  SAMPLE_BITS = 8
  BANDS = 1
  BAND_STORAGE_TYPE = BAND_SEQUENTIAL
  MAXIMUM = 255
  MEAN = 123.277
  MINIMUM = 1
  STANDARD_DEVIATION = 40.328
END_OBJECT = IMAGE
/* MAP OBJECT DEFINITIONS */
OBJECT = IMAGE_MAP_PROJECTION
  ^DATA_SET_MAP_PROJECTION_CATALOG= "DSMAP.CAT"
  A_AXIS_RADIUS = 3396.0
  B_AXIS_RADIUS = 3396.0
  C_AXIS_RADIUS = 3396.0
  CENTER_LATITUDE = 90.0
  CENTER_LONGITUDE = 0.0
  COORDINATE_SYSTEM_NAME = PLANETOGRAPHIC
  COORDINATE_SYSTEM_TYPE = "BODY-FIXED ROTATING"
  EASTERNMOST_LONGITUDE = 98.815
  FIRST_STANDARD_PARALLEL = "N/A"
  LINE_FIRST_PIXEL = 1
  LINE_LAST_PIXEL = 5874
  LINE_PROJECTION_OFFSET = 1047.625
  MAP_PROJECTION_ROTATION = 0.0
  MAP_PROJECTION_TYPE = STEREOGRAPHIC
  MAP_RESOLUTION = 1185.42760773333
  MAP_SCALE = 0.05
  MAXIMUM_LATITUDE = 89.0527
  MINIMUM_LATITUDE = 83.85599999999999
  POSITIVE_LONGITUDE_DIRECTION = EAST
  REFERENCE_LATITUDE = "N/A"
  REFERENCE_LONGITUDE = "N/A"
  SAMPLE_FIRST_PIXEL = 1
  SAMPLE_LAST_PIXEL = 11795
  SAMPLE_PROJECTION_OFFSET = 4562.625
  SECOND_STANDARD_PARALLEL = "N/A"
  WESTERNMOST_LONGITUDE = -59.19
END_OBJECT = IMAGE_MAP_PROJECTION
END
