PDS_VERSION_ID = PDS3
/* FILE DATA ELEMENTS */
RECORD_TYPE = UNDEFINED
/* POINTERS TO DATA OBJECTS */
^IMAGE = ("H5488_0000_BL4.TIF")
/* IDENTIFICATION DATA ELEMENTS */
DATA_SET_ID = "MEX-M-HRSC-4-REFDR-MAPPROJECT-EXT2-V4.0"
DATA_SET_NAME = "MARS EXPRESS HRSC MAP PROJECTED REFDR EXTENSION2 V4.0"
DETECTOR_ID = MEX_HRSC_BLUE
EVENT_TYPE = "MARS-REGIONAL-MAPPING-Im-Gl-Pf"
INSTRUMENT_HOST_ID = MEX
INSTRUMENT_HOST_NAME = "MARS EXPRESS"
INSTRUMENT_ID = HRSC
INSTRUMENT_NAME = "HIGH RESOLUTION STEREO CAMERA"
MISSION_NAME = "MARS EXPRESS"
MISSION_PHASE_NAME = ME_Phase_12
PROCESSING_LEVEL_ID = 4
PRODUCT_CREATION_TIME = 2023-02-02T05:41:08.000Z
PRODUCT_ID = "H5488_0000_BL4.TIF"
RELEASE_ID = 0002
REVISION_ID = 0000
/* QUALITY DATA ELEMENTS */
DATA_QUALITY_ID = 1
DATA_QUALITY_DESC = "Data calculated based on original SPICE kernels"
/* TIME DATA ELEMENTS */
SPACECRAFT_CLOCK_START_COUNT = "1/0155921863.08393"
SPACECRAFT_CLOCK_STOP_COUNT = "1/0155922120.31469"
START_TIME = 2008-04-10T15:38:30.368Z
STOP_TIME = 2008-04-10T15:41:35.606Z
/* ORBITAL DATA ELEMENTS */
ASCENDING_NODE_LONGITUDE = 114.12
MAXIMUM_RESOLUTION = 0.0571
FOOTPRINT_POINT_LATITUDE = (79.999,79.8628,79.7486,79.6304,79.6263 ,79.6391,79.3894,79.1386,78.8869, 78.6342,78.3805,78.126,77.8709,77.615, 77.2296,76.843,76.4551,76.1958,75.936, 75.5558,74.8988,74.4594,74.2394,74.019, 73.688,73.4671,73.2458,72.9137,72.6921, 72.4703,72.2483,71.915,71.6925,71.47, 71.2473,71.0245,70.8014,70.5783,70.2434 ,70.0199,69.7964,69.5727,69.349,69.1252 ,68.9013,68.6773,68.4532,68.2292, 68.1171,68.0067,68.0816,68.1284,68.1554 ,68.1565,68.1577,68.3838,68.7233, 68.9495,69.1755,69.4018,69.6279,69.8541 ,70.1932,70.4191,70.7579,70.9838, 71.2095,71.5484,71.8867,72.2251,72.5631 ,72.7885,73.0137,73.2388,73.4637,73.801 ,74.1382,74.3629,74.5874,74.8118, 75.1478,75.3719,75.5956,75.8193,76.0759 ,76.3427,76.6087,76.8742,77.14,77.5381, 77.9356,78.2003,78.4644,78.7283,78.9915 ,79.2543,79.5166,79.7785,79.9093, 79.999)
FOOTPRINT_POINT_LONGITUDE = (214.81,211.879,209.811,207.921,207.859 ,207.64,208.157,208.651,209.121,209.571 ,210.001,210.412,210.805,211.18,211.717 ,212.22,212.691,212.991,213.278,213.679 ,214.32,214.715,214.903,215.087,215.352 ,215.522,215.688,215.928,216.081, 216.231,216.377,216.588,216.724,216.857 ,216.986,217.111,217.234,217.354, 217.527,217.639,217.748,217.855,217.959 ,218.06,218.159,218.256,218.35,218.442, 218.487,218.531,219.999,221.084,221.803 ,221.834,221.844,221.787,221.701, 221.642,221.58,221.519,221.455,221.39, 221.289,221.219,221.112,221.038,220.962 ,220.846,220.724,220.597,220.465, 220.374,220.281,220.185,220.085,219.931 ,219.771,219.661,219.548,219.43,219.245 ,219.119,218.987,218.852,218.69,218.518 ,218.335,218.144,217.948,217.637, 217.307,217.075,216.831,216.575,216.306 ,216.023,215.726,215.414,215.252, 214.81)
ORBIT_NUMBER = 5488
ORBITAL_ECCENTRICITY = 0.568
ORBITAL_INCLINATION = 86.76
ORBITAL_SEMIMAJOR_AXIS = 8645.42
PERIAPSIS_ALTITUDE = 352.92
PERIAPSIS_ARGUMENT_ANGLE = 112.85
PERIAPSIS_TIME = 2008-04-10T15:41:47.000Z
SPACECRAFT_ORIENTATION = (0.0,-1.0,0.0)
^MEX_ORIENTATION_DESC = "MEX_ORIENTATION_DESC.TXT"
SPACECRAFT_POINTING_MODE = ACROSSTRACK
^MEX_POINTING_DESC = "MEX_POINTING_DESC.TXT"
RIGHT_ASCENSION = -1e+32
DECLINATION = -1e+32
OFFSET_ANGLE = 0.19
SPACECRAFT_SOLAR_DISTANCE = 2.48442e+08
TARGET_NAME = MARS
/* CAMERA DATA ELEMENTS */
DETECTOR_TEMPERATURE = 17.9627
FOCAL_PLANE_TEMPERATURE = 7.156
INST_CMPRS_NAME = "DISCRETE COSINE TRANSFORMATION (DCT)"
INST_CMPRS_RATIO = 21.4796
INST_CMPRS_QUALITY = 0
INST_CMPRS_QUANTZ_TBL_ID = 0
INSTRUMENT_TEMPERATURE = 10.4184
LENS_TEMPERATURE = 7.7677
MACROPIXEL_SIZE = 4
MISSING_FRAMES = 0
PIXEL_SUBSAMPLING_FLAG = N
SIGNAL_CHAIN_ID = 2
/* RADIOMETRIC DATA ELEMENTS */
BANDWIDTH = 76.0
CENTER_FILTER_WAVELENGTH = 444.0
RADIANCE_OFFSET = 0.518902
RADIANCE_SCALING_FACTOR = 0.0109376
REFLECTANCE_SCALING_FACTOR = 0.000693632
MEX:REFLECTANCE_OFFSET = 0.0329072
/* IMAGE OBJECT DEFINITIONS */
OBJECT = IMAGE
  INTERCHANGE_FORMAT = BINARY
  LINES = 14271
  LINE_SAMPLES = 3921
  SAMPLE_TYPE = UNSIGNED_INTEGER
  SAMPLE_BITS = 8
  BANDS = 1
  BAND_STORAGE_TYPE = BAND_SEQUENTIAL
  MAXIMUM = 255
  MEAN = 102.38
  MINIMUM = 1
  STANDARD_DEVIATION = 59.6393
END_OBJECT = IMAGE
/* MAP OBJECT DEFINITIONS */
OBJECT = IMAGE_MAP_PROJECTION
  ^DATA_SET_MAP_PROJECTION_CATALOG= "DSMAP.CAT"
  A_AXIS_RADIUS = 3396.0
  B_AXIS_RADIUS = 3396.0
  C_AXIS_RADIUS = 3396.0
  CENTER_LATITUDE = 0.0
  CENTER_LONGITUDE = 218.0
  COORDINATE_SYSTEM_NAME = PLANETOGRAPHIC
  COORDINATE_SYSTEM_TYPE = "BODY-FIXED ROTATING"
  EASTERNMOST_LONGITUDE = 221.844
  FIRST_STANDARD_PARALLEL = "N/A"
  LINE_FIRST_PIXEL = 1
  LINE_LAST_PIXEL = 14271
  LINE_PROJECTION_OFFSET = 94882.125
  MAP_PROJECTION_ROTATION = 0.0
  MAP_PROJECTION_TYPE = SINUSOIDAL
  MAP_RESOLUTION = 1185.42760773333
  MAP_SCALE = 0.05
  MAXIMUM_LATITUDE = 79.999
  MINIMUM_LATITUDE = 68.0067
  POSITIVE_LONGITUDE_DIRECTION = EAST
  REFERENCE_LATITUDE = "N/A"
  REFERENCE_LONGITUDE = "N/A"
  SAMPLE_FIRST_PIXEL = 1
  SAMPLE_LAST_PIXEL = 3921
  SAMPLE_PROJECTION_OFFSET = 2224.125
  SECOND_STANDARD_PARALLEL = "N/A"
  WESTERNMOST_LONGITUDE = 207.64
END_OBJECT = IMAGE_MAP_PROJECTION
END
