PDS_VERSION_ID = PDS3
/* FILE DATA ELEMENTS */
RECORD_TYPE = UNDEFINED
/* POINTERS TO DATA OBJECTS */
^IMAGE = ("H5502_0000_GR4.TIF")
/* IDENTIFICATION DATA ELEMENTS */
DATA_SET_ID = "MEX-M-HRSC-4-REFDR-MAPPROJECT-EXT2-V4.0"
DATA_SET_NAME = "MARS EXPRESS HRSC MAP PROJECTED REFDR EXTENSION2 V4.0"
DETECTOR_ID = MEX_HRSC_GREEN
EVENT_TYPE = "MARS-REGIONAL-MAPPING-Gl-Eo-La"
INSTRUMENT_HOST_ID = MEX
INSTRUMENT_HOST_NAME = "MARS EXPRESS"
INSTRUMENT_ID = HRSC
INSTRUMENT_NAME = "HIGH RESOLUTION STEREO CAMERA"
MISSION_NAME = "MARS EXPRESS"
MISSION_PHASE_NAME = ME_Phase_12
PROCESSING_LEVEL_ID = 4
PRODUCT_CREATION_TIME = 2023-02-03T16:04:45.000Z
PRODUCT_ID = "H5502_0000_GR4.TIF"
RELEASE_ID = 0003
REVISION_ID = 0000
/* QUALITY DATA ELEMENTS */
DATA_QUALITY_ID = 1
DATA_QUALITY_DESC = "Data calculated based on original SPICE kernels"
/* TIME DATA ELEMENTS */
SPACECRAFT_CLOCK_START_COUNT = "1/0156266691.08398"
SPACECRAFT_CLOCK_STOP_COUNT = "1/0156266952.56062"
START_TIME = 2008-04-14T15:25:26.360Z
STOP_TIME = 2008-04-14T15:28:37.077Z
/* ORBITAL DATA ELEMENTS */
ASCENDING_NODE_LONGITUDE = 113.84
MAXIMUM_RESOLUTION = 0.0573
FOOTPRINT_POINT_LATITUDE = (82.6201,82.4687,82.2747,82.1275,82.122 ,82.0891,81.8533,81.6148,81.3752, 81.1336,80.8904,80.6456,80.3992,80.1517 ,79.9029,79.5202,79.2686,79.016,78.7624 ,78.5079,78.2526,77.9965,77.7396,77.482 ,77.2238,76.9696,76.5343,76.0976, 75.6593,75.2197,74.6683,74.3367,74.1153 ,73.8936,73.6716,73.4495,73.2271, 73.0044,72.7815,72.5585,72.3352,72.1118 ,71.8882,71.5524,71.3284,71.1042, 70.8798,70.543,70.4307,70.3817,70.4265, 70.496,70.5448,70.546,70.5473,70.8881, 71.1151,71.3422,71.5692,71.9095,72.2495 ,72.5894,72.8158,73.0422,73.2684, 73.4945,73.7204,73.9463,74.172,74.3976, 74.623,74.8483,75.1859,75.5232,75.7478, 75.9723,76.3086,76.7564,77.2033,77.5885 ,77.8543,78.1197,78.3848,78.6495, 78.9137,79.1775,79.4409,79.7038,79.9662 ,80.3666,80.6276,80.8881,81.1478, 81.4068,81.6651,81.9226,82.1792,82.4348 ,82.5623,82.6201)
FOOTPRINT_POINT_LONGITUDE = (249.592,246.283,242.808,240.55,240.471 ,240.367,241.236,242.054,242.829,243.56 ,244.253,244.909,245.53,246.121,246.682 ,247.488,247.983,248.455,248.905, 249.334,249.745,250.138,250.513,250.873 ,251.218,251.543,252.068,252.558, 253.017,253.448,253.949,254.232,254.414 ,254.59,254.761,254.927,255.089,255.246 ,255.398,255.547,255.691,255.831, 255.967,256.165,256.293,256.417,256.538 ,256.714,256.771,256.795,257.646, 259.167,260.465,260.5,260.512,260.404, 260.332,260.256,260.178,260.058,259.933 ,259.803,259.713,259.62,259.526,259.429 ,259.328,259.225,259.119,259.009, 258.896,258.78,258.599,258.407,258.277, 258.141,257.928,257.627,257.305,257.009 ,256.793,256.566,256.33,256.082,255.821 ,255.549,255.264,254.962,254.645, 254.127,253.765,253.373,252.965,252.533 ,252.075,251.588,251.068,250.514, 250.223,249.592)
ORBIT_NUMBER = 5502
ORBITAL_ECCENTRICITY = 0.568
ORBITAL_INCLINATION = 86.74
ORBITAL_SEMIMAJOR_AXIS = 8644.35
PERIAPSIS_ALTITUDE = 354.23
PERIAPSIS_ARGUMENT_ANGLE = 110.4
PERIAPSIS_TIME = 2008-04-14T15:28:59.000Z
SPACECRAFT_ORIENTATION = (0.0,-1.0,0.0)
^MEX_ORIENTATION_DESC = "MEX_ORIENTATION_DESC.TXT"
SPACECRAFT_POINTING_MODE = ACROSSTRACK
^MEX_POINTING_DESC = "MEX_POINTING_DESC.TXT"
RIGHT_ASCENSION = -1e+32
DECLINATION = -1e+32
OFFSET_ANGLE = 0.269
SPACECRAFT_SOLAR_DISTANCE = 2.48622e+08
TARGET_NAME = MARS
/* CAMERA DATA ELEMENTS */
DETECTOR_TEMPERATURE = 15.9237
FOCAL_PLANE_TEMPERATURE = 6.9521
INST_CMPRS_NAME = "DISCRETE COSINE TRANSFORMATION (DCT)"
INST_CMPRS_RATIO = 10.5207
INST_CMPRS_QUALITY = 0
INST_CMPRS_QUANTZ_TBL_ID = 0
INSTRUMENT_TEMPERATURE = 11.0301
LENS_TEMPERATURE = 7.5638
MACROPIXEL_SIZE = 4
MISSING_FRAMES = 1
PIXEL_SUBSAMPLING_FLAG = N
SIGNAL_CHAIN_ID = 2
/* RADIOMETRIC DATA ELEMENTS */
BANDWIDTH = 88.0
CENTER_FILTER_WAVELENGTH = 538.0
RADIANCE_OFFSET = 1.51237
RADIANCE_SCALING_FACTOR = 0.014098
REFLECTANCE_SCALING_FACTOR = 0.000750281
MEX:REFLECTANCE_OFFSET = 0.0804871
/* IMAGE OBJECT DEFINITIONS */
OBJECT = IMAGE
  INTERCHANGE_FORMAT = BINARY
  LINES = 14513
  LINE_SAMPLES = 4567
  SAMPLE_TYPE = UNSIGNED_INTEGER
  SAMPLE_BITS = 8
  BANDS = 1
  BAND_STORAGE_TYPE = BAND_SEQUENTIAL
  MAXIMUM = 255
  MEAN = 154.73
  MINIMUM = 1
  STANDARD_DEVIATION = 58.7233
END_OBJECT = IMAGE
/* MAP OBJECT DEFINITIONS */
OBJECT = IMAGE_MAP_PROJECTION
  ^DATA_SET_MAP_PROJECTION_CATALOG= "DSMAP.CAT"
  A_AXIS_RADIUS = 3396.0
  B_AXIS_RADIUS = 3396.0
  C_AXIS_RADIUS = 3396.0
  CENTER_LATITUDE = 0.0
  CENTER_LONGITUDE = 255.0
  COORDINATE_SYSTEM_NAME = PLANETOGRAPHIC
  COORDINATE_SYSTEM_TYPE = "BODY-FIXED ROTATING"
  EASTERNMOST_LONGITUDE = 260.512
  FIRST_STANDARD_PARALLEL = "N/A"
  LINE_FIRST_PIXEL = 1
  LINE_LAST_PIXEL = 14513
  LINE_PROJECTION_OFFSET = 97941.125
  MAP_PROJECTION_ROTATION = 0.0
  MAP_PROJECTION_TYPE = SINUSOIDAL
  MAP_RESOLUTION = 1185.42760773333
  MAP_SCALE = 0.05
  MAXIMUM_LATITUDE = 82.62009999999999
  MINIMUM_LATITUDE = 70.3817
  POSITIVE_LONGITUDE_DIRECTION = EAST
  REFERENCE_LATITUDE = "N/A"
  REFERENCE_LONGITUDE = "N/A"
  SAMPLE_FIRST_PIXEL = 1
  SAMPLE_LAST_PIXEL = 4567
  SAMPLE_PROJECTION_OFFSET = 2394.125
  SECOND_STANDARD_PARALLEL = "N/A"
  WESTERNMOST_LONGITUDE = 240.367
END_OBJECT = IMAGE_MAP_PROJECTION
END
