PDS_VERSION_ID = PDS3
/* FILE DATA ELEMENTS */
RECORD_TYPE = UNDEFINED
/* POINTERS TO DATA OBJECTS */
^IMAGE = ("H5586_0000_S24.TIF")
/* IDENTIFICATION DATA ELEMENTS */
DATA_SET_ID = "MEX-M-HRSC-4-REFDR-MAPPROJECT-EXT2-V4.0"
DATA_SET_NAME = "MARS EXPRESS HRSC MAP PROJECTED REFDR EXTENSION2 V4.0"
DETECTOR_ID = MEX_HRSC_S2
EVENT_TYPE = "MARS-REGIONAL-MAPPING-Pf-Eo"
INSTRUMENT_HOST_ID = MEX
INSTRUMENT_HOST_NAME = "MARS EXPRESS"
INSTRUMENT_ID = HRSC
INSTRUMENT_NAME = "HIGH RESOLUTION STEREO CAMERA"
MISSION_NAME = "MARS EXPRESS"
MISSION_PHASE_NAME = ME_Phase_12
PROCESSING_LEVEL_ID = 4
PRODUCT_CREATION_TIME = 2023-02-03T16:04:45.000Z
PRODUCT_ID = "H5586_0000_S24.TIF"
RELEASE_ID = 0003
REVISION_ID = 0000
/* QUALITY DATA ELEMENTS */
DATA_QUALITY_ID = 1
DATA_QUALITY_DESC = "Data calculated based on original SPICE kernels"
/* TIME DATA ELEMENTS */
SPACECRAFT_CLOCK_START_COUNT = "1/0158336061.07289"
SPACECRAFT_CLOCK_STOP_COUNT = "1/0158336287.32857"
START_TIME = 2008-05-08T14:15:36.383Z
STOP_TIME = 2008-05-08T14:18:09.123Z
/* ORBITAL DATA ELEMENTS */
ASCENDING_NODE_LONGITUDE = 112.16
MAXIMUM_RESOLUTION = 0.0346
FOOTPRINT_POINT_LATITUDE = (71.8275,71.7984,71.7728,71.7335,71.7, 71.6645,71.6197,71.6172,71.7422,71.4885 ,71.0665,70.7297,70.3933,70.0516,69.621 ,69.2772,68.9342,68.6713,68.4958, 68.3205,68.0576,67.8824,67.7076,67.4407 ,67.2619,67.0833,66.9045,66.7264, 66.5485,66.3679,66.1859,66.0044,65.8228 ,65.6412,65.4603,65.184,64.999,64.8141, 64.6298,64.4457,64.1644,63.9767,63.7892 ,63.5082,63.3185,63.1277,62.9371, 62.8418,62.8238,62.8624,62.8956,62.9191 ,62.9342,62.956,62.9729,62.974,62.975, 63.2623,63.4544,63.6458,63.8343,64.0229 ,64.2119,64.401,64.5901,64.7753,64.9611 ,65.1469,65.3331,65.6118,65.8856, 66.0681,66.251,66.4342,66.7083,66.8875, 67.0669,67.3369,67.5169,67.6971,67.8767 ,68.0531,68.2292,68.4057,68.6714, 68.8486,69.1142,69.4605,69.6339,69.8075 ,69.9812,70.1552,70.3294,70.5033, 70.8435,71.1842,71.5253,71.867,71.9525, 71.8275)
FOOTPRINT_POINT_LONGITUDE = (134.088,133.381,132.8,131.973,131.315, 130.658,129.88,129.839,129.616,129.769, 130.014,130.2,130.378,130.552,130.762, 130.922,131.076,131.19,131.264,131.336, 131.443,131.512,131.579,131.68,131.746, 131.811,131.874,131.936,131.997,132.057 ,132.117,132.175,132.233,132.289, 132.344,132.426,132.48,132.533,132.584, 132.634,132.71,132.759,132.806,132.877, 132.923,132.969,133.013,133.035,133.04, 133.831,134.587,135.164,135.562,136.177 ,136.721,136.757,136.77,136.715,136.678 ,136.64,136.603,136.564,136.525,136.486 ,136.446,136.406,136.365,136.323, 136.281,136.217,136.152,136.108,136.063 ,136.017,135.947,135.9,135.853,135.78, 135.73,135.679,135.628,135.577,135.525, 135.472,135.39,135.335,135.249,135.135, 135.076,135.015,134.954,134.892,134.828 ,134.763,134.633,134.497,134.356, 134.209,134.172,134.088)
ORBIT_NUMBER = 5586
ORBITAL_ECCENTRICITY = 0.567
ORBITAL_INCLINATION = 86.75
ORBITAL_SEMIMAJOR_AXIS = 8635.26
PERIAPSIS_ALTITUDE = 359.33
PERIAPSIS_ARGUMENT_ANGLE = 95.7
PERIAPSIS_TIME = 2008-05-08T14:11:50.000Z
SPACECRAFT_ORIENTATION = (0.0,-1.0,0.0)
^MEX_ORIENTATION_DESC = "MEX_ORIENTATION_DESC.TXT"
SPACECRAFT_POINTING_MODE = NADIR
^MEX_POINTING_DESC = "MEX_POINTING_DESC.TXT"
RIGHT_ASCENSION = -1e+32
DECLINATION = -1e+32
OFFSET_ANGLE = -1e+32
SPACECRAFT_SOLAR_DISTANCE = 2.49207e+08
TARGET_NAME = MARS
/* CAMERA DATA ELEMENTS */
DETECTOR_TEMPERATURE = 17.9627
FOCAL_PLANE_TEMPERATURE = 6.9521
INST_CMPRS_NAME = "DISCRETE COSINE TRANSFORMATION (DCT)"
INST_CMPRS_RATIO = 14.1147
INST_CMPRS_QUALITY = 0
INST_CMPRS_QUANTZ_TBL_ID = 0
INSTRUMENT_TEMPERATURE = 10.8262
LENS_TEMPERATURE = 7.5638
MACROPIXEL_SIZE = 2
MISSING_FRAMES = 0
PIXEL_SUBSAMPLING_FLAG = N
SIGNAL_CHAIN_ID = 1
/* RADIOMETRIC DATA ELEMENTS */
BANDWIDTH = 178.0
CENTER_FILTER_WAVELENGTH = 679.0
RADIANCE_OFFSET = 4.80412
RADIANCE_SCALING_FACTOR = 0.0121112
REFLECTANCE_SCALING_FACTOR = 0.000398326
MEX:REFLECTANCE_OFFSET = 0.158003
/* IMAGE OBJECT DEFINITIONS */
OBJECT = IMAGE
  INTERCHANGE_FORMAT = BINARY
  LINES = 21689
  LINE_SAMPLES = 6032
  SAMPLE_TYPE = UNSIGNED_INTEGER
  SAMPLE_BITS = 8
  BANDS = 1
  BAND_STORAGE_TYPE = BAND_SEQUENTIAL
  MAXIMUM = 255
  MEAN = 161.199
  MINIMUM = 1
  STANDARD_DEVIATION = 48.665
END_OBJECT = IMAGE
/* MAP OBJECT DEFINITIONS */
OBJECT = IMAGE_MAP_PROJECTION
  ^DATA_SET_MAP_PROJECTION_CATALOG= "DSMAP.CAT"
  A_AXIS_RADIUS = 3396.0
  B_AXIS_RADIUS = 3396.0
  C_AXIS_RADIUS = 3396.0
  CENTER_LATITUDE = 0.0
  CENTER_LONGITUDE = 134.0
  COORDINATE_SYSTEM_NAME = PLANETOGRAPHIC
  COORDINATE_SYSTEM_TYPE = "BODY-FIXED ROTATING"
  EASTERNMOST_LONGITUDE = 136.77
  FIRST_STANDARD_PARALLEL = "N/A"
  LINE_FIRST_PIXEL = 1
  LINE_LAST_PIXEL = 21689
  LINE_PROJECTION_OFFSET = 170571.25
  MAP_PROJECTION_ROTATION = 0.0
  MAP_PROJECTION_TYPE = SINUSOIDAL
  MAP_RESOLUTION = 2370.85521546667
  MAP_SCALE = 0.025
  MAXIMUM_LATITUDE = 71.9525
  MINIMUM_LATITUDE = 62.8238
  POSITIVE_LONGITUDE_DIRECTION = EAST
  REFERENCE_LATITUDE = "N/A"
  REFERENCE_LONGITUDE = "N/A"
  SAMPLE_FIRST_PIXEL = 1
  SAMPLE_LAST_PIXEL = 6032
  SAMPLE_PROJECTION_OFFSET = 3190.75
  SECOND_STANDARD_PARALLEL = "N/A"
  WESTERNMOST_LONGITUDE = 129.616
END_OBJECT = IMAGE_MAP_PROJECTION
END
