PDS_VERSION_ID = PDS3
/* FILE DATA ELEMENTS */
RECORD_TYPE = UNDEFINED
/* POINTERS TO DATA OBJECTS */
^IMAGE = ("H5611_0000_ND4.TIF")
/* IDENTIFICATION DATA ELEMENTS */
DATA_SET_ID = "MEX-M-HRSC-4-REFDR-MAPPROJECT-EXT2-V4.0"
DATA_SET_NAME = "MARS EXPRESS HRSC MAP PROJECTED REFDR EXTENSION2 V4.0"
DETECTOR_ID = MEX_HRSC_NADIR
EVENT_TYPE = "MARS-REGIONAL-MAPPING-Gl-Pf-Eo"
INSTRUMENT_HOST_ID = MEX
INSTRUMENT_HOST_NAME = "MARS EXPRESS"
INSTRUMENT_ID = HRSC
INSTRUMENT_NAME = "HIGH RESOLUTION STEREO CAMERA"
MISSION_NAME = "MARS EXPRESS"
MISSION_PHASE_NAME = ME_Phase_12
PROCESSING_LEVEL_ID = 4
PRODUCT_CREATION_TIME = 2023-02-03T16:04:45.000Z
PRODUCT_ID = "H5611_0000_ND4.TIF"
RELEASE_ID = 0003
REVISION_ID = 0000
/* QUALITY DATA ELEMENTS */
DATA_QUALITY_ID = 1
DATA_QUALITY_DESC = "Data calculated based on original SPICE kernels"
/* TIME DATA ELEMENTS */
SPACECRAFT_CLOCK_START_COUNT = "1/0158951847.08370"
SPACECRAFT_CLOCK_STOP_COUNT = "1/0158952081.38005"
START_TIME = 2008-05-15T17:18:06.142Z
STOP_TIME = 2008-05-15T17:20:36.125Z
/* ORBITAL DATA ELEMENTS */
ASCENDING_NODE_LONGITUDE = 111.66
MAXIMUM_RESOLUTION = 0.0159
FOOTPRINT_POINT_LATITUDE = (75.2144,75.3155,75.3871,75.4299, 75.4852,75.4873,75.4928,75.1362,74.7797 ,74.4233,74.0671,73.7111,73.3553, 72.9997,72.6444,72.4625,72.2802,72.098, 71.9159,71.7338,71.5519,71.37,71.1882, 71.0022,70.8158,70.6295,70.4433,70.2572 ,70.0713,69.8854,69.6012,69.4108, 69.2206,69.0305,68.8405,68.6507,68.4577 ,68.2634,68.0692,67.8752,67.6813, 67.4876,67.1914,66.9933,66.7954,66.5977 ,66.3003,66.1993,66.1751,66.1572, 66.1311,66.1057,66.0838,66.0583,66.0225 ,65.9931,65.9908,65.9899,66.1898, 66.3859,66.5822,66.7785,66.975,67.2694, 67.4616,67.6539,67.8463,68.0388,68.2315 ,68.4234,68.6115,68.7998,68.9881, 69.1766,69.3651,69.6472,69.8312,70.0153 ,70.1995,70.3837,70.5681,70.7524, 70.9369,71.2965,71.4764,71.6563,71.8362 ,72.0162,72.1962,72.3762,72.7269, 73.0776,73.4283,73.779,74.1297,74.4802, 74.8306,75.0933,75.1808,75.2144)
FOOTPRINT_POINT_LONGITUDE = (145.396,147.025,148.324,149.179, 150.396,150.447,150.637,150.881,151.112 ,151.332,151.542,151.741,151.933, 152.115,152.289,152.376,152.46,152.543, 152.624,152.704,152.781,152.857,152.931 ,153.006,153.079,153.15,153.221,153.289 ,153.356,153.422,153.52,153.584,153.647 ,153.709,153.769,153.828,153.887, 153.946,154.003,154.059,154.113,154.167 ,154.247,154.3,154.352,154.402,154.476, 154.501,154.507,153.99,153.316,152.723, 152.249,151.736,151.068,150.558,150.519 ,150.5,150.435,150.37,150.304,150.237, 150.168,150.062,149.991,149.918,149.844 ,149.769,149.691,149.612,149.533, 149.453,149.37,149.286,149.2,149.068, 148.979,148.888,148.796,148.701,148.604 ,148.505,148.404,148.199,148.094, 147.986,147.876,147.763,147.647,147.529 ,147.29,147.04,146.778,146.504,146.216, 145.913,145.595,145.346,145.261, 145.396)
ORBIT_NUMBER = 5611
ORBITAL_ECCENTRICITY = 0.567
ORBITAL_INCLINATION = 86.74
ORBITAL_SEMIMAJOR_AXIS = 8634.38
PERIAPSIS_ALTITUDE = 360.29
PERIAPSIS_ARGUMENT_ANGLE = 91.32
PERIAPSIS_TIME = 2008-05-15T17:14:46.000Z
SPACECRAFT_ORIENTATION = (0.0,1.0,0.0)
^MEX_ORIENTATION_DESC = "MEX_ORIENTATION_DESC.TXT"
SPACECRAFT_POINTING_MODE = NADIR
^MEX_POINTING_DESC = "MEX_POINTING_DESC.TXT"
RIGHT_ASCENSION = -1e+32
DECLINATION = -1e+32
OFFSET_ANGLE = -1e+32
SPACECRAFT_SOLAR_DISTANCE = 2.49217e+08
TARGET_NAME = MARS
/* CAMERA DATA ELEMENTS */
DETECTOR_TEMPERATURE = 17.351
FOCAL_PLANE_TEMPERATURE = 6.9521
INST_CMPRS_NAME = "DISCRETE COSINE TRANSFORMATION (DCT)"
INST_CMPRS_RATIO = 6.06194
INST_CMPRS_QUALITY = 0
INST_CMPRS_QUANTZ_TBL_ID = 0
INSTRUMENT_TEMPERATURE = 9.8067
LENS_TEMPERATURE = 8.3794
MACROPIXEL_SIZE = 1
MISSING_FRAMES = 0
PIXEL_SUBSAMPLING_FLAG = N
SIGNAL_CHAIN_ID = 0
/* RADIOMETRIC DATA ELEMENTS */
BANDWIDTH = 177.0
CENTER_FILTER_WAVELENGTH = 677.5
RADIANCE_OFFSET = 4.34145
RADIANCE_SCALING_FACTOR = 0.0324669
REFLECTANCE_SCALING_FACTOR = 0.00107122
MEX:REFLECTANCE_OFFSET = 0.143243
/* IMAGE OBJECT DEFINITIONS */
OBJECT = IMAGE
  INTERCHANGE_FORMAT = BINARY
  LINES = 45067
  LINE_SAMPLES = 13691
  SAMPLE_TYPE = UNSIGNED_INTEGER
  SAMPLE_BITS = 8
  BANDS = 1
  BAND_STORAGE_TYPE = BAND_SEQUENTIAL
  MAXIMUM = 254
  MEAN = 61.5539
  MINIMUM = 1
  STANDARD_DEVIATION = 46.2828
END_OBJECT = IMAGE
/* MAP OBJECT DEFINITIONS */
OBJECT = IMAGE_MAP_PROJECTION
  ^DATA_SET_MAP_PROJECTION_CATALOG= "DSMAP.CAT"
  A_AXIS_RADIUS = 3396.0
  B_AXIS_RADIUS = 3396.0
  C_AXIS_RADIUS = 3396.0
  CENTER_LATITUDE = 0.0
  CENTER_LONGITUDE = 151.0
  COORDINATE_SYSTEM_NAME = PLANETOGRAPHIC
  COORDINATE_SYSTEM_TYPE = "BODY-FIXED ROTATING"
  EASTERNMOST_LONGITUDE = 154.507
  FIRST_STANDARD_PARALLEL = "N/A"
  LINE_FIRST_PIXEL = 1
  LINE_LAST_PIXEL = 45067
  LINE_PROJECTION_OFFSET = 357974.0
  MAP_PROJECTION_ROTATION = 0.0
  MAP_PROJECTION_TYPE = SINUSOIDAL
  MAP_RESOLUTION = 4741.71043093333
  MAP_SCALE = 0.0125
  MAXIMUM_LATITUDE = 75.4928
  MINIMUM_LATITUDE = 65.98990000000001
  POSITIVE_LONGITUDE_DIRECTION = EAST
  REFERENCE_LATITUDE = "N/A"
  REFERENCE_LONGITUDE = "N/A"
  SAMPLE_FIRST_PIXEL = 1
  SAMPLE_LAST_PIXEL = 13691
  SAMPLE_PROJECTION_OFFSET = 6963.0
  SECOND_STANDARD_PARALLEL = "N/A"
  WESTERNMOST_LONGITUDE = 145.261
END_OBJECT = IMAGE_MAP_PROJECTION
END
