PDS_VERSION_ID = PDS3
/* FILE DATA ELEMENTS */
RECORD_TYPE = UNDEFINED
/* POINTERS TO DATA OBJECTS */
^IMAGE = ("H5611_0000_P14.TIF")
/* IDENTIFICATION DATA ELEMENTS */
DATA_SET_ID = "MEX-M-HRSC-4-REFDR-MAPPROJECT-EXT2-V4.0"
DATA_SET_NAME = "MARS EXPRESS HRSC MAP PROJECTED REFDR EXTENSION2 V4.0"
DETECTOR_ID = MEX_HRSC_P1
EVENT_TYPE = "MARS-REGIONAL-MAPPING-Gl-Pf-Eo"
INSTRUMENT_HOST_ID = MEX
INSTRUMENT_HOST_NAME = "MARS EXPRESS"
INSTRUMENT_ID = HRSC
INSTRUMENT_NAME = "HIGH RESOLUTION STEREO CAMERA"
MISSION_NAME = "MARS EXPRESS"
MISSION_PHASE_NAME = ME_Phase_12
PROCESSING_LEVEL_ID = 4
PRODUCT_CREATION_TIME = 2023-02-03T16:04:45.000Z
PRODUCT_ID = "H5611_0000_P14.TIF"
RELEASE_ID = 0003
REVISION_ID = 0000
/* QUALITY DATA ELEMENTS */
DATA_QUALITY_ID = 1
DATA_QUALITY_DESC = "Data calculated based on original SPICE kernels"
/* TIME DATA ELEMENTS */
SPACECRAFT_CLOCK_START_COUNT = "1/0158951847.08370"
SPACECRAFT_CLOCK_STOP_COUNT = "1/0158952081.38005"
START_TIME = 2008-05-15T17:18:30.642Z
STOP_TIME = 2008-05-15T17:21:06.246Z
/* ORBITAL DATA ELEMENTS */
ASCENDING_NODE_LONGITUDE = 111.66
MAXIMUM_RESOLUTION = 0.0334
FOOTPRINT_POINT_LATITUDE = (75.1322,75.2085,75.2568,75.297,75.3373 ,75.4038,75.406,75.5016,75.2402,74.888, 74.5399,74.1921,73.8355,73.4795,73.2129 ,72.8577,72.6775,72.4957,72.3139, 72.1324,71.8602,71.6791,71.498,71.3128, 71.1273,70.9421,70.757,70.5723,70.3878, 70.1063,69.9177,69.6349,69.4466,69.2585 ,68.9719,68.7797,68.5879,68.3962, 68.2046,68.0107,67.8151,67.6197,67.4247 ,67.2298,66.9334,66.7349,66.5364, 66.3381,66.2392,66.1988,66.1584,66.1285 ,66.1012,66.0778,66.0463,66.0149, 66.0128,66.0125,66.3075,66.5044,66.7015 ,66.8988,67.0932,67.2865,67.48,67.6737, 67.9639,68.1536,68.3435,68.5337,68.7242 ,69.0091,69.1953,69.3817,69.5683, 69.7551,69.9421,70.1278,70.3105,70.4934 ,70.6763,70.8594,71.0427,71.3162, 71.4951,71.6741,71.8533,72.0327,72.2121 ,72.3916,72.5704,72.9207,73.2712, 73.6221,73.9722,74.3142,74.7456,75.0878 ,75.1734,75.1322)
FOOTPRINT_POINT_LONGITUDE = (145.416,146.653,147.5,148.252,149.057, 150.529,150.58,150.705,150.885,151.118, 151.336,151.545,151.749,151.944,152.084 ,152.263,152.351,152.439,152.524, 152.607,152.728,152.807,152.884,152.961 ,153.037,153.111,153.183,153.254, 153.323,153.426,153.494,153.593,153.657 ,153.719,153.813,153.874,153.934, 153.992,154.05,154.107,154.163,154.218, 154.273,154.326,154.405,154.457,154.508 ,154.558,154.582,154.592,153.454, 152.725,152.119,151.634,151.03,150.468, 150.427,150.413,150.317,150.252,150.185 ,150.117,150.048,149.979,149.908, 149.835,149.723,149.648,149.571,149.492 ,149.411,149.287,149.205,149.12,149.033 ,148.944,148.853,148.761,148.668, 148.573,148.476,148.377,148.275,148.119 ,148.014,147.907,147.797,147.684, 147.569,147.451,147.331,147.087,146.831 ,146.563,146.282,145.994,145.61,145.288 ,145.205,145.416)
ORBIT_NUMBER = 5611
ORBITAL_ECCENTRICITY = 0.567
ORBITAL_INCLINATION = 86.74
ORBITAL_SEMIMAJOR_AXIS = 8634.38
PERIAPSIS_ALTITUDE = 360.29
PERIAPSIS_ARGUMENT_ANGLE = 91.32
PERIAPSIS_TIME = 2008-05-15T17:14:46.000Z
SPACECRAFT_ORIENTATION = (0.0,1.0,0.0)
^MEX_ORIENTATION_DESC = "MEX_ORIENTATION_DESC.TXT"
SPACECRAFT_POINTING_MODE = NADIR
^MEX_POINTING_DESC = "MEX_POINTING_DESC.TXT"
RIGHT_ASCENSION = -1e+32
DECLINATION = -1e+32
OFFSET_ANGLE = -1e+32
SPACECRAFT_SOLAR_DISTANCE = 2.49217e+08
TARGET_NAME = MARS
/* CAMERA DATA ELEMENTS */
DETECTOR_TEMPERATURE = 16.7393
FOCAL_PLANE_TEMPERATURE = 6.9521
INST_CMPRS_NAME = "DISCRETE COSINE TRANSFORMATION (DCT)"
INST_CMPRS_RATIO = 10.1182
INST_CMPRS_QUALITY = 0
INST_CMPRS_QUANTZ_TBL_ID = 0
INSTRUMENT_TEMPERATURE = 9.8067
LENS_TEMPERATURE = 8.3794
MACROPIXEL_SIZE = 2
MISSING_FRAMES = 1
PIXEL_SUBSAMPLING_FLAG = N
SIGNAL_CHAIN_ID = 3
/* RADIOMETRIC DATA ELEMENTS */
BANDWIDTH = 174.0
CENTER_FILTER_WAVELENGTH = 675.0
RADIANCE_OFFSET = 3.91545
RADIANCE_SCALING_FACTOR = 0.0334284
REFLECTANCE_SCALING_FACTOR = 0.00111675
MEX:REFLECTANCE_OFFSET = 0.130804
/* IMAGE OBJECT DEFINITIONS */
OBJECT = IMAGE
  INTERCHANGE_FORMAT = BINARY
  LINES = 22534
  LINE_SAMPLES = 6846
  SAMPLE_TYPE = UNSIGNED_INTEGER
  SAMPLE_BITS = 8
  BANDS = 1
  BAND_STORAGE_TYPE = BAND_SEQUENTIAL
  MAXIMUM = 255
  MEAN = 88.8652
  MINIMUM = 1
  STANDARD_DEVIATION = 43.4043
END_OBJECT = IMAGE
/* MAP OBJECT DEFINITIONS */
OBJECT = IMAGE_MAP_PROJECTION
  ^DATA_SET_MAP_PROJECTION_CATALOG= "DSMAP.CAT"
  A_AXIS_RADIUS = 3396.0
  B_AXIS_RADIUS = 3396.0
  C_AXIS_RADIUS = 3396.0
  CENTER_LATITUDE = 0.0
  CENTER_LONGITUDE = 151.0
  COORDINATE_SYSTEM_NAME = PLANETOGRAPHIC
  COORDINATE_SYSTEM_TYPE = "BODY-FIXED ROTATING"
  EASTERNMOST_LONGITUDE = 154.592
  FIRST_STANDARD_PARALLEL = "N/A"
  LINE_FIRST_PIXEL = 1
  LINE_LAST_PIXEL = 22534
  LINE_PROJECTION_OFFSET = 178986.75
  MAP_PROJECTION_ROTATION = 0.0
  MAP_PROJECTION_TYPE = SINUSOIDAL
  MAP_RESOLUTION = 2370.85521546667
  MAP_SCALE = 0.025
  MAXIMUM_LATITUDE = 75.5016
  MINIMUM_LATITUDE = 66.0125
  POSITIVE_LONGITUDE_DIRECTION = EAST
  REFERENCE_LATITUDE = "N/A"
  REFERENCE_LONGITUDE = "N/A"
  SAMPLE_FIRST_PIXEL = 1
  SAMPLE_LAST_PIXEL = 6846
  SAMPLE_PROJECTION_OFFSET = 3481.25
  SECOND_STANDARD_PARALLEL = "N/A"
  WESTERNMOST_LONGITUDE = 145.205
END_OBJECT = IMAGE_MAP_PROJECTION
END
