PDS_VERSION_ID = PDS3
/* FILE DATA ELEMENTS */
RECORD_TYPE = UNDEFINED
/* POINTERS TO DATA OBJECTS */
^IMAGE = ("H5698_0000_IR4.TIF")
/* IDENTIFICATION DATA ELEMENTS */
DATA_SET_ID = "MEX-M-HRSC-4-REFDR-MAPPROJECT-EXT2-V4.0"
DATA_SET_NAME = "MARS EXPRESS HRSC MAP PROJECTED REFDR EXTENSION2 V4.0"
DETECTOR_ID = MEX_HRSC_IR
EVENT_TYPE = "MARS-REGIONAL-MAPPING-Gl-Pf-Eo"
INSTRUMENT_HOST_ID = MEX
INSTRUMENT_HOST_NAME = "MARS EXPRESS"
INSTRUMENT_ID = HRSC
INSTRUMENT_NAME = "HIGH RESOLUTION STEREO CAMERA"
MISSION_NAME = "MARS EXPRESS"
MISSION_PHASE_NAME = ME_Phase_13
PROCESSING_LEVEL_ID = 4
PRODUCT_CREATION_TIME = 2023-02-03T16:04:45.000Z
PRODUCT_ID = "H5698_0000_IR4.TIF"
RELEASE_ID = 0003
REVISION_ID = 0000
/* QUALITY DATA ELEMENTS */
DATA_QUALITY_ID = 1
DATA_QUALITY_DESC = "Data calculated based on original SPICE kernels"
/* TIME DATA ELEMENTS */
SPACECRAFT_CLOCK_START_COUNT = "1/0161094913.07282"
SPACECRAFT_CLOCK_STOP_COUNT = "1/0161095138.31765"
START_TIME = 2008-06-09T12:36:38.879Z
STOP_TIME = 2008-06-09T12:38:48.725Z
/* ORBITAL DATA ELEMENTS */
ASCENDING_NODE_LONGITUDE = 109.92
MAXIMUM_RESOLUTION = 0.0827
FOOTPRINT_POINT_LATITUDE = (79.9513,80.0189,80.1225,80.2202, 80.3123,80.3985,80.4789,80.5536,80.5581 ,80.6717,80.4814,80.2275,79.904,79.7091 ,79.5142,79.3171,79.0512,78.7856, 78.5848,78.2461,77.9751,77.769,77.631, 77.4931,77.2174,77.0768,76.9364,76.7961 ,76.6558,76.515,76.3722,76.2296,76.087, 75.9446,75.7283,75.5834,75.4386,75.2942 ,75.0747,74.9278,74.7809,74.6341, 74.4854,74.3364,74.1876,74.0388,73.8129 ,73.7374,73.7098,73.6882,73.6653, 73.6407,73.6149,73.588,73.5596,73.5299, 73.4909,73.4454,73.4109,73.3611,73.3135 ,73.3085,73.3082,73.4556,73.6033, 73.8212,73.9664,74.1118,74.2563,74.3994 ,74.5426,74.6859,74.8286,74.9694, 75.1102,75.2511,75.4617,75.6,75.7383, 75.946,76.0842,76.2199,76.3558,76.4916, 76.6274,76.7623,77.1616,77.427,77.6874, 77.8825,78.1419,78.396,78.6497,78.8391, 79.0867,79.3335,79.5787,79.9379,79.9976 ,79.9513)
FOOTPRINT_POINT_LONGITUDE = (66.9373,67.7643,69.101,70.4557,71.8265 ,73.2116,74.6119,76.027,76.1159,75.9505 ,76.371,76.9047,77.5433,77.9072,78.2569 ,78.5963,79.0338,79.4491,79.7494, 80.2315,80.5965,80.8627,81.0358,81.2047 ,81.5309,81.6916,81.8485,82.0017, 82.1515,82.2986,82.4445,82.5872,82.7266 ,82.863,83.0647,83.1962,83.3249,83.4507 ,83.637,83.7585,83.8775,83.9939,84.1097 ,84.2234,84.3346,84.4436,84.6053, 84.6582,84.6775,84.1408,83.5983,83.0563 ,82.515,81.9739,81.433,80.892,80.2158, 79.473,78.9331,78.1918,77.5182,77.4511, 77.4275,77.2902,77.1487,76.9354,76.7901 ,76.6415,76.4897,76.3366,76.1801, 76.0203,75.8579,75.694,75.5268,75.3555, 75.0929,74.9156,74.7348,74.4548,74.2631 ,74.0711,73.8741,73.673,73.4673,73.2585 ,72.6106,72.1538,71.6838,71.3172, 70.8074,70.2835,69.7341,69.3045,68.7162 ,68.0993,67.4546,66.4428,66.2663, 66.9373)
ORBIT_NUMBER = 5698
ORBITAL_ECCENTRICITY = 0.568
ORBITAL_INCLINATION = 86.76
ORBITAL_SEMIMAJOR_AXIS = 8637.73
PERIAPSIS_ALTITUDE = 358.19
PERIAPSIS_ARGUMENT_ANGLE = 76.09
PERIAPSIS_TIME = 2008-06-09T12:30:04.000Z
SPACECRAFT_ORIENTATION = (0.0,1.0,0.0)
^MEX_ORIENTATION_DESC = "MEX_ORIENTATION_DESC.TXT"
SPACECRAFT_POINTING_MODE = ACROSSTRACK
^MEX_POINTING_DESC = "MEX_POINTING_DESC.TXT"
RIGHT_ASCENSION = -1e+32
DECLINATION = -1e+32
OFFSET_ANGLE = -0.687
SPACECRAFT_SOLAR_DISTANCE = 2.48663e+08
TARGET_NAME = MARS
/* CAMERA DATA ELEMENTS */
DETECTOR_TEMPERATURE = 17.351
FOCAL_PLANE_TEMPERATURE = 7.7677
INST_CMPRS_NAME = "DISCRETE COSINE TRANSFORMATION (DCT)"
INST_CMPRS_RATIO = 18.9114
INST_CMPRS_QUALITY = 0
INST_CMPRS_QUANTZ_TBL_ID = 0
INSTRUMENT_TEMPERATURE = 10.8262
LENS_TEMPERATURE = 7.9716
MACROPIXEL_SIZE = 4
MISSING_FRAMES = 0
PIXEL_SUBSAMPLING_FLAG = N
SIGNAL_CHAIN_ID = 2
/* RADIOMETRIC DATA ELEMENTS */
BANDWIDTH = 81.0
CENTER_FILTER_WAVELENGTH = 955.5
RADIANCE_OFFSET = 0.549839
RADIANCE_SCALING_FACTOR = 0.00616066
REFLECTANCE_SCALING_FACTOR = 0.000821816
MEX:REFLECTANCE_OFFSET = 0.0733471
/* IMAGE OBJECT DEFINITIONS */
OBJECT = IMAGE
  INTERCHANGE_FORMAT = BINARY
  LINES = 4385
  LINE_SAMPLES = 2308
  SAMPLE_TYPE = UNSIGNED_INTEGER
  SAMPLE_BITS = 8
  BANDS = 1
  BAND_STORAGE_TYPE = BAND_SEQUENTIAL
  MAXIMUM = 255
  MEAN = 121.985
  MINIMUM = 1
  STANDARD_DEVIATION = 65.3127
END_OBJECT = IMAGE
/* MAP OBJECT DEFINITIONS */
OBJECT = IMAGE_MAP_PROJECTION
  ^DATA_SET_MAP_PROJECTION_CATALOG= "DSMAP.CAT"
  A_AXIS_RADIUS = 3396.0
  B_AXIS_RADIUS = 3396.0
  C_AXIS_RADIUS = 3396.0
  CENTER_LATITUDE = 0.0
  CENTER_LONGITUDE = 77.0
  COORDINATE_SYSTEM_NAME = PLANETOGRAPHIC
  COORDINATE_SYSTEM_TYPE = "BODY-FIXED ROTATING"
  EASTERNMOST_LONGITUDE = 84.67749999999999
  FIRST_STANDARD_PARALLEL = "N/A"
  LINE_FIRST_PIXEL = 1
  LINE_LAST_PIXEL = 4385
  LINE_PROJECTION_OFFSET = 47815.875
  MAP_PROJECTION_ROTATION = 0.0
  MAP_PROJECTION_TYPE = SINUSOIDAL
  MAP_RESOLUTION = 592.713803866667
  MAP_SCALE = 0.1
  MAXIMUM_LATITUDE = 80.6717
  MINIMUM_LATITUDE = 73.3082
  POSITIVE_LONGITUDE_DIRECTION = EAST
  REFERENCE_LATITUDE = "N/A"
  REFERENCE_LONGITUDE = "N/A"
  SAMPLE_FIRST_PIXEL = 1
  SAMPLE_LAST_PIXEL = 2308
  SAMPLE_PROJECTION_OFFSET = 1075.625
  SECOND_STANDARD_PARALLEL = "N/A"
  WESTERNMOST_LONGITUDE = 66.2663
END_OBJECT = IMAGE_MAP_PROJECTION
END
