PDS_VERSION_ID = PDS3
/* FILE DATA ELEMENTS */
RECORD_TYPE = UNDEFINED
/* POINTERS TO DATA OBJECTS */
^IMAGE = ("H5698_0000_P14.TIF")
/* IDENTIFICATION DATA ELEMENTS */
DATA_SET_ID = "MEX-M-HRSC-4-REFDR-MAPPROJECT-EXT2-V4.0"
DATA_SET_NAME = "MARS EXPRESS HRSC MAP PROJECTED REFDR EXTENSION2 V4.0"
DETECTOR_ID = MEX_HRSC_P1
EVENT_TYPE = "MARS-REGIONAL-MAPPING-Gl-Pf-Eo"
INSTRUMENT_HOST_ID = MEX
INSTRUMENT_HOST_NAME = "MARS EXPRESS"
INSTRUMENT_ID = HRSC
INSTRUMENT_NAME = "HIGH RESOLUTION STEREO CAMERA"
MISSION_NAME = "MARS EXPRESS"
MISSION_PHASE_NAME = ME_Phase_13
PROCESSING_LEVEL_ID = 4
PRODUCT_CREATION_TIME = 2023-02-03T16:04:45.000Z
PRODUCT_ID = "H5698_0000_P14.TIF"
RELEASE_ID = 0003
REVISION_ID = 0000
/* QUALITY DATA ELEMENTS */
DATA_QUALITY_ID = 1
DATA_QUALITY_DESC = "Data calculated based on original SPICE kernels"
/* TIME DATA ELEMENTS */
SPACECRAFT_CLOCK_START_COUNT = "1/0161094913.07282"
SPACECRAFT_CLOCK_STOP_COUNT = "1/0161095138.31765"
START_TIME = 2008-06-09T12:36:30.236Z
STOP_TIME = 2008-06-09T12:38:37.662Z
/* ORBITAL DATA ELEMENTS */
ASCENDING_NODE_LONGITUDE = 109.92
MAXIMUM_RESOLUTION = 0.0402
FOOTPRINT_POINT_LATITUDE = (79.9713,80.1236,80.227,80.3242,80.4153 ,80.5002,80.579,80.5837,80.6741,80.4201 ,80.1621,79.9039,79.7101,79.446,79.1813 ,78.9168,78.7819,78.4443,78.174,77.9677 ,77.8299,77.6922,77.5545,77.4169, 77.2067,77.0664,76.8561,76.7161,76.5023 ,76.3595,76.217,76.0033,75.7856,75.6406 ,75.4956,75.351,75.2042,75.057,74.9098, 74.7628,74.5398,74.3904,74.2412,74.0921 ,73.8653,73.7896,73.7152,73.6921, 73.6672,73.631,73.5921,73.5621,73.5307, 73.4978,73.4678,73.4322,73.3952,73.3567 ,73.3116,73.3064,73.3052,73.4533, 73.6749,73.8206,73.9663,74.1122,74.258, 74.4014,74.5449,74.6884,74.9033,75.0442 ,75.1852,75.3262,75.4673,75.6762, 75.8145,75.953,76.0915,76.2293,76.365, 76.5007,76.6364,76.772,76.9072,77.04, 77.1729,77.3057,77.4384,77.7017,77.9611 ,78.22,78.6019,78.8541,79.1056,79.3511, 79.5955,79.8989,79.9583,79.9713)
FOOTPRINT_POINT_LONGITUDE = (66.9402,68.8149,70.2006,71.6039, 73.0235,74.4596,75.9116,76.0028,75.8894 ,76.4472,76.9822,77.4884,77.8505, 78.3211,78.768,79.1922,79.4003,79.8987, 80.2759,80.5519,80.7306,80.9051,81.0755 ,81.2419,81.4887,81.6488,81.882,82.033, 82.257,82.4025,82.5447,82.7522,82.9567, 83.0894,83.2192,83.3461,83.4723,83.5962 ,83.7174,83.8361,84.0115,84.1262, 84.2385,84.3484,84.5114,84.5649,84.6169 ,84.0658,83.5119,82.7507,81.9911, 81.4386,80.8864,80.3345,79.8514,79.3002 ,78.7496,78.1993,77.5803,77.5116, 77.4863,77.3483,77.1354,76.9921,76.8463 ,76.6972,76.544,76.3906,76.2337,76.0736 ,75.8276,75.662,75.4924,75.3192,75.1422 ,74.8726,74.6898,74.5018,74.3096, 74.1145,73.9174,73.7163,73.5107,73.3004 ,73.0855,72.8701,72.6489,72.4226, 72.1911,71.7155,71.2234,70.7078,69.8993 ,69.3298,68.7308,68.1153,67.4708, 66.6191,66.4455,66.9402)
ORBIT_NUMBER = 5698
ORBITAL_ECCENTRICITY = 0.568
ORBITAL_INCLINATION = 86.76
ORBITAL_SEMIMAJOR_AXIS = 8637.73
PERIAPSIS_ALTITUDE = 358.19
PERIAPSIS_ARGUMENT_ANGLE = 76.09
PERIAPSIS_TIME = 2008-06-09T12:30:04.000Z
SPACECRAFT_ORIENTATION = (0.0,1.0,0.0)
^MEX_ORIENTATION_DESC = "MEX_ORIENTATION_DESC.TXT"
SPACECRAFT_POINTING_MODE = ACROSSTRACK
^MEX_POINTING_DESC = "MEX_POINTING_DESC.TXT"
RIGHT_ASCENSION = -1e+32
DECLINATION = -1e+32
OFFSET_ANGLE = -0.687
SPACECRAFT_SOLAR_DISTANCE = 2.48663e+08
TARGET_NAME = MARS
/* CAMERA DATA ELEMENTS */
DETECTOR_TEMPERATURE = 17.351
FOCAL_PLANE_TEMPERATURE = 7.7677
INST_CMPRS_NAME = "DISCRETE COSINE TRANSFORMATION (DCT)"
INST_CMPRS_RATIO = 13.2064
INST_CMPRS_QUALITY = 0
INST_CMPRS_QUANTZ_TBL_ID = 0
INSTRUMENT_TEMPERATURE = 10.8262
LENS_TEMPERATURE = 7.9716
MACROPIXEL_SIZE = 2
MISSING_FRAMES = 0
PIXEL_SUBSAMPLING_FLAG = N
SIGNAL_CHAIN_ID = 3
/* RADIOMETRIC DATA ELEMENTS */
BANDWIDTH = 174.0
CENTER_FILTER_WAVELENGTH = 675.0
RADIANCE_OFFSET = 2.71021
RADIANCE_SCALING_FACTOR = 0.0234109
REFLECTANCE_SCALING_FACTOR = 0.000778616
MEX:REFLECTANCE_OFFSET = 0.0901379
/* IMAGE OBJECT DEFINITIONS */
OBJECT = IMAGE
  INTERCHANGE_FORMAT = BINARY
  LINES = 8769
  LINE_SAMPLES = 4615
  SAMPLE_TYPE = UNSIGNED_INTEGER
  SAMPLE_BITS = 8
  BANDS = 1
  BAND_STORAGE_TYPE = BAND_SEQUENTIAL
  MAXIMUM = 255
  MEAN = 107.064
  MINIMUM = 1
  STANDARD_DEVIATION = 55.6139
END_OBJECT = IMAGE
/* MAP OBJECT DEFINITIONS */
OBJECT = IMAGE_MAP_PROJECTION
  ^DATA_SET_MAP_PROJECTION_CATALOG= "DSMAP.CAT"
  A_AXIS_RADIUS = 3396.0
  B_AXIS_RADIUS = 3396.0
  C_AXIS_RADIUS = 3396.0
  CENTER_LATITUDE = 0.0
  CENTER_LONGITUDE = 77.0
  COORDINATE_SYSTEM_NAME = PLANETOGRAPHIC
  COORDINATE_SYSTEM_TYPE = "BODY-FIXED ROTATING"
  EASTERNMOST_LONGITUDE = 84.6169
  FIRST_STANDARD_PARALLEL = "N/A"
  LINE_FIRST_PIXEL = 1
  LINE_LAST_PIXEL = 8769
  LINE_PROJECTION_OFFSET = 95632.25
  MAP_PROJECTION_ROTATION = 0.0
  MAP_PROJECTION_TYPE = SINUSOIDAL
  MAP_RESOLUTION = 1185.42760773333
  MAP_SCALE = 0.05
  MAXIMUM_LATITUDE = 80.6741
  MINIMUM_LATITUDE = 73.3052
  POSITIVE_LONGITUDE_DIRECTION = EAST
  REFERENCE_LATITUDE = "N/A"
  REFERENCE_LONGITUDE = "N/A"
  SAMPLE_FIRST_PIXEL = 1
  SAMPLE_LAST_PIXEL = 4615
  SAMPLE_PROJECTION_OFFSET = 2151.75
  SECOND_STANDARD_PARALLEL = "N/A"
  WESTERNMOST_LONGITUDE = 66.4455
END_OBJECT = IMAGE_MAP_PROJECTION
END
