PDS_VERSION_ID = PDS3
/* FILE DATA ELEMENTS */
RECORD_TYPE = UNDEFINED
/* POINTERS TO DATA OBJECTS */
^IMAGE = ("H5710_0000_BL4.TIF")
/* IDENTIFICATION DATA ELEMENTS */
DATA_SET_ID = "MEX-M-HRSC-4-REFDR-MAPPROJECT-EXT2-V4.0"
DATA_SET_NAME = "MARS EXPRESS HRSC MAP PROJECTED REFDR EXTENSION2 V4.0"
DETECTOR_ID = MEX_HRSC_BLUE
EVENT_TYPE = "MARS-REGIONAL-MAPPING-Eo-Ot"
INSTRUMENT_HOST_ID = MEX
INSTRUMENT_HOST_NAME = "MARS EXPRESS"
INSTRUMENT_ID = HRSC
INSTRUMENT_NAME = "HIGH RESOLUTION STEREO CAMERA"
MISSION_NAME = "MARS EXPRESS"
MISSION_PHASE_NAME = ME_Phase_13
PROCESSING_LEVEL_ID = 4
PRODUCT_CREATION_TIME = 2023-02-03T16:04:45.000Z
PRODUCT_ID = "H5710_0000_BL4.TIF"
RELEASE_ID = 0003
REVISION_ID = 0000
/* QUALITY DATA ELEMENTS */
DATA_QUALITY_ID = 1
DATA_QUALITY_DESC = "Data calculated based on original SPICE kernels"
/* TIME DATA ELEMENTS */
SPACECRAFT_CLOCK_START_COUNT = "1/0161390228.08262"
SPACECRAFT_CLOCK_STOP_COUNT = "1/0161390399.00845"
START_TIME = 2008-06-12T22:37:38.953Z
STOP_TIME = 2008-06-12T22:39:17.665Z
/* ORBITAL DATA ELEMENTS */
ASCENDING_NODE_LONGITUDE = 109.68
MAXIMUM_RESOLUTION = 0.0589
FOOTPRINT_POINT_LATITUDE = (78.7443,78.8093,78.8576,78.8975, 78.9576,78.9995,79.0394,79.0799,79.0825 ,79.1194,79.5048,79.7245,79.8891, 80.0535,80.327,80.5454,80.8176,81.0891, 81.2744,81.4035,81.5324,81.6611,81.7896 ,81.9178,82.0459,82.1736,82.3011, 82.4284,82.5553,82.682,82.8083,82.9343, 83.06,83.1852,83.3101,83.4346,83.5586, 83.6822,83.8053,83.9279,84.05,84.1715, 84.2924,84.4126,84.5323,84.6509,84.7691 ,84.8864,85.0025,85.0605,85.101,84.9997 ,84.9077,84.7518,84.6189,84.4479, 84.2869,84.2782,84.2746,84.0778,83.9772 ,83.8753,83.7202,83.6153,83.5093, 83.4022,83.2941,83.185,83.075,82.9642, 82.8524,82.7399,82.6266,82.5126,82.3979 ,82.2825,82.1664,82.0498,81.9325, 81.8147,81.6963,81.5774,81.4581,81.3382 ,81.2179,81.0971,80.9759,80.8543, 80.6727,80.4672,80.2088,80.0532,79.7926 ,79.6357,79.4258,79.2679,79.1096,78.845 ,78.792,78.7443)
FOOTPRINT_POINT_LONGITUDE = (175.385,174.404,173.634,172.968, 171.906,171.116,170.32,169.46,169.402, 169.203,169.695,169.993,170.226,170.466 ,170.884,171.236,171.7,172.193,172.547, 172.804,173.068,173.341,173.622,173.912 ,174.212,174.521,174.841,175.171, 175.513,175.866,176.232,176.611,177.004 ,177.411,177.834,178.273,178.728, 179.202,179.694,180.206,180.739,181.295 ,181.873,182.477,183.107,183.767, 184.454,185.174,185.929,186.318,186.593 ,188.456,190.015,192.414,194.251,196.4, 198.23,198.323,198.348,196.569,195.724, 194.906,193.729,192.977,192.25,191.547, 190.866,190.207,189.569,188.951,188.352 ,187.772,187.211,186.666,186.137, 185.625,185.128,184.646,184.177,183.723 ,183.282,182.853,182.436,182.031, 181.638,181.255,180.883,180.52,180.0, 179.437,178.768,178.384,177.77,177.417, 176.963,176.635,176.316,175.806,175.706 ,175.385)
ORBIT_NUMBER = 5710
ORBITAL_ECCENTRICITY = 0.567
ORBITAL_INCLINATION = 86.76
ORBITAL_SEMIMAJOR_AXIS = 8639.5
PERIAPSIS_ALTITUDE = 358.82
PERIAPSIS_ARGUMENT_ANGLE = 73.99
PERIAPSIS_TIME = 2008-06-12T22:36:21.000Z
SPACECRAFT_ORIENTATION = (0.0,1.0,0.0)
^MEX_ORIENTATION_DESC = "MEX_ORIENTATION_DESC.TXT"
SPACECRAFT_POINTING_MODE = NADIR
^MEX_POINTING_DESC = "MEX_POINTING_DESC.TXT"
RIGHT_ASCENSION = -1e+32
DECLINATION = -1e+32
OFFSET_ANGLE = -1e+32
SPACECRAFT_SOLAR_DISTANCE = 2.48515e+08
TARGET_NAME = MARS
/* CAMERA DATA ELEMENTS */
DETECTOR_TEMPERATURE = 17.7588
FOCAL_PLANE_TEMPERATURE = 7.3599
INST_CMPRS_NAME = "DISCRETE COSINE TRANSFORMATION (DCT)"
INST_CMPRS_RATIO = 4.20581
INST_CMPRS_QUALITY = 0
INST_CMPRS_QUANTZ_TBL_ID = 0
INSTRUMENT_TEMPERATURE = 11.0301
LENS_TEMPERATURE = 7.7677
MACROPIXEL_SIZE = 4
MISSING_FRAMES = 0
PIXEL_SUBSAMPLING_FLAG = N
SIGNAL_CHAIN_ID = 2
/* RADIOMETRIC DATA ELEMENTS */
BANDWIDTH = 76.0
CENTER_FILTER_WAVELENGTH = 444.0
RADIANCE_OFFSET = 0.339234
RADIANCE_SCALING_FACTOR = 0.0043313
REFLECTANCE_SCALING_FACTOR = 0.00027484
MEX:REFLECTANCE_OFFSET = 0.0215259
/* IMAGE OBJECT DEFINITIONS */
OBJECT = IMAGE
  INTERCHANGE_FORMAT = BINARY
  LINES = 7522
  LINE_SAMPLES = 4491
  SAMPLE_TYPE = UNSIGNED_INTEGER
  SAMPLE_BITS = 8
  BANDS = 1
  BAND_STORAGE_TYPE = BAND_SEQUENTIAL
  MAXIMUM = 254
  MEAN = 135.054
  MINIMUM = 1
  STANDARD_DEVIATION = 72.0427
END_OBJECT = IMAGE
/* MAP OBJECT DEFINITIONS */
OBJECT = IMAGE_MAP_PROJECTION
  ^DATA_SET_MAP_PROJECTION_CATALOG= "DSMAP.CAT"
  A_AXIS_RADIUS = 3396.0
  B_AXIS_RADIUS = 3396.0
  C_AXIS_RADIUS = 3396.0
  CENTER_LATITUDE = 0.0
  CENTER_LONGITUDE = 179.0
  COORDINATE_SYSTEM_NAME = PLANETOGRAPHIC
  COORDINATE_SYSTEM_TYPE = "BODY-FIXED ROTATING"
  EASTERNMOST_LONGITUDE = 198.348
  FIRST_STANDARD_PARALLEL = "N/A"
  LINE_FIRST_PIXEL = 1
  LINE_LAST_PIXEL = 7522
  LINE_PROJECTION_OFFSET = 100884.625
  MAP_PROJECTION_ROTATION = 0.0
  MAP_PROJECTION_TYPE = SINUSOIDAL
  MAP_RESOLUTION = 1185.42760773333
  MAP_SCALE = 0.05
  MAXIMUM_LATITUDE = 85.101
  MINIMUM_LATITUDE = 78.7443
  POSITIVE_LONGITUDE_DIRECTION = EAST
  REFERENCE_LATITUDE = "N/A"
  REFERENCE_LONGITUDE = "N/A"
  SAMPLE_FIRST_PIXEL = 1
  SAMPLE_LAST_PIXEL = 4491
  SAMPLE_PROJECTION_OFFSET = 2199.375
  SECOND_STANDARD_PARALLEL = "N/A"
  WESTERNMOST_LONGITUDE = 169.203
END_OBJECT = IMAGE_MAP_PROJECTION
END
