PDS_VERSION_ID = PDS3
/* FILE DATA ELEMENTS */
RECORD_TYPE = UNDEFINED
/* POINTERS TO DATA OBJECTS */
^IMAGE = ("H5710_0000_P14.TIF")
/* IDENTIFICATION DATA ELEMENTS */
DATA_SET_ID = "MEX-M-HRSC-4-REFDR-MAPPROJECT-EXT2-V4.0"
DATA_SET_NAME = "MARS EXPRESS HRSC MAP PROJECTED REFDR EXTENSION2 V4.0"
DETECTOR_ID = MEX_HRSC_P1
EVENT_TYPE = "MARS-REGIONAL-MAPPING-Eo-Ot"
INSTRUMENT_HOST_ID = MEX
INSTRUMENT_HOST_NAME = "MARS EXPRESS"
INSTRUMENT_ID = HRSC
INSTRUMENT_NAME = "HIGH RESOLUTION STEREO CAMERA"
MISSION_NAME = "MARS EXPRESS"
MISSION_PHASE_NAME = ME_Phase_13
PROCESSING_LEVEL_ID = 4
PRODUCT_CREATION_TIME = 2023-02-03T16:04:45.000Z
PRODUCT_ID = "H5710_0000_P14.TIF"
RELEASE_ID = 0003
REVISION_ID = 0000
/* QUALITY DATA ELEMENTS */
DATA_QUALITY_ID = 1
DATA_QUALITY_DESC = "Data calculated based on original SPICE kernels"
/* TIME DATA ELEMENTS */
SPACECRAFT_CLOCK_START_COUNT = "1/0161390228.08262"
SPACECRAFT_CLOCK_STOP_COUNT = "1/0161390399.00845"
START_TIME = 2008-06-12T22:38:06.783Z
STOP_TIME = 2008-06-12T22:39:47.724Z
/* ORBITAL DATA ELEMENTS */
ASCENDING_NODE_LONGITUDE = 109.68
MAXIMUM_RESOLUTION = 0.0613
FOOTPRINT_POINT_LATITUDE = (78.8472,78.9298,79.0206,79.06,79.11, 79.1543,79.1959,79.1986,79.1207,79.2785 ,79.5078,79.6331,79.7582,79.8832, 80.0081,80.1327,80.2572,80.3815,80.5057 ,80.6297,80.7536,80.9391,81.124,81.247, 81.3698,81.4924,81.6148,81.7369,81.8588 ,81.9804,82.1018,82.2229,82.3437, 82.4642,82.5845,82.7044,82.8239,82.9432 ,83.0621,83.2399,83.3579,83.4755, 83.5927,83.7094,83.9414,84.114,84.2854, 84.4555,84.6242,84.8465,85.0116,85.0659 ,85.1049,84.9877,84.9072,84.7614, 84.5927,84.4237,84.2653,84.2563,84.2526 ,84.0681,83.9264,83.7823,83.5861, 83.3857,83.1816,82.974,82.7631,82.6566, 82.5494,82.4415,82.333,82.2238,82.114, 82.0037,81.8927,81.7812,81.6692,81.5567 ,81.4436,81.3301,81.159,80.9869,80.8139 ,80.64,80.5236,80.4068,80.2309,80.0542, 79.8769,79.7583,79.6393,79.4604,79.2808 ,79.1608,79.0405,78.8326,78.7821, 78.8472)
FOOTPRINT_POINT_LONGITUDE = (175.611,174.384,172.91,172.223,171.298 ,170.423,169.54,169.481,169.132,169.327 ,169.62,169.787,169.957,170.132,170.311 ,170.495,170.683,170.876,171.073, 171.277,171.486,171.81,172.147,172.38, 172.619,172.865,173.118,173.378,173.647 ,173.923,174.207,174.501,174.803, 175.115,175.437,175.77,176.113,176.468, 176.836,177.411,177.811,178.226,178.655 ,179.101,180.042,180.795,181.593,182.44 ,183.341,184.63,185.676,186.036,186.301 ,188.48,189.834,192.065,194.4,196.485, 198.252,198.347,198.372,196.7,195.513, 194.38,192.949,191.603,190.337,189.145, 188.021,187.483,186.961,186.454,185.961 ,185.481,185.015,184.562,184.122, 183.693,183.275,182.869,182.474,182.089 ,181.53,180.992,180.475,179.977,179.655 ,179.341,178.885,178.444,178.02,177.745 ,177.477,177.085,176.708,176.463, 176.223,175.823,175.728,175.611)
ORBIT_NUMBER = 5710
ORBITAL_ECCENTRICITY = 0.567
ORBITAL_INCLINATION = 86.76
ORBITAL_SEMIMAJOR_AXIS = 8639.5
PERIAPSIS_ALTITUDE = 358.82
PERIAPSIS_ARGUMENT_ANGLE = 73.99
PERIAPSIS_TIME = 2008-06-12T22:36:21.000Z
SPACECRAFT_ORIENTATION = (0.0,1.0,0.0)
^MEX_ORIENTATION_DESC = "MEX_ORIENTATION_DESC.TXT"
SPACECRAFT_POINTING_MODE = NADIR
^MEX_POINTING_DESC = "MEX_POINTING_DESC.TXT"
RIGHT_ASCENSION = -1e+32
DECLINATION = -1e+32
OFFSET_ANGLE = -1e+32
SPACECRAFT_SOLAR_DISTANCE = 2.48515e+08
TARGET_NAME = MARS
/* CAMERA DATA ELEMENTS */
DETECTOR_TEMPERATURE = 16.9432
FOCAL_PLANE_TEMPERATURE = 7.3599
INST_CMPRS_NAME = "DISCRETE COSINE TRANSFORMATION (DCT)"
INST_CMPRS_RATIO = 3.72329
INST_CMPRS_QUALITY = 0
INST_CMPRS_QUANTZ_TBL_ID = 0
INSTRUMENT_TEMPERATURE = 11.0301
LENS_TEMPERATURE = 7.7677
MACROPIXEL_SIZE = 4
MISSING_FRAMES = 0
PIXEL_SUBSAMPLING_FLAG = N
SIGNAL_CHAIN_ID = 3
/* RADIOMETRIC DATA ELEMENTS */
BANDWIDTH = 174.0
CENTER_FILTER_WAVELENGTH = 675.0
RADIANCE_OFFSET = 1.8188
RADIANCE_SCALING_FACTOR = 0.0174985
REFLECTANCE_SCALING_FACTOR = 0.000581288
MEX:REFLECTANCE_OFFSET = 0.0604193
/* IMAGE OBJECT DEFINITIONS */
OBJECT = IMAGE
  INTERCHANGE_FORMAT = BINARY
  LINES = 7522
  LINE_SAMPLES = 4491
  SAMPLE_TYPE = UNSIGNED_INTEGER
  SAMPLE_BITS = 8
  BANDS = 1
  BAND_STORAGE_TYPE = BAND_SEQUENTIAL
  MAXIMUM = 255
  MEAN = 147.808
  MINIMUM = 1
  STANDARD_DEVIATION = 77.2961
END_OBJECT = IMAGE
/* MAP OBJECT DEFINITIONS */
OBJECT = IMAGE_MAP_PROJECTION
  ^DATA_SET_MAP_PROJECTION_CATALOG= "DSMAP.CAT"
  A_AXIS_RADIUS = 3396.0
  B_AXIS_RADIUS = 3396.0
  C_AXIS_RADIUS = 3396.0
  CENTER_LATITUDE = 0.0
  CENTER_LONGITUDE = 179.0
  COORDINATE_SYSTEM_NAME = PLANETOGRAPHIC
  COORDINATE_SYSTEM_TYPE = "BODY-FIXED ROTATING"
  EASTERNMOST_LONGITUDE = 198.372
  FIRST_STANDARD_PARALLEL = "N/A"
  LINE_FIRST_PIXEL = 1
  LINE_LAST_PIXEL = 7522
  LINE_PROJECTION_OFFSET = 100884.625
  MAP_PROJECTION_ROTATION = 0.0
  MAP_PROJECTION_TYPE = SINUSOIDAL
  MAP_RESOLUTION = 1185.42760773333
  MAP_SCALE = 0.05
  MAXIMUM_LATITUDE = 85.1049
  MINIMUM_LATITUDE = 78.7821
  POSITIVE_LONGITUDE_DIRECTION = EAST
  REFERENCE_LATITUDE = "N/A"
  REFERENCE_LONGITUDE = "N/A"
  SAMPLE_FIRST_PIXEL = 1
  SAMPLE_LAST_PIXEL = 4491
  SAMPLE_PROJECTION_OFFSET = 2199.375
  SECOND_STANDARD_PARALLEL = "N/A"
  WESTERNMOST_LONGITUDE = 169.132
END_OBJECT = IMAGE_MAP_PROJECTION
END
