PDS_VERSION_ID = PDS3
/* FILE DATA ELEMENTS */
RECORD_TYPE = UNDEFINED
/* POINTERS TO DATA OBJECTS */
^IMAGE = ("H5710_0000_P24.TIF")
/* IDENTIFICATION DATA ELEMENTS */
DATA_SET_ID = "MEX-M-HRSC-4-REFDR-MAPPROJECT-EXT2-V4.0"
DATA_SET_NAME = "MARS EXPRESS HRSC MAP PROJECTED REFDR EXTENSION2 V4.0"
DETECTOR_ID = MEX_HRSC_P2
EVENT_TYPE = "MARS-REGIONAL-MAPPING-Eo-Ot"
INSTRUMENT_HOST_ID = MEX
INSTRUMENT_HOST_NAME = "MARS EXPRESS"
INSTRUMENT_ID = HRSC
INSTRUMENT_NAME = "HIGH RESOLUTION STEREO CAMERA"
MISSION_NAME = "MARS EXPRESS"
MISSION_PHASE_NAME = ME_Phase_13
PROCESSING_LEVEL_ID = 4
PRODUCT_CREATION_TIME = 2023-02-03T16:04:45.000Z
PRODUCT_ID = "H5710_0000_P24.TIF"
RELEASE_ID = 0003
REVISION_ID = 0000
/* QUALITY DATA ELEMENTS */
DATA_QUALITY_ID = 1
DATA_QUALITY_DESC = "Data calculated based on original SPICE kernels"
/* TIME DATA ELEMENTS */
SPACECRAFT_CLOCK_START_COUNT = "1/0161390228.08262"
SPACECRAFT_CLOCK_STOP_COUNT = "1/0161390399.00845"
START_TIME = 2008-06-12T22:37:23.080Z
STOP_TIME = 2008-06-12T22:39:00.488Z
/* ORBITAL DATA ELEMENTS */
ASCENDING_NODE_LONGITUDE = 109.68
MAXIMUM_RESOLUTION = 0.0604
FOOTPRINT_POINT_LATITUDE = (78.702,78.7864,78.8331,78.8811,78.9503 ,78.9982,79.0329,79.0355,79.1406, 79.2531,79.3655,79.478,79.5902,79.7583, 79.8704,80.0383,80.1501,80.2619,80.3736 ,80.541,80.6523,80.7636,80.9303,81.0969 ,81.2633,81.4294,81.5951,81.7055, 81.8157,81.9808,82.1455,82.2741,82.4047 ,82.535,82.6649,82.8594,82.9885,83.1173 ,83.2457,83.3737,83.5013,83.6285, 83.7552,83.8815,84.0072,84.1323,84.257, 84.3808,84.5041,84.6872,84.8692,84.9886 ,85.0486,85.1007,84.9921,84.8222, 84.6776,84.5913,84.4375,84.2949,84.2864 ,84.2828,84.131,83.9759,83.8707,83.7641 ,83.6021,83.4927,83.3821,83.2705,83.158 ,82.9874,82.8726,82.757,82.6406,82.5235 ,82.4056,82.287,82.1079,81.9878,81.8065 ,81.685,81.5763,81.4223,81.3192,81.164, 81.0601,80.956,80.7993,80.642,80.4841, 80.2198,80.0606,79.7942,79.6338,79.3656 ,79.0964,78.8803,78.8261,78.702)
FOOTPRINT_POINT_LONGITUDE = (175.286,173.977,173.205,172.372, 171.082,170.117,169.374,169.316,169.198 ,169.339,169.482,169.629,169.779,170.01 ,170.168,170.413,170.581,170.752, 170.928,171.199,171.386,171.577,171.872 ,172.179,172.497,172.828,173.172, 173.409,173.653,174.031,174.425,174.746 ,175.082,175.431,175.792,176.359, 176.754,177.164,177.59,178.032,178.492, 178.971,179.469,179.987,180.528,181.092 ,181.68,182.295,182.937,183.956,185.048 ,185.819,186.22,186.575,188.544,191.363 ,193.453,194.615,196.537,198.17,198.264 ,198.288,196.904,195.593,194.754, 193.944,192.782,192.04,191.322,190.629, 189.959,188.995,188.378,187.782,187.205 ,186.645,186.103,185.578,184.821, 184.335,183.634,183.184,182.795,182.262 ,181.918,181.418,181.094,180.777, 180.317,179.872,179.443,178.759,178.367 ,177.741,177.381,176.807,176.263, 175.847,175.745,175.286)
ORBIT_NUMBER = 5710
ORBITAL_ECCENTRICITY = 0.567
ORBITAL_INCLINATION = 86.76
ORBITAL_SEMIMAJOR_AXIS = 8639.5
PERIAPSIS_ALTITUDE = 358.82
PERIAPSIS_ARGUMENT_ANGLE = 73.99
PERIAPSIS_TIME = 2008-06-12T22:36:21.000Z
SPACECRAFT_ORIENTATION = (0.0,1.0,0.0)
^MEX_ORIENTATION_DESC = "MEX_ORIENTATION_DESC.TXT"
SPACECRAFT_POINTING_MODE = NADIR
^MEX_POINTING_DESC = "MEX_POINTING_DESC.TXT"
RIGHT_ASCENSION = -1e+32
DECLINATION = -1e+32
OFFSET_ANGLE = -1e+32
SPACECRAFT_SOLAR_DISTANCE = 2.48515e+08
TARGET_NAME = MARS
/* CAMERA DATA ELEMENTS */
DETECTOR_TEMPERATURE = 17.9627
FOCAL_PLANE_TEMPERATURE = 7.3599
INST_CMPRS_NAME = "DISCRETE COSINE TRANSFORMATION (DCT)"
INST_CMPRS_RATIO = 3.90251
INST_CMPRS_QUALITY = 0
INST_CMPRS_QUANTZ_TBL_ID = 0
INSTRUMENT_TEMPERATURE = 11.0301
LENS_TEMPERATURE = 7.7677
MACROPIXEL_SIZE = 4
MISSING_FRAMES = 0
PIXEL_SUBSAMPLING_FLAG = N
SIGNAL_CHAIN_ID = 3
/* RADIOMETRIC DATA ELEMENTS */
BANDWIDTH = 177.0
CENTER_FILTER_WAVELENGTH = 676.5
RADIANCE_OFFSET = 2.06983
RADIANCE_SCALING_FACTOR = 0.016234
REFLECTANCE_SCALING_FACTOR = 0.000531604
MEX:REFLECTANCE_OFFSET = 0.0677795
/* IMAGE OBJECT DEFINITIONS */
OBJECT = IMAGE
  INTERCHANGE_FORMAT = BINARY
  LINES = 7522
  LINE_SAMPLES = 4491
  SAMPLE_TYPE = UNSIGNED_INTEGER
  SAMPLE_BITS = 8
  BANDS = 1
  BAND_STORAGE_TYPE = BAND_SEQUENTIAL
  MAXIMUM = 255
  MEAN = 155.427
  MINIMUM = 1
  STANDARD_DEVIATION = 79.9773
END_OBJECT = IMAGE
/* MAP OBJECT DEFINITIONS */
OBJECT = IMAGE_MAP_PROJECTION
  ^DATA_SET_MAP_PROJECTION_CATALOG= "DSMAP.CAT"
  A_AXIS_RADIUS = 3396.0
  B_AXIS_RADIUS = 3396.0
  C_AXIS_RADIUS = 3396.0
  CENTER_LATITUDE = 0.0
  CENTER_LONGITUDE = 179.0
  COORDINATE_SYSTEM_NAME = PLANETOGRAPHIC
  COORDINATE_SYSTEM_TYPE = "BODY-FIXED ROTATING"
  EASTERNMOST_LONGITUDE = 198.288
  FIRST_STANDARD_PARALLEL = "N/A"
  LINE_FIRST_PIXEL = 1
  LINE_LAST_PIXEL = 7522
  LINE_PROJECTION_OFFSET = 100884.625
  MAP_PROJECTION_ROTATION = 0.0
  MAP_PROJECTION_TYPE = SINUSOIDAL
  MAP_RESOLUTION = 1185.42760773333
  MAP_SCALE = 0.05
  MAXIMUM_LATITUDE = 85.1007
  MINIMUM_LATITUDE = 78.702
  POSITIVE_LONGITUDE_DIRECTION = EAST
  REFERENCE_LATITUDE = "N/A"
  REFERENCE_LONGITUDE = "N/A"
  SAMPLE_FIRST_PIXEL = 1
  SAMPLE_LAST_PIXEL = 4491
  SAMPLE_PROJECTION_OFFSET = 2199.375
  SECOND_STANDARD_PARALLEL = "N/A"
  WESTERNMOST_LONGITUDE = 169.198
END_OBJECT = IMAGE_MAP_PROJECTION
END
