PDS_VERSION_ID = PDS3
/* FILE DATA ELEMENTS */
RECORD_TYPE = UNDEFINED
/* POINTERS TO DATA OBJECTS */
^IMAGE = ("H5710_0000_S14.TIF")
/* IDENTIFICATION DATA ELEMENTS */
DATA_SET_ID = "MEX-M-HRSC-4-REFDR-MAPPROJECT-EXT2-V4.0"
DATA_SET_NAME = "MARS EXPRESS HRSC MAP PROJECTED REFDR EXTENSION2 V4.0"
DETECTOR_ID = MEX_HRSC_S1
EVENT_TYPE = "MARS-REGIONAL-MAPPING-Eo-Ot"
INSTRUMENT_HOST_ID = MEX
INSTRUMENT_HOST_NAME = "MARS EXPRESS"
INSTRUMENT_ID = HRSC
INSTRUMENT_NAME = "HIGH RESOLUTION STEREO CAMERA"
MISSION_NAME = "MARS EXPRESS"
MISSION_PHASE_NAME = ME_Phase_13
PROCESSING_LEVEL_ID = 4
PRODUCT_CREATION_TIME = 2023-02-03T16:04:45.000Z
PRODUCT_ID = "H5710_0000_S14.TIF"
RELEASE_ID = 0003
REVISION_ID = 0000
/* QUALITY DATA ELEMENTS */
DATA_QUALITY_ID = 1
DATA_QUALITY_DESC = "Data calculated based on original SPICE kernels"
/* TIME DATA ELEMENTS */
SPACECRAFT_CLOCK_START_COUNT = "1/0161390228.08262"
SPACECRAFT_CLOCK_STOP_COUNT = "1/0161390399.00845"
START_TIME = 2008-06-12T22:38:18.324Z
STOP_TIME = 2008-06-12T22:40:00.555Z
/* ORBITAL DATA ELEMENTS */
ASCENDING_NODE_LONGITUDE = 109.68
MAXIMUM_RESOLUTION = 0.0319
FOOTPRINT_POINT_LATITUDE = (78.8755,78.9632,79.0196,79.0904, 79.1433,79.193,79.2309,79.2338,79.1076, 79.2332,79.3585,79.5462,79.6714,79.8588 ,79.9835,80.108,80.2324,80.3565,80.4804 ,80.6043,80.7897,80.9132,81.0364, 81.1592,81.2818,81.4042,81.5264,81.6483 ,81.77,81.8914,82.0126,82.1334,82.254, 82.3743,82.4942,82.6139,82.7332,82.9115 ,83.03,83.1482,83.266,83.3833,83.5003, 83.6168,83.8484,84.078,84.3053,84.53, 84.753,85.0267,85.0808,85.1017,85.0224, 84.9477,84.8285,84.6375,84.4251,84.2485 ,84.239,84.2352,84.0521,83.9117,83.7207 ,83.5742,83.3754,83.1216,82.9148, 82.7047,82.4917,82.2761,82.1674,82.058, 81.948,81.8375,81.7264,81.6147,81.5026, 81.3899,81.2767,81.1631,81.049,80.9345, 80.8195,80.7042,80.5884,80.4723,80.3558 ,80.2388,80.0627,79.9449,79.7677, 79.6491,79.5301,79.4109,79.2913,79.1115 ,78.9913,78.8107,78.7504,78.8755)
FOOTPRINT_POINT_LONGITUDE = (175.679,174.387,173.495,172.291, 171.317,170.333,169.526,169.464,169.043 ,169.196,169.352,169.593,169.759, 170.015,170.192,170.372,170.558,170.747 ,170.942,171.142,171.452,171.666, 171.886,172.111,172.342,172.58,172.825, 173.077,173.336,173.603,173.877,174.16, 174.452,174.752,175.062,175.382,175.713 ,176.228,176.587,176.958,177.341, 177.739,178.15,178.576,179.475,180.442, 181.486,182.611,183.842,185.522,185.879 ,186.02,187.522,188.857,190.759,193.527 ,196.201,198.171,198.271,198.304,196.65 ,195.476,193.994,192.938,191.604, 190.044,188.877,187.776,186.737,185.755 ,185.284,184.826,184.38,183.947,183.525 ,183.114,182.714,182.324,181.945, 181.575,181.214,180.863,180.52,180.186, 179.86,179.542,179.232,178.929,178.488, 178.203,177.788,177.519,177.256,176.999 ,176.748,176.381,176.144,175.797, 175.685,175.679)
ORBIT_NUMBER = 5710
ORBITAL_ECCENTRICITY = 0.567
ORBITAL_INCLINATION = 86.76
ORBITAL_SEMIMAJOR_AXIS = 8639.5
PERIAPSIS_ALTITUDE = 358.82
PERIAPSIS_ARGUMENT_ANGLE = 73.99
PERIAPSIS_TIME = 2008-06-12T22:36:21.000Z
SPACECRAFT_ORIENTATION = (0.0,1.0,0.0)
^MEX_ORIENTATION_DESC = "MEX_ORIENTATION_DESC.TXT"
SPACECRAFT_POINTING_MODE = NADIR
^MEX_POINTING_DESC = "MEX_POINTING_DESC.TXT"
RIGHT_ASCENSION = -1e+32
DECLINATION = -1e+32
OFFSET_ANGLE = -1e+32
SPACECRAFT_SOLAR_DISTANCE = 2.48515e+08
TARGET_NAME = MARS
/* CAMERA DATA ELEMENTS */
DETECTOR_TEMPERATURE = 16.9432
FOCAL_PLANE_TEMPERATURE = 7.3599
INST_CMPRS_NAME = "DISCRETE COSINE TRANSFORMATION (DCT)"
INST_CMPRS_RATIO = 5.35086
INST_CMPRS_QUALITY = 0
INST_CMPRS_QUANTZ_TBL_ID = 0
INSTRUMENT_TEMPERATURE = 11.0301
LENS_TEMPERATURE = 7.7677
MACROPIXEL_SIZE = 2
MISSING_FRAMES = 0
PIXEL_SUBSAMPLING_FLAG = N
SIGNAL_CHAIN_ID = 1
/* RADIOMETRIC DATA ELEMENTS */
BANDWIDTH = 180.0
CENTER_FILTER_WAVELENGTH = 677.0
RADIANCE_OFFSET = 1.93466
RADIANCE_SCALING_FACTOR = 0.0190447
REFLECTANCE_SCALING_FACTOR = 0.000613649
MEX:REFLECTANCE_OFFSET = 0.0623378
/* IMAGE OBJECT DEFINITIONS */
OBJECT = IMAGE
  INTERCHANGE_FORMAT = BINARY
  LINES = 15043
  LINE_SAMPLES = 8982
  SAMPLE_TYPE = UNSIGNED_INTEGER
  SAMPLE_BITS = 8
  BANDS = 1
  BAND_STORAGE_TYPE = BAND_SEQUENTIAL
  MAXIMUM = 255
  MEAN = 146.13
  MINIMUM = 1
  STANDARD_DEVIATION = 74.818
END_OBJECT = IMAGE
/* MAP OBJECT DEFINITIONS */
OBJECT = IMAGE_MAP_PROJECTION
  ^DATA_SET_MAP_PROJECTION_CATALOG= "DSMAP.CAT"
  A_AXIS_RADIUS = 3396.0
  B_AXIS_RADIUS = 3396.0
  C_AXIS_RADIUS = 3396.0
  CENTER_LATITUDE = 0.0
  CENTER_LONGITUDE = 179.0
  COORDINATE_SYSTEM_NAME = PLANETOGRAPHIC
  COORDINATE_SYSTEM_TYPE = "BODY-FIXED ROTATING"
  EASTERNMOST_LONGITUDE = 198.304
  FIRST_STANDARD_PARALLEL = "N/A"
  LINE_FIRST_PIXEL = 1
  LINE_LAST_PIXEL = 15043
  LINE_PROJECTION_OFFSET = 201769.75
  MAP_PROJECTION_ROTATION = 0.0
  MAP_PROJECTION_TYPE = SINUSOIDAL
  MAP_RESOLUTION = 2370.85521546667
  MAP_SCALE = 0.025
  MAXIMUM_LATITUDE = 85.10169999999999
  MINIMUM_LATITUDE = 78.7504
  POSITIVE_LONGITUDE_DIRECTION = EAST
  REFERENCE_LATITUDE = "N/A"
  REFERENCE_LONGITUDE = "N/A"
  SAMPLE_FIRST_PIXEL = 1
  SAMPLE_LAST_PIXEL = 8982
  SAMPLE_PROJECTION_OFFSET = 4399.25
  SECOND_STANDARD_PARALLEL = "N/A"
  WESTERNMOST_LONGITUDE = 169.043
END_OBJECT = IMAGE_MAP_PROJECTION
END
