PDS_VERSION_ID = PDS3
/* FILE DATA ELEMENTS */
RECORD_TYPE = UNDEFINED
/* POINTERS TO DATA OBJECTS */
^IMAGE = ("H5711_0000_IR4.TIF")
/* IDENTIFICATION DATA ELEMENTS */
DATA_SET_ID = "MEX-M-HRSC-4-REFDR-MAPPROJECT-EXT2-V4.0"
DATA_SET_NAME = "MARS EXPRESS HRSC MAP PROJECTED REFDR EXTENSION2 V4.0"
DETECTOR_ID = MEX_HRSC_IR
EVENT_TYPE = "MARS-REGIONAL-MAPPING-Gl-Pf-Eo"
INSTRUMENT_HOST_ID = MEX
INSTRUMENT_HOST_NAME = "MARS EXPRESS"
INSTRUMENT_ID = HRSC
INSTRUMENT_NAME = "HIGH RESOLUTION STEREO CAMERA"
MISSION_NAME = "MARS EXPRESS"
MISSION_PHASE_NAME = ME_Phase_13
PROCESSING_LEVEL_ID = 4
PRODUCT_CREATION_TIME = 2023-02-03T16:04:45.000Z
PRODUCT_ID = "H5711_0000_IR4.TIF"
RELEASE_ID = 0003
REVISION_ID = 0000
/* QUALITY DATA ELEMENTS */
DATA_QUALITY_ID = 1
DATA_QUALITY_DESC = "Data calculated based on original SPICE kernels"
/* TIME DATA ELEMENTS */
SPACECRAFT_CLOCK_START_COUNT = "1/0161415184.08279"
SPACECRAFT_CLOCK_STOP_COUNT = "1/0161415437.47098"
START_TIME = 2008-06-13T05:34:39.178Z
STOP_TIME = 2008-06-13T05:37:05.829Z
/* ORBITAL DATA ELEMENTS */
ASCENDING_NODE_LONGITUDE = 109.67
MAXIMUM_RESOLUTION = 0.0919
FOOTPRINT_POINT_LATITUDE = (78.3819,78.4769,78.5953,78.6889, 78.7573,78.8347,78.8699,78.8733,79.0032 ,78.796,78.514,78.2325,77.9471,77.5194, 77.3019,76.9401,76.7222,76.4285,76.2814 ,76.1321,75.983,75.8346,75.6861,75.5353 ,75.3091,75.1587,75.0067,74.8542, 74.6254,74.4716,74.3169,74.1624,73.9292 ,73.7726,73.616,73.4605,73.3026,73.1441 ,72.986,72.8268,72.5878,72.428,72.2664, 72.1046,71.8618,71.6985,71.4541,71.3717 ,71.3284,71.3008,71.2794,71.2504, 71.2279,71.2014,71.1756,71.149,71.1096, 71.0794,71.0518,70.9934,70.9892,70.9891 ,71.2315,71.4723,71.6328,71.7905, 71.9499,72.1086,72.2653,72.4223,72.5795 ,72.8119,72.9671,73.1216,73.3515, 73.5047,73.7328,73.8842,74.0352,74.2613 ,74.4105,74.5602,74.7094,74.93,75.0773, 75.2245,75.4421,75.5873,75.8056,76.1636 ,76.4488,76.728,77.0166,77.29,77.4943, 77.7703,78.1103,78.3807,78.4474, 78.3819)
FOOTPRINT_POINT_LONGITUDE = (213.432,214.809,216.705,218.383, 219.742,221.465,222.336,222.423,222.556 ,222.797,223.109,223.406,223.69,224.095 ,224.288,224.598,224.778,225.008, 225.118,225.228,225.335,225.441,225.544 ,225.646,225.795,225.892,225.987, 226.082,226.219,226.308,226.397,226.483 ,226.609,226.692,226.774,226.854, 226.934,227.011,227.087,227.162,227.274 ,227.345,227.417,227.487,227.59,227.658 ,227.757,227.79,227.807,226.916,226.298 ,225.545,224.999,224.387,223.844, 223.301,222.558,222.02,221.55,220.613, 220.546,220.523,220.385,220.244,220.147 ,220.052,219.951,219.85,219.748,219.643 ,219.536,219.374,219.263,219.15,218.977 ,218.859,218.678,218.555,218.43,218.235 ,218.105,217.97,217.833,217.625,217.482 ,217.337,217.116,216.963,216.727, 216.322,215.983,215.64,215.247,214.879, 214.594,214.177,213.638,213.183,213.067 ,213.432)
ORBIT_NUMBER = 5711
ORBITAL_ECCENTRICITY = 0.568
ORBITAL_INCLINATION = 86.76
ORBITAL_SEMIMAJOR_AXIS = 8642.58
PERIAPSIS_ALTITUDE = 357.9
PERIAPSIS_ARGUMENT_ANGLE = 73.81
PERIAPSIS_TIME = 2008-06-13T05:26:49.000Z
SPACECRAFT_ORIENTATION = (0.0,1.0,0.0)
^MEX_ORIENTATION_DESC = "MEX_ORIENTATION_DESC.TXT"
SPACECRAFT_POINTING_MODE = NADIR
^MEX_POINTING_DESC = "MEX_POINTING_DESC.TXT"
RIGHT_ASCENSION = -1e+32
DECLINATION = -1e+32
OFFSET_ANGLE = -1e+32
SPACECRAFT_SOLAR_DISTANCE = 2.48502e+08
TARGET_NAME = MARS
/* CAMERA DATA ELEMENTS */
DETECTOR_TEMPERATURE = 17.1471
FOCAL_PLANE_TEMPERATURE = 7.5638
INST_CMPRS_NAME = "DISCRETE COSINE TRANSFORMATION (DCT)"
INST_CMPRS_RATIO = 23.8627
INST_CMPRS_QUALITY = 0
INST_CMPRS_QUANTZ_TBL_ID = 0
INSTRUMENT_TEMPERATURE = 10.8262
LENS_TEMPERATURE = 7.7677
MACROPIXEL_SIZE = 4
MISSING_FRAMES = 0
PIXEL_SUBSAMPLING_FLAG = N
SIGNAL_CHAIN_ID = 2
/* RADIOMETRIC DATA ELEMENTS */
BANDWIDTH = 81.0
CENTER_FILTER_WAVELENGTH = 955.5
RADIANCE_OFFSET = 0.739327
RADIANCE_SCALING_FACTOR = 0.00733357
REFLECTANCE_SCALING_FACTOR = 0.000977021
MEX:REFLECTANCE_OFFSET = 0.0984973
/* IMAGE OBJECT DEFINITIONS */
OBJECT = IMAGE
  INTERCHANGE_FORMAT = BINARY
  LINES = 4741
  LINE_SAMPLES = 2069
  SAMPLE_TYPE = UNSIGNED_INTEGER
  SAMPLE_BITS = 8
  BANDS = 1
  BAND_STORAGE_TYPE = BAND_SEQUENTIAL
  MAXIMUM = 255
  MEAN = 93.1455
  MINIMUM = 1
  STANDARD_DEVIATION = 22.459
END_OBJECT = IMAGE
/* MAP OBJECT DEFINITIONS */
OBJECT = IMAGE_MAP_PROJECTION
  ^DATA_SET_MAP_PROJECTION_CATALOG= "DSMAP.CAT"
  A_AXIS_RADIUS = 3396.0
  B_AXIS_RADIUS = 3396.0
  C_AXIS_RADIUS = 3396.0
  CENTER_LATITUDE = 0.0
  CENTER_LONGITUDE = 222.0
  COORDINATE_SYSTEM_NAME = PLANETOGRAPHIC
  COORDINATE_SYSTEM_TYPE = "BODY-FIXED ROTATING"
  EASTERNMOST_LONGITUDE = 227.807
  FIRST_STANDARD_PARALLEL = "N/A"
  LINE_FIRST_PIXEL = 1
  LINE_LAST_PIXEL = 4741
  LINE_PROJECTION_OFFSET = 46807.875
  MAP_PROJECTION_ROTATION = 0.0
  MAP_PROJECTION_TYPE = SINUSOIDAL
  MAP_RESOLUTION = 592.713803866667
  MAP_SCALE = 0.1
  MAXIMUM_LATITUDE = 79.00320000000001
  MINIMUM_LATITUDE = 70.98909999999999
  POSITIVE_LONGITUDE_DIRECTION = EAST
  REFERENCE_LATITUDE = "N/A"
  REFERENCE_LONGITUDE = "N/A"
  SAMPLE_FIRST_PIXEL = 1
  SAMPLE_LAST_PIXEL = 2069
  SAMPLE_PROJECTION_OFFSET = 1027.875
  SECOND_STANDARD_PARALLEL = "N/A"
  WESTERNMOST_LONGITUDE = 213.067
END_OBJECT = IMAGE_MAP_PROJECTION
END
