PDS_VERSION_ID = PDS3
/* FILE DATA ELEMENTS */
RECORD_TYPE = UNDEFINED
/* POINTERS TO DATA OBJECTS */
^IMAGE = ("H5711_0000_P14.TIF")
/* IDENTIFICATION DATA ELEMENTS */
DATA_SET_ID = "MEX-M-HRSC-4-REFDR-MAPPROJECT-EXT2-V4.0"
DATA_SET_NAME = "MARS EXPRESS HRSC MAP PROJECTED REFDR EXTENSION2 V4.0"
DETECTOR_ID = MEX_HRSC_P1
EVENT_TYPE = "MARS-REGIONAL-MAPPING-Gl-Pf-Eo"
INSTRUMENT_HOST_ID = MEX
INSTRUMENT_HOST_NAME = "MARS EXPRESS"
INSTRUMENT_ID = HRSC
INSTRUMENT_NAME = "HIGH RESOLUTION STEREO CAMERA"
MISSION_NAME = "MARS EXPRESS"
MISSION_PHASE_NAME = ME_Phase_13
PROCESSING_LEVEL_ID = 4
PRODUCT_CREATION_TIME = 2023-02-03T16:04:45.000Z
PRODUCT_ID = "H5711_0000_P14.TIF"
RELEASE_ID = 0003
REVISION_ID = 0000
/* QUALITY DATA ELEMENTS */
DATA_QUALITY_ID = 1
DATA_QUALITY_DESC = "Data calculated based on original SPICE kernels"
/* TIME DATA ELEMENTS */
SPACECRAFT_CLOCK_START_COUNT = "1/0161415184.08279"
SPACECRAFT_CLOCK_STOP_COUNT = "1/0161415437.47098"
START_TIME = 2008-06-13T05:34:29.458Z
STOP_TIME = 2008-06-13T05:36:52.622Z
/* ORBITAL DATA ELEMENTS */
ASCENDING_NODE_LONGITUDE = 109.67
MAXIMUM_RESOLUTION = 0.0446
FOOTPRINT_POINT_LATITUDE = (78.3982,78.4565,78.5234,78.6075, 78.6666,78.7703,78.8311,78.8829,78.8864 ,78.991,78.566,78.282,77.9932,77.7763, 77.5602,77.2672,76.9028,76.5311,76.2322 ,76.0816,75.8557,75.7053,75.553,75.4002 ,75.2475,75.0952,74.9405,74.7861,74.554 ,74.3194,74.1626,73.9274,73.7682, 73.6094,73.4514,73.2919,73.131,72.9704, 72.8101,72.6481,72.4858,72.3235,72.0775 ,71.9132,71.7488,71.5828,71.4169,71.334 ,71.327,71.3005,71.2809,71.2515,71.2282 ,71.1972,71.1706,71.1207,71.0861, 71.0286,70.9936,70.9891,70.9882,71.2336 ,71.3971,71.5594,71.7199,71.8822, 72.0423,72.2018,72.3615,72.5989,72.8354 ,72.9932,73.1485,73.3041,73.46,73.6148, 73.7677,73.9216,74.0752,74.2271,74.3784 ,74.5301,74.6815,74.8303,74.9797,75.129 ,75.2775,75.5713,75.8658,76.0829, 76.3723,76.587,76.8739,77.2256,77.5029, 77.7831,78.0575,78.4006,78.468,78.3982)
FOOTPRINT_POINT_LONGITUDE = (213.461,214.29,215.293,216.647,217.676 ,219.673,220.995,222.242,222.332, 222.495,222.979,223.281,223.571,223.78, 223.982,224.245,224.557,224.855,225.08, 225.191,225.352,225.457,225.56,225.662, 225.761,225.858,225.954,226.049,226.186 ,226.32,226.408,226.536,226.619,226.702 ,226.783,226.863,226.941,227.018, 227.094,227.169,227.243,227.315,227.422 ,227.491,227.559,227.627,227.693, 227.726,227.729,226.889,226.329,225.562 ,225.006,224.313,223.76,222.795,222.178 ,221.221,220.676,220.608,220.584, 220.443,220.348,220.251,220.155,220.053 ,219.951,219.848,219.743,219.581, 219.416,219.302,219.188,219.071,218.952 ,218.83,218.708,218.582,218.454,218.323 ,218.191,218.055,217.916,217.779, 217.635,217.49,217.342,217.039,216.719, 216.474,216.134,215.872,215.499,215.029 ,214.64,214.217,213.784,213.209,213.092 ,213.461)
ORBIT_NUMBER = 5711
ORBITAL_ECCENTRICITY = 0.568
ORBITAL_INCLINATION = 86.76
ORBITAL_SEMIMAJOR_AXIS = 8642.58
PERIAPSIS_ALTITUDE = 357.9
PERIAPSIS_ARGUMENT_ANGLE = 73.81
PERIAPSIS_TIME = 2008-06-13T05:26:49.000Z
SPACECRAFT_ORIENTATION = (0.0,1.0,0.0)
^MEX_ORIENTATION_DESC = "MEX_ORIENTATION_DESC.TXT"
SPACECRAFT_POINTING_MODE = NADIR
^MEX_POINTING_DESC = "MEX_POINTING_DESC.TXT"
RIGHT_ASCENSION = -1e+32
DECLINATION = -1e+32
OFFSET_ANGLE = -1e+32
SPACECRAFT_SOLAR_DISTANCE = 2.48502e+08
TARGET_NAME = MARS
/* CAMERA DATA ELEMENTS */
DETECTOR_TEMPERATURE = 17.1471
FOCAL_PLANE_TEMPERATURE = 7.5638
INST_CMPRS_NAME = "DISCRETE COSINE TRANSFORMATION (DCT)"
INST_CMPRS_RATIO = 15.1548
INST_CMPRS_QUALITY = 0
INST_CMPRS_QUANTZ_TBL_ID = 0
INSTRUMENT_TEMPERATURE = 10.8262
LENS_TEMPERATURE = 7.7677
MACROPIXEL_SIZE = 2
MISSING_FRAMES = 0
PIXEL_SUBSAMPLING_FLAG = N
SIGNAL_CHAIN_ID = 3
/* RADIOMETRIC DATA ELEMENTS */
BANDWIDTH = 174.0
CENTER_FILTER_WAVELENGTH = 675.0
RADIANCE_OFFSET = 3.30952
RADIANCE_SCALING_FACTOR = 0.0287382
REFLECTANCE_SCALING_FACTOR = 0.000954557
MEX:REFLECTANCE_OFFSET = 0.109928
/* IMAGE OBJECT DEFINITIONS */
OBJECT = IMAGE
  INTERCHANGE_FORMAT = BINARY
  LINES = 9482
  LINE_SAMPLES = 4138
  SAMPLE_TYPE = UNSIGNED_INTEGER
  SAMPLE_BITS = 8
  BANDS = 1
  BAND_STORAGE_TYPE = BAND_SEQUENTIAL
  MAXIMUM = 255
  MEAN = 80.901
  MINIMUM = 1
  STANDARD_DEVIATION = 21.358
END_OBJECT = IMAGE
/* MAP OBJECT DEFINITIONS */
OBJECT = IMAGE_MAP_PROJECTION
  ^DATA_SET_MAP_PROJECTION_CATALOG= "DSMAP.CAT"
  A_AXIS_RADIUS = 3396.0
  B_AXIS_RADIUS = 3396.0
  C_AXIS_RADIUS = 3396.0
  CENTER_LATITUDE = 0.0
  CENTER_LONGITUDE = 222.0
  COORDINATE_SYSTEM_NAME = PLANETOGRAPHIC
  COORDINATE_SYSTEM_TYPE = "BODY-FIXED ROTATING"
  EASTERNMOST_LONGITUDE = 227.729
  FIRST_STANDARD_PARALLEL = "N/A"
  LINE_FIRST_PIXEL = 1
  LINE_LAST_PIXEL = 9482
  LINE_PROJECTION_OFFSET = 93616.25
  MAP_PROJECTION_ROTATION = 0.0
  MAP_PROJECTION_TYPE = SINUSOIDAL
  MAP_RESOLUTION = 1185.42760773333
  MAP_SCALE = 0.05
  MAXIMUM_LATITUDE = 78.991
  MINIMUM_LATITUDE = 70.98820000000001
  POSITIVE_LONGITUDE_DIRECTION = EAST
  REFERENCE_LATITUDE = "N/A"
  REFERENCE_LONGITUDE = "N/A"
  SAMPLE_FIRST_PIXEL = 1
  SAMPLE_LAST_PIXEL = 4138
  SAMPLE_PROJECTION_OFFSET = 2056.25
  SECOND_STANDARD_PARALLEL = "N/A"
  WESTERNMOST_LONGITUDE = 213.092
END_OBJECT = IMAGE_MAP_PROJECTION
END
