PDS_VERSION_ID = PDS3
/* FILE DATA ELEMENTS */
RECORD_TYPE = UNDEFINED
/* POINTERS TO DATA OBJECTS */
^IMAGE = ("H5715_0000_S14.TIF")
/* IDENTIFICATION DATA ELEMENTS */
DATA_SET_ID = "MEX-M-HRSC-4-REFDR-MAPPROJECT-EXT2-V4.0"
DATA_SET_NAME = "MARS EXPRESS HRSC MAP PROJECTED REFDR EXTENSION2 V4.0"
DETECTOR_ID = MEX_HRSC_S1
EVENT_TYPE = "MARS-REGIONAL-MAPPING-Gl-Eo-Ot"
INSTRUMENT_HOST_ID = MEX
INSTRUMENT_HOST_NAME = "MARS EXPRESS"
INSTRUMENT_ID = HRSC
INSTRUMENT_NAME = "HIGH RESOLUTION STEREO CAMERA"
MISSION_NAME = "MARS EXPRESS"
MISSION_PHASE_NAME = ME_Phase_13
PROCESSING_LEVEL_ID = 4
PRODUCT_CREATION_TIME = 2023-02-03T16:04:45.000Z
PRODUCT_ID = "H5715_0000_S14.TIF"
RELEASE_ID = 0003
REVISION_ID = 0000
/* QUALITY DATA ELEMENTS */
DATA_QUALITY_ID = 1
DATA_QUALITY_DESC = "Data calculated based on original SPICE kernels"
/* TIME DATA ELEMENTS */
SPACECRAFT_CLOCK_START_COUNT = "1/0161513614.09057"
SPACECRAFT_CLOCK_STOP_COUNT = "1/0161513833.34253"
START_TIME = 2008-06-14T08:55:03.824Z
STOP_TIME = 2008-06-14T08:57:15.057Z
/* ORBITAL DATA ELEMENTS */
ASCENDING_NODE_LONGITUDE = 109.58
MAXIMUM_RESOLUTION = 0.0407
FOOTPRINT_POINT_LATITUDE = (84.4344,84.6522,84.8198,85.0495, 85.2005,85.291,85.4372,85.4455,85.5885, 85.3607,85.1316,84.8908,84.5243,84.2724 ,84.0176,83.7612,83.5649,83.4332, 83.3012,83.1689,83.0365,82.8342,82.6983 ,82.5624,82.4263,82.2902,82.1521,82.013 ,81.8739,81.7347,81.5956,81.4545, 81.3125,81.1706,81.0287,80.8867,80.6701 ,80.5255,80.3809,80.2364,80.0166, 79.8695,79.7225,79.5757,79.4265,79.2025 ,79.053,78.9039,78.8283,78.7764,78.7056 ,78.6575,78.6206,78.5819,78.5254, 78.4765,78.3905,78.3358,78.2522,78.246, 78.2442,78.3908,78.5341,78.6776,78.821, 79.0355,79.2465,79.4572,79.5977,79.7352 ,79.8726,80.0098,80.1469,80.2831, 80.4172,80.5511,80.6848,80.8182,80.9501 ,81.0803,81.2103,81.3399,81.4692, 81.6599,81.7856,81.9109,82.0981,82.2221 ,82.4636,82.7028,82.9381,83.1664, 83.3912,83.6645,83.8753,84.0812,84.2318 ,84.4233,84.4701,84.4344)
FOOTPRINT_POINT_LONGITUDE = (147.855,150.177,152.168,155.255, 157.567,159.085,161.802,161.967,161.536 ,163.406,165.101,166.666,168.747, 170.003,171.153,172.207,172.952,173.425 ,173.879,174.314,174.732,175.339, 175.726,176.098,176.457,176.802,177.139 ,177.466,177.781,178.085,178.379, 178.667,178.946,179.216,179.478,179.73, 180.1,180.337,180.567,180.789,181.115, 181.325,181.528,181.725,181.92,182.201, 182.382,182.559,182.646,182.705,180.937 ,179.867,179.095,178.328,177.281, 176.432,175.031,174.2,173.016,172.924, 172.89,172.638,172.386,172.126,171.859, 171.444,171.019,170.574,170.266,169.956 ,169.637,169.308,168.969,168.621, 168.268,167.904,167.528,167.141,166.745 ,166.341,165.924,165.493,165.048, 164.362,163.89,163.401,162.637,162.106, 161.011,159.839,158.589,157.272,155.86, 153.964,152.344,150.603,149.216,147.29, 146.787,147.855)
ORBIT_NUMBER = 5715
ORBITAL_ECCENTRICITY = 0.568
ORBITAL_INCLINATION = 86.74
ORBITAL_SEMIMAJOR_AXIS = 8643.23
PERIAPSIS_ALTITUDE = 358.66
PERIAPSIS_ARGUMENT_ANGLE = 73.12
PERIAPSIS_TIME = 2008-06-14T08:48:57.000Z
SPACECRAFT_ORIENTATION = (0.0,1.0,0.0)
^MEX_ORIENTATION_DESC = "MEX_ORIENTATION_DESC.TXT"
SPACECRAFT_POINTING_MODE = NADIR
^MEX_POINTING_DESC = "MEX_POINTING_DESC.TXT"
RIGHT_ASCENSION = -1e+32
DECLINATION = -1e+32
OFFSET_ANGLE = -1e+32
SPACECRAFT_SOLAR_DISTANCE = 2.48448e+08
TARGET_NAME = MARS
/* CAMERA DATA ELEMENTS */
DETECTOR_TEMPERATURE = 16.9432
FOCAL_PLANE_TEMPERATURE = 7.3599
INST_CMPRS_NAME = "DISCRETE COSINE TRANSFORMATION (DCT)"
INST_CMPRS_RATIO = 5.24478
INST_CMPRS_QUALITY = 0
INST_CMPRS_QUANTZ_TBL_ID = 0
INSTRUMENT_TEMPERATURE = 10.6223
LENS_TEMPERATURE = 7.7677
MACROPIXEL_SIZE = 2
MISSING_FRAMES = 0
PIXEL_SUBSAMPLING_FLAG = N
SIGNAL_CHAIN_ID = 1
/* RADIOMETRIC DATA ELEMENTS */
BANDWIDTH = 180.0
CENTER_FILTER_WAVELENGTH = 677.0
RADIANCE_OFFSET = 3.4813
RADIANCE_SCALING_FACTOR = 0.0280356
REFLECTANCE_SCALING_FACTOR = 0.000902871
MEX:REFLECTANCE_OFFSET = 0.112113
/* IMAGE OBJECT DEFINITIONS */
OBJECT = IMAGE
  INTERCHANGE_FORMAT = BINARY
  LINES = 17351
  LINE_SAMPLES = 10895
  SAMPLE_TYPE = UNSIGNED_INTEGER
  SAMPLE_BITS = 8
  BANDS = 1
  BAND_STORAGE_TYPE = BAND_SEQUENTIAL
  MAXIMUM = 255
  MEAN = 113.332
  MINIMUM = 1
  STANDARD_DEVIATION = 63.259
END_OBJECT = IMAGE
/* MAP OBJECT DEFINITIONS */
OBJECT = IMAGE_MAP_PROJECTION
  ^DATA_SET_MAP_PROJECTION_CATALOG= "DSMAP.CAT"
  A_AXIS_RADIUS = 3396.0
  B_AXIS_RADIUS = 3396.0
  C_AXIS_RADIUS = 3396.0
  CENTER_LATITUDE = 0.0
  CENTER_LONGITUDE = 170.0
  COORDINATE_SYSTEM_NAME = PLANETOGRAPHIC
  COORDINATE_SYSTEM_TYPE = "BODY-FIXED ROTATING"
  EASTERNMOST_LONGITUDE = 182.705
  FIRST_STANDARD_PARALLEL = "N/A"
  LINE_FIRST_PIXEL = 1
  LINE_LAST_PIXEL = 17351
  LINE_PROJECTION_OFFSET = 202827.75
  MAP_PROJECTION_ROTATION = 0.0
  MAP_PROJECTION_TYPE = SINUSOIDAL
  MAP_RESOLUTION = 2370.85521546667
  MAP_SCALE = 0.025
  MAXIMUM_LATITUDE = 85.5885
  MINIMUM_LATITUDE = 78.24420000000001
  POSITIVE_LONGITUDE_DIRECTION = EAST
  REFERENCE_LATITUDE = "N/A"
  REFERENCE_LONGITUDE = "N/A"
  SAMPLE_FIRST_PIXEL = 1
  SAMPLE_LAST_PIXEL = 10895
  SAMPLE_PROJECTION_OFFSET = 5223.75
  SECOND_STANDARD_PARALLEL = "N/A"
  WESTERNMOST_LONGITUDE = 146.787
END_OBJECT = IMAGE_MAP_PROJECTION
END
