PDS_VERSION_ID = PDS3
/* FILE DATA ELEMENTS */
RECORD_TYPE = UNDEFINED
/* POINTERS TO DATA OBJECTS */
^IMAGE = ("H5730_0000_P14.TIF")
/* IDENTIFICATION DATA ELEMENTS */
DATA_SET_ID = "MEX-M-HRSC-4-REFDR-MAPPROJECT-EXT2-V4.0"
DATA_SET_NAME = "MARS EXPRESS HRSC MAP PROJECTED REFDR EXTENSION2 V4.0"
DETECTOR_ID = MEX_HRSC_P1
EVENT_TYPE = "MARS-REGIONAL-MAPPING-Gl-La"
INSTRUMENT_HOST_ID = MEX
INSTRUMENT_HOST_NAME = "MARS EXPRESS"
INSTRUMENT_ID = HRSC
INSTRUMENT_NAME = "HIGH RESOLUTION STEREO CAMERA"
MISSION_NAME = "MARS EXPRESS"
MISSION_PHASE_NAME = ME_Phase_13
PROCESSING_LEVEL_ID = 4
PRODUCT_CREATION_TIME = 2023-02-03T16:04:45.000Z
PRODUCT_ID = "H5730_0000_P14.TIF"
RELEASE_ID = 0003
REVISION_ID = 0000
/* QUALITY DATA ELEMENTS */
DATA_QUALITY_ID = 1
DATA_QUALITY_DESC = "Data calculated based on original SPICE kernels"
/* TIME DATA ELEMENTS */
SPACECRAFT_CLOCK_START_COUNT = "1/0161882994.09065"
SPACECRAFT_CLOCK_STOP_COUNT = "1/0161883242.05054"
START_TIME = 2008-06-18T15:30:55.966Z
STOP_TIME = 2008-06-18T15:33:48.598Z
/* ORBITAL DATA ELEMENTS */
ASCENDING_NODE_LONGITUDE = 109.29
MAXIMUM_RESOLUTION = 0.0357
FOOTPRINT_POINT_LATITUDE = (84.0905,84.1232,84.1471,84.1614, 84.1651,84.1572,84.1255,84.1234,83.99, 84.3091,84.7463,85.1802,85.6125,86.0549 ,86.4983,86.9378,87.497,87.721,88.0543, 88.2765,88.4998,88.7211,88.9386,89.1485 ,89.3432,89.564,89.5899,89.4924,89.3228 ,89.1184,88.8986,88.6715,88.4404, 88.2039,87.9636,87.7224,87.4801,87.2341 ,86.9865,86.7374,86.4884,86.2348, 85.9802,85.7263,85.4685,85.2088,84.9498 ,84.5549,84.2905,84.1577,84.0969, 84.0862,84.0572,84.0153,83.9482,83.8755 ,83.7977,83.7922,83.7908,84.0485, 84.3064,84.5608,84.8116,85.1858,85.4306 ,85.7926,86.0321,86.2665,86.496,86.7228 ,86.945,87.1599,87.37,87.671,87.857, 88.1104,88.2586,88.3842,88.4803,88.5445 ,88.572,88.5613,88.4765,88.3803,88.259, 88.0393,87.7907,87.333,87.0398,86.7424, 86.338,86.0287,85.6116,85.2002,84.8838, 84.5693,84.1515,84.0484,84.0905)
FOOTPRINT_POINT_LONGITUDE = (329.895,327.652,325.326,322.917, 320.433,317.878,314.255,314.088,312.09, 311.891,311.612,311.23,310.755,310.25, 309.562,308.591,306.968,306.071,304.294 ,302.792,300.753,297.959,294.041, 288.147,278.568,248.737,216.525,189.281 ,173.22,163.935,158.202,154.39,151.736, 149.742,148.192,147.045,146.041,145.243 ,144.649,144.012,143.498,143.115, 142.712,142.437,142.117,141.862,141.699 ,141.369,141.247,141.136,141.097, 136.574,133.428,130.589,127.329,124.587 ,122.151,121.993,121.933,121.334, 120.695,119.984,119.224,117.933,116.974 ,115.333,114.076,112.696,111.118, 109.323,107.267,104.949,102.264,97.3336 ,93.3581,86.0387,80.0394,73.0167,65.135 ,56.3745,47.0439,37.5816,24.4322, 16.7767,10.0493,1.70283,355.227,347.316 ,343.775,340.93,337.871,335.985,333.861 ,332.211,331.047,330.086,328.978, 328.729,329.895)
ORBIT_NUMBER = 5730
ORBITAL_ECCENTRICITY = 0.568
ORBITAL_INCLINATION = 86.75
ORBITAL_SEMIMAJOR_AXIS = 8643.36
PERIAPSIS_ALTITUDE = 358.2
PERIAPSIS_ARGUMENT_ANGLE = 70.48
PERIAPSIS_TIME = 2008-06-18T15:26:52.000Z
SPACECRAFT_ORIENTATION = (0.0,1.0,0.0)
^MEX_ORIENTATION_DESC = "MEX_ORIENTATION_DESC.TXT"
SPACECRAFT_POINTING_MODE = INERT
^MEX_POINTING_DESC = "MEX_POINTING_DESC.TXT"
RIGHT_ASCENSION = 111.755
DECLINATION = -68.429
OFFSET_ANGLE = -1e+32
SPACECRAFT_SOLAR_DISTANCE = 2.48231e+08
TARGET_NAME = MARS
/* CAMERA DATA ELEMENTS */
DETECTOR_TEMPERATURE = 17.1471
FOCAL_PLANE_TEMPERATURE = 7.3599
INST_CMPRS_NAME = "DISCRETE COSINE TRANSFORMATION (DCT)"
INST_CMPRS_RATIO = 13.9526
INST_CMPRS_QUALITY = 0
INST_CMPRS_QUANTZ_TBL_ID = 0
INSTRUMENT_TEMPERATURE = 10.8262
LENS_TEMPERATURE = 7.7677
MACROPIXEL_SIZE = 2
MISSING_FRAMES = 0
PIXEL_SUBSAMPLING_FLAG = N
SIGNAL_CHAIN_ID = 3
/* RADIOMETRIC DATA ELEMENTS */
BANDWIDTH = 174.0
CENTER_FILTER_WAVELENGTH = 675.0
RADIANCE_OFFSET = 2.32609
RADIANCE_SCALING_FACTOR = 0.0291456
REFLECTANCE_SCALING_FACTOR = 0.000965989
MEX:REFLECTANCE_OFFSET = 0.0770948
/* IMAGE OBJECT DEFINITIONS */
OBJECT = IMAGE
  INTERCHANGE_FORMAT = BINARY
  LINES = 23444
  LINE_SAMPLES = 22582
  SAMPLE_TYPE = UNSIGNED_INTEGER
  SAMPLE_BITS = 8
  BANDS = 1
  BAND_STORAGE_TYPE = BAND_SEQUENTIAL
  MAXIMUM = 255
  MEAN = 172.113
  MINIMUM = 1
  STANDARD_DEVIATION = 47.0242
END_OBJECT = IMAGE
/* MAP OBJECT DEFINITIONS */
OBJECT = IMAGE_MAP_PROJECTION
  ^DATA_SET_MAP_PROJECTION_CATALOG= "DSMAP.CAT"
  A_AXIS_RADIUS = 3396.0
  B_AXIS_RADIUS = 3396.0
  C_AXIS_RADIUS = 3396.0
  CENTER_LATITUDE = 90.0
  CENTER_LONGITUDE = 0.0
  COORDINATE_SYSTEM_NAME = PLANETOGRAPHIC
  COORDINATE_SYSTEM_TYPE = "BODY-FIXED ROTATING"
  EASTERNMOST_LONGITUDE = 360.0
  FIRST_STANDARD_PARALLEL = "N/A"
  LINE_FIRST_PIXEL = 1
  LINE_LAST_PIXEL = 23444
  LINE_PROJECTION_OFFSET = 11168.25
  MAP_PROJECTION_ROTATION = 0.0
  MAP_PROJECTION_TYPE = STEREOGRAPHIC
  MAP_RESOLUTION = 2370.85521546667
  MAP_SCALE = 0.025
  MAXIMUM_LATITUDE = 90.0
  MINIMUM_LATITUDE = 83.7908
  POSITIVE_LONGITUDE_DIRECTION = EAST
  REFERENCE_LATITUDE = "N/A"
  REFERENCE_LONGITUDE = "N/A"
  SAMPLE_FIRST_PIXEL = 1
  SAMPLE_LAST_PIXEL = 22582
  SAMPLE_PROJECTION_OFFSET = 10323.75
  SECOND_STANDARD_PARALLEL = "N/A"
  WESTERNMOST_LONGITUDE = 0.0
END_OBJECT = IMAGE_MAP_PROJECTION
END
