PDS_VERSION_ID = PDS3
/* FILE DATA ELEMENTS */
RECORD_TYPE = UNDEFINED
/* POINTERS TO DATA OBJECTS */
^IMAGE = ("H5732_0000_BL4.TIF")
/* IDENTIFICATION DATA ELEMENTS */
DATA_SET_ID = "MEX-M-HRSC-4-REFDR-MAPPROJECT-EXT2-V4.0"
DATA_SET_NAME = "MARS EXPRESS HRSC MAP PROJECTED REFDR EXTENSION2 V4.0"
DETECTOR_ID = MEX_HRSC_BLUE
EVENT_TYPE = "MARS-REGIONAL-MAPPING-Gl-Pf-Eo"
INSTRUMENT_HOST_ID = MEX
INSTRUMENT_HOST_NAME = "MARS EXPRESS"
INSTRUMENT_ID = HRSC
INSTRUMENT_NAME = "HIGH RESOLUTION STEREO CAMERA"
MISSION_NAME = "MARS EXPRESS"
MISSION_PHASE_NAME = ME_Phase_13
PROCESSING_LEVEL_ID = 4
PRODUCT_CREATION_TIME = 2023-02-03T16:04:45.000Z
PRODUCT_ID = "H5732_0000_BL4.TIF"
RELEASE_ID = 0003
REVISION_ID = 0000
/* QUALITY DATA ELEMENTS */
DATA_QUALITY_ID = 1
DATA_QUALITY_DESC = "Data calculated based on original SPICE kernels"
/* TIME DATA ELEMENTS */
SPACECRAFT_CLOCK_START_COUNT = "1/0161932464.08255"
SPACECRAFT_CLOCK_STOP_COUNT = "1/0161932765.45030"
START_TIME = 2008-06-19T05:15:07.131Z
STOP_TIME = 2008-06-19T05:17:55.148Z
/* ORBITAL DATA ELEMENTS */
ASCENDING_NODE_LONGITUDE = 109.25
MAXIMUM_RESOLUTION = 0.0832
FOOTPRINT_POINT_LATITUDE = (80.9766,81.1326,81.2502,81.3613, 81.4655,81.5629,81.6854,81.6906,81.6735 ,81.168,80.8284,80.3954,80.0473,79.6925 ,79.3369,79.1564,78.975,78.7937,78.6123 ,78.3357,78.1508,77.9661,77.6847, 77.4966,77.3086,77.0228,76.8315,76.6403 ,76.3499,76.1555,75.9613,75.7643, 75.5669,75.3696,75.1701,74.9698,74.7696 ,74.5673,74.3641,74.161,73.9561,73.75, 73.5442,73.2314,73.0228,72.8124,72.6008 ,72.2826,72.1754,72.0758,72.0278, 71.9827,71.9254,71.8405,71.7778,71.735, 71.659,71.6538,71.6535,71.9688,72.1763, 72.3839,72.6925,72.8971,73.1011,73.3027 ,73.5044,73.7049,73.9036,74.1022, 74.2996,74.4953,74.6906,74.885,75.0773, 75.2696,75.4613,75.6502,75.8391,76.121, 76.3065,76.4919,76.7685,76.9504,77.1322 ,77.4036,77.5816,77.7597,78.0256, 78.1997,78.3737,78.7198,79.0593,79.3965 ,79.7264,80.1351,80.4544,80.7718, 80.8493,80.9766)
FOOTPRINT_POINT_LONGITUDE = (263.344,265.184,266.696,268.243, 269.822,271.434,273.705,273.809,274.065 ,275.252,275.965,276.799,277.413, 277.994,278.535,278.795,279.047,279.291 ,279.526,279.871,280.092,280.305, 280.617,280.818,281.012,281.295,281.478 ,281.655,281.914,282.081,282.243, 282.402,282.557,282.708,282.856,283.0, 283.14,283.278,283.413,283.544,283.672, 283.798,283.92,284.1,284.216,284.33, 284.442,284.604,284.657,284.706,283.547 ,282.591,281.504,280.082,279.139, 278.536,277.532,277.466,277.442,277.221 ,277.071,276.916,276.678,276.515, 276.347,276.177,276.002,275.824,275.643 ,275.455,275.263,275.069,274.868, 274.662,274.453,274.238,274.017,273.792 ,273.561,273.203,272.958,272.706, 272.315,272.047,271.772,271.344,271.051 ,270.75,270.28,269.96,269.629,268.935, 268.207,267.43,266.613,265.515,264.581, 263.579,263.322,263.344)
ORBIT_NUMBER = 5732
ORBITAL_ECCENTRICITY = 0.568
ORBITAL_INCLINATION = 86.74
ORBITAL_SEMIMAJOR_AXIS = 8646.45
PERIAPSIS_ALTITUDE = 358.1
PERIAPSIS_ARGUMENT_ANGLE = 70.14
PERIAPSIS_TIME = 2008-06-19T05:07:57.000Z
SPACECRAFT_ORIENTATION = (0.0,1.0,0.0)
^MEX_ORIENTATION_DESC = "MEX_ORIENTATION_DESC.TXT"
SPACECRAFT_POINTING_MODE = ACROSSTRACK
^MEX_POINTING_DESC = "MEX_POINTING_DESC.TXT"
RIGHT_ASCENSION = -1e+32
DECLINATION = -1e+32
OFFSET_ANGLE = -0.35
SPACECRAFT_SOLAR_DISTANCE = 2.482e+08
TARGET_NAME = MARS
/* CAMERA DATA ELEMENTS */
DETECTOR_TEMPERATURE = 17.9627
FOCAL_PLANE_TEMPERATURE = 7.7677
INST_CMPRS_NAME = "DISCRETE COSINE TRANSFORMATION (DCT)"
INST_CMPRS_RATIO = 20.176
INST_CMPRS_QUALITY = 0
INST_CMPRS_QUANTZ_TBL_ID = 0
INSTRUMENT_TEMPERATURE = 10.6223
LENS_TEMPERATURE = 8.1755
MACROPIXEL_SIZE = 4
MISSING_FRAMES = 0
PIXEL_SUBSAMPLING_FLAG = N
SIGNAL_CHAIN_ID = 2
/* RADIOMETRIC DATA ELEMENTS */
BANDWIDTH = 76.0
CENTER_FILTER_WAVELENGTH = 444.0
RADIANCE_OFFSET = 0.520824
RADIANCE_SCALING_FACTOR = 0.00139123
REFLECTANCE_SCALING_FACTOR = 8.80563e-05
MEX:REFLECTANCE_OFFSET = 0.0329649
/* IMAGE OBJECT DEFINITIONS */
OBJECT = IMAGE
  INTERCHANGE_FORMAT = BINARY
  LINES = 5940
  LINE_SAMPLES = 2734
  SAMPLE_TYPE = UNSIGNED_INTEGER
  SAMPLE_BITS = 8
  BANDS = 1
  BAND_STORAGE_TYPE = BAND_SEQUENTIAL
  MAXIMUM = 255
  MEAN = 137.633
  MINIMUM = 1
  STANDARD_DEVIATION = 52.4209
END_OBJECT = IMAGE
/* MAP OBJECT DEFINITIONS */
OBJECT = IMAGE_MAP_PROJECTION
  ^DATA_SET_MAP_PROJECTION_CATALOG= "DSMAP.CAT"
  A_AXIS_RADIUS = 3396.0
  B_AXIS_RADIUS = 3396.0
  C_AXIS_RADIUS = 3396.0
  CENTER_LATITUDE = 0.0
  CENTER_LONGITUDE = 277.0
  COORDINATE_SYSTEM_NAME = PLANETOGRAPHIC
  COORDINATE_SYSTEM_TYPE = "BODY-FIXED ROTATING"
  EASTERNMOST_LONGITUDE = 284.706
  FIRST_STANDARD_PARALLEL = "N/A"
  LINE_FIRST_PIXEL = 1
  LINE_LAST_PIXEL = 5940
  LINE_PROJECTION_OFFSET = 48414.625
  MAP_PROJECTION_ROTATION = 0.0
  MAP_PROJECTION_TYPE = SINUSOIDAL
  MAP_RESOLUTION = 592.713803866667
  MAP_SCALE = 0.1
  MAXIMUM_LATITUDE = 81.6906
  MINIMUM_LATITUDE = 71.65349999999999
  POSITIVE_LONGITUDE_DIRECTION = EAST
  REFERENCE_LATITUDE = "N/A"
  REFERENCE_LONGITUDE = "N/A"
  SAMPLE_FIRST_PIXEL = 1
  SAMPLE_LAST_PIXEL = 2734
  SAMPLE_PROJECTION_OFFSET = 1309.125
  SECOND_STANDARD_PARALLEL = "N/A"
  WESTERNMOST_LONGITUDE = 263.322
END_OBJECT = IMAGE_MAP_PROJECTION
END
