PDS_VERSION_ID = PDS3
/* FILE DATA ELEMENTS */
RECORD_TYPE = UNDEFINED
/* POINTERS TO DATA OBJECTS */
^IMAGE = ("H5823_0000_GR4.TIF")
/* IDENTIFICATION DATA ELEMENTS */
DATA_SET_ID = "MEX-M-HRSC-4-REFDR-MAPPROJECT-EXT2-V4.0"
DATA_SET_NAME = "MARS EXPRESS HRSC MAP PROJECTED REFDR EXTENSION2 V4.0"
DETECTOR_ID = MEX_HRSC_GREEN
EVENT_TYPE = "MARS-LOCAL-CARTOGRAPHY-Gl-La-Ot"
INSTRUMENT_HOST_ID = MEX
INSTRUMENT_HOST_NAME = "MARS EXPRESS"
INSTRUMENT_ID = HRSC
INSTRUMENT_NAME = "HIGH RESOLUTION STEREO CAMERA"
MISSION_NAME = "MARS EXPRESS"
MISSION_PHASE_NAME = ME_Phase_14
PROCESSING_LEVEL_ID = 4
PRODUCT_CREATION_TIME = 2023-02-04T19:55:08.000Z
PRODUCT_ID = "H5823_0000_GR4.TIF"
RELEASE_ID = 0004
REVISION_ID = 0000
/* QUALITY DATA ELEMENTS */
DATA_QUALITY_ID = 1
DATA_QUALITY_DESC = "Data calculated based on original SPICE kernels"
/* TIME DATA ELEMENTS */
SPACECRAFT_CLOCK_START_COUNT = "1/0164174685.07294"
SPACECRAFT_CLOCK_STOP_COUNT = "1/0164175041.43176"
START_TIME = 2008-07-15T04:05:41.444Z
STOP_TIME = 2008-07-15T04:09:42.816Z
/* ORBITAL DATA ELEMENTS */
ASCENDING_NODE_LONGITUDE = 107.43
MAXIMUM_RESOLUTION = 0.0446
FOOTPRINT_POINT_LATITUDE = (80.1995,80.1956,80.1815,80.1562, 80.1188,80.0682,79.9746,79.9696,79.8455 ,80.2433,80.7751,81.3107,81.8506, 82.3913,82.9343,83.6158,84.0246,84.5657 ,84.8348,85.106,85.3745,85.7703,86.0272 ,86.4009,86.6334,86.8644,87.0725, 87.2613,87.4228,87.5543,87.6765,87.7011 ,87.676,87.6006,87.4802,87.3212,87.1238 ,86.8995,86.6514,86.3816,86.0929, 85.7914,85.4784,85.1523,84.8168,84.4697 ,84.1172,83.5756,83.3904,83.3672, 83.5405,83.6837,83.785,83.8472,83.8729, 83.8506,83.8482,83.8484,84.2381,84.6235 ,85.0048,85.3812,85.9395,86.3061, 86.6695,87.0287,87.383,87.7334,88.0786, 88.4174,88.7491,89.0655,89.4718,89.5879 ,89.4669,89.0709,88.7687,88.4606, 88.1478,87.8364,87.5237,87.214,86.9038, 86.5977,86.1391,85.837,85.5345,85.2367, 84.6429,84.0565,83.4791,82.9084,82.4832 ,81.9238,81.3703,80.8203,80.2786, 80.1431,80.1995)
FOOTPRINT_POINT_LONGITUDE = (10.5348,8.74563,6.90603,5.01381, 3.07524,1.08894,358.28,358.15,356.941, 356.431,355.674,354.808,353.804,352.632 ,351.26,349.162,347.631,345.201,343.782 ,342.256,340.515,337.468,335.056, 330.767,327.302,323.416,318.844,313.536 ,307.48,300.618,289.053,280.797,272.457 ,264.444,256.944,250.184,244.25,239.042 ,234.554,230.665,227.339,224.443, 221.887,219.685,217.749,216.095,214.561 ,212.56,211.961,211.889,207.834,203.442 ,199.041,194.669,188.533,184.427, 184.175,184.084,183.824,183.53,183.201, 182.815,182.039,181.462,180.729,179.859 ,178.773,177.345,175.407,172.695, 168.547,161.599,136.414,96.8491,58.2354 ,33.9108,27.1547,23.0884,20.4317, 18.5582,17.1475,16.0413,15.2063,14.5097 ,13.6631,13.2165,12.8201,12.4856, 11.9041,11.4707,11.125,10.8346,10.6442, 10.4225,10.2253,10.0469,9.89345,9.85775 ,10.5348)
ORBIT_NUMBER = 5823
ORBITAL_ECCENTRICITY = 0.569
ORBITAL_INCLINATION = 86.74
ORBITAL_SEMIMAJOR_AXIS = 8669.24
PERIAPSIS_ALTITUDE = 352.63
PERIAPSIS_ARGUMENT_ANGLE = 54.16
PERIAPSIS_TIME = 2008-07-15T03:58:21.000Z
SPACECRAFT_ORIENTATION = (0.0,1.0,0.0)
^MEX_ORIENTATION_DESC = "MEX_ORIENTATION_DESC.TXT"
SPACECRAFT_POINTING_MODE = INERT
^MEX_POINTING_DESC = "MEX_POINTING_DESC.TXT"
RIGHT_ASCENSION = 61.568
DECLINATION = -76.945
OFFSET_ANGLE = -1e+32
SPACECRAFT_SOLAR_DISTANCE = 2.46303e+08
TARGET_NAME = MARS
/* CAMERA DATA ELEMENTS */
DETECTOR_TEMPERATURE = 17.7588
FOCAL_PLANE_TEMPERATURE = 7.3599
INST_CMPRS_NAME = "DISCRETE COSINE TRANSFORMATION (DCT)"
INST_CMPRS_RATIO = 12.4413
INST_CMPRS_QUALITY = 0
INST_CMPRS_QUANTZ_TBL_ID = 0
INSTRUMENT_TEMPERATURE = 10.8262
LENS_TEMPERATURE = 7.7677
MACROPIXEL_SIZE = 2
MISSING_FRAMES = 0
PIXEL_SUBSAMPLING_FLAG = N
SIGNAL_CHAIN_ID = 2
/* RADIOMETRIC DATA ELEMENTS */
BANDWIDTH = 88.0
CENTER_FILTER_WAVELENGTH = 538.0
RADIANCE_OFFSET = 1.10085
RADIANCE_SCALING_FACTOR = 0.0159492
REFLECTANCE_SCALING_FACTOR = 0.000833039
MEX:REFLECTANCE_OFFSET = 0.0574985
/* IMAGE OBJECT DEFINITIONS */
OBJECT = IMAGE
  INTERCHANGE_FORMAT = BINARY
  LINES = 19234
  LINE_SAMPLES = 6203
  SAMPLE_TYPE = UNSIGNED_INTEGER
  SAMPLE_BITS = 8
  BANDS = 1
  BAND_STORAGE_TYPE = BAND_SEQUENTIAL
  MAXIMUM = 255
  MEAN = 123.631
  MINIMUM = 1
  STANDARD_DEVIATION = 57.0888
END_OBJECT = IMAGE
/* MAP OBJECT DEFINITIONS */
OBJECT = IMAGE_MAP_PROJECTION
  ^DATA_SET_MAP_PROJECTION_CATALOG= "DSMAP.CAT"
  A_AXIS_RADIUS = 3396.0
  B_AXIS_RADIUS = 3396.0
  C_AXIS_RADIUS = 3396.0
  CENTER_LATITUDE = 90.0
  CENTER_LONGITUDE = 0.0
  COORDINATE_SYSTEM_NAME = PLANETOGRAPHIC
  COORDINATE_SYSTEM_TYPE = "BODY-FIXED ROTATING"
  EASTERNMOST_LONGITUDE = 360.0
  FIRST_STANDARD_PARALLEL = "N/A"
  LINE_FIRST_PIXEL = 1
  LINE_LAST_PIXEL = 19234
  LINE_PROJECTION_OFFSET = 7230.75
  MAP_PROJECTION_ROTATION = 0.0
  MAP_PROJECTION_TYPE = STEREOGRAPHIC
  MAP_RESOLUTION = 1185.42760773333
  MAP_SCALE = 0.05
  MAXIMUM_LATITUDE = 90.0
  MINIMUM_LATITUDE = 79.8455
  POSITIVE_LONGITUDE_DIRECTION = EAST
  REFERENCE_LATITUDE = "N/A"
  REFERENCE_LONGITUDE = "N/A"
  SAMPLE_FIRST_PIXEL = 1
  SAMPLE_LAST_PIXEL = 6203
  SAMPLE_PROJECTION_OFFSET = 4179.25
  SECOND_STANDARD_PARALLEL = "N/A"
  WESTERNMOST_LONGITUDE = 0.0
END_OBJECT = IMAGE_MAP_PROJECTION
END
