PDS_VERSION_ID = PDS3
/* FILE DATA ELEMENTS */
RECORD_TYPE = UNDEFINED
/* POINTERS TO DATA OBJECTS */
^IMAGE = ("H5864_0000_RE4.TIF")
/* IDENTIFICATION DATA ELEMENTS */
DATA_SET_ID = "MEX-M-HRSC-4-REFDR-MAPPROJECT-EXT2-V4.0"
DATA_SET_NAME = "MARS EXPRESS HRSC MAP PROJECTED REFDR EXTENSION2 V4.0"
DETECTOR_ID = MEX_HRSC_RED
EVENT_TYPE = "MARS-REGIONAL-MAPPING-Im-Pf"
INSTRUMENT_HOST_ID = MEX
INSTRUMENT_HOST_NAME = "MARS EXPRESS"
INSTRUMENT_ID = HRSC
INSTRUMENT_NAME = "HIGH RESOLUTION STEREO CAMERA"
MISSION_NAME = "MARS EXPRESS"
MISSION_PHASE_NAME = ME_Phase_14
PROCESSING_LEVEL_ID = 4
PRODUCT_CREATION_TIME = 2023-02-04T19:55:08.000Z
PRODUCT_ID = "H5864_0000_RE4.TIF"
RELEASE_ID = 0004
REVISION_ID = 0000
/* QUALITY DATA ELEMENTS */
DATA_QUALITY_ID = 1
DATA_QUALITY_DESC = "Data calculated based on original SPICE kernels"
/* TIME DATA ELEMENTS */
SPACECRAFT_CLOCK_START_COUNT = "1/0165185366.09032"
SPACECRAFT_CLOCK_STOP_COUNT = "1/0165186067.07369"
START_TIME = 2008-07-26T20:49:45.888Z
STOP_TIME = 2008-07-26T20:53:47.886Z
/* ORBITAL DATA ELEMENTS */
ASCENDING_NODE_LONGITUDE = 106.61
MAXIMUM_RESOLUTION = 0.1486
FOOTPRINT_POINT_LATITUDE = (78.4456,78.6113,78.8623,79.0958, 79.3113,79.5083,79.6866,79.8463,79.8556 ,79.73,79.2808,78.8197,78.4728,78.0043, 77.53,77.0493,76.6838,76.1928,75.9441, 75.6945,75.4432,75.19,74.9351,74.6788, 74.2912,74.0316,73.7724,73.5134,73.2547 ,72.9965,72.7387,72.4812,72.2241, 71.9676,71.7112,71.4553,71.1997,70.9445 ,70.6898,70.4359,70.1819,69.9287, 69.6758,69.4234,68.9199,68.4181,67.9186 ,67.4206,67.2965,67.2019,67.1327, 67.0864,67.0356,66.9802,66.9197,66.8545 ,66.7842,66.7093,66.598,66.5116,66.4199 ,66.3108,66.2982,66.2962,66.7816, 67.2684,67.7563,68.2457,68.7363,69.2285 ,69.7215,69.9682,70.2153,70.4629, 70.7104,70.9581,71.2062,71.4544,71.7027 ,71.9511,72.1997,72.4486,72.6975, 73.0708,73.3193,73.5658,73.8103,74.0531 ,74.2943,74.7709,75.238,75.699,76.1529, 76.5984,77.0357,77.4655,77.7818,78.0935 ,78.1967,78.4456)
FOOTPRINT_POINT_LONGITUDE = (7.05404,8.2821,10.3034,12.3972,14.5619 ,16.7936,19.092,21.4571,21.607,21.8992, 22.7291,23.5065,24.0471,24.7236,25.3527 ,25.9399,26.3559,26.8772,27.1263, 27.3669,27.6002,27.8265,28.046,28.2587, 28.5662,28.763,28.9527,29.1357,29.3123, 29.4827,29.6471,29.8062,29.9599,30.1084 ,30.2522,30.3913,30.5261,30.6567, 30.7831,30.9053,31.0242,31.1392,31.2509 ,31.3592,31.5665,31.7619,31.9463, 32.1206,32.1626,32.1943,30.8069,30.0125 ,29.22,28.4297,27.6406,26.8533,26.0672, 25.283,24.2086,23.4306,22.654,21.7827, 21.6861,21.6527,21.3995,21.1313,20.8469 ,20.5455,20.2256,19.8863,19.5254, 19.3363,19.1414,18.9404,18.7329,18.5186 ,18.2974,18.0689,17.8328,17.5888, 17.3366,17.0758,16.8061,16.3837,16.09, 15.7884,15.4785,15.1597,14.8317,14.1484 ,13.4231,12.6571,11.8442,10.9819, 10.0671,9.09427,8.32456,7.51837,7.24045 ,7.05404)
ORBIT_NUMBER = 5864
ORBITAL_ECCENTRICITY = 0.57
ORBITAL_INCLINATION = 86.74
ORBITAL_SEMIMAJOR_AXIS = 8682.71
PERIAPSIS_ALTITUDE = 348.57
PERIAPSIS_ARGUMENT_ANGLE = 46.97
PERIAPSIS_TIME = 2008-07-26T20:36:11.000Z
SPACECRAFT_ORIENTATION = (0.0,1.0,0.0)
^MEX_ORIENTATION_DESC = "MEX_ORIENTATION_DESC.TXT"
SPACECRAFT_POINTING_MODE = ACROSSTRACK
^MEX_POINTING_DESC = "MEX_POINTING_DESC.TXT"
RIGHT_ASCENSION = -1e+32
DECLINATION = -1e+32
OFFSET_ANGLE = -1.37
SPACECRAFT_SOLAR_DISTANCE = 2.45147e+08
TARGET_NAME = MARS
/* CAMERA DATA ELEMENTS */
DETECTOR_TEMPERATURE = 18.5744
FOCAL_PLANE_TEMPERATURE = 7.7677
INST_CMPRS_NAME = "DISCRETE COSINE TRANSFORMATION (DCT)"
INST_CMPRS_RATIO = 13.4291
INST_CMPRS_QUALITY = 0
INST_CMPRS_QUANTZ_TBL_ID = 0
INSTRUMENT_TEMPERATURE = 10.8262
LENS_TEMPERATURE = 7.9716
MACROPIXEL_SIZE = 4
MISSING_FRAMES = 0
PIXEL_SUBSAMPLING_FLAG = N
SIGNAL_CHAIN_ID = 2
/* RADIOMETRIC DATA ELEMENTS */
BANDWIDTH = 48.0
CENTER_FILTER_WAVELENGTH = 748.0
RADIANCE_OFFSET = 0.515024
RADIANCE_SCALING_FACTOR = 0.00754232
REFLECTANCE_SCALING_FACTOR = 0.00103438
MEX:REFLECTANCE_OFFSET = 0.0706323
/* IMAGE OBJECT DEFINITIONS */
OBJECT = IMAGE
  INTERCHANGE_FORMAT = BINARY
  LINES = 3967
  LINE_SAMPLES = 2167
  SAMPLE_TYPE = UNSIGNED_INTEGER
  SAMPLE_BITS = 8
  BANDS = 1
  BAND_STORAGE_TYPE = BAND_SEQUENTIAL
  MAXIMUM = 255
  MEAN = 114.164
  MINIMUM = 1
  STANDARD_DEVIATION = 46.0606
END_OBJECT = IMAGE
/* MAP OBJECT DEFINITIONS */
OBJECT = IMAGE_MAP_PROJECTION
  ^DATA_SET_MAP_PROJECTION_CATALOG= "DSMAP.CAT"
  A_AXIS_RADIUS = 3396.0
  B_AXIS_RADIUS = 3396.0
  C_AXIS_RADIUS = 3396.0
  CENTER_LATITUDE = 0.0
  CENTER_LONGITUDE = 23.0
  COORDINATE_SYSTEM_NAME = PLANETOGRAPHIC
  COORDINATE_SYSTEM_TYPE = "BODY-FIXED ROTATING"
  EASTERNMOST_LONGITUDE = 32.1943
  FIRST_STANDARD_PARALLEL = "N/A"
  LINE_FIRST_PIXEL = 1
  LINE_LAST_PIXEL = 3967
  LINE_PROJECTION_OFFSET = 23619.125
  MAP_PROJECTION_ROTATION = 0.0
  MAP_PROJECTION_TYPE = SINUSOIDAL
  MAP_RESOLUTION = 296.356901933333
  MAP_SCALE = 0.2
  MAXIMUM_LATITUDE = 79.8556
  MINIMUM_LATITUDE = 66.2962
  POSITIVE_LONGITUDE_DIRECTION = EAST
  REFERENCE_LATITUDE = "N/A"
  REFERENCE_LONGITUDE = "N/A"
  SAMPLE_FIRST_PIXEL = 1
  SAMPLE_LAST_PIXEL = 2167
  SAMPLE_PROJECTION_OFFSET = 1022.625
  SECOND_STANDARD_PARALLEL = "N/A"
  WESTERNMOST_LONGITUDE = 7.05404
END_OBJECT = IMAGE_MAP_PROJECTION
END
