PDS_VERSION_ID = PDS3
/* FILE DATA ELEMENTS */
RECORD_TYPE = UNDEFINED
/* POINTERS TO DATA OBJECTS */
^IMAGE = ("H5904_0000_S14.TIF")
/* IDENTIFICATION DATA ELEMENTS */
DATA_SET_ID = "MEX-M-HRSC-4-REFDR-MAPPROJECT-EXT2-V4.0"
DATA_SET_NAME = "MARS EXPRESS HRSC MAP PROJECTED REFDR EXTENSION2 V4.0"
DETECTOR_ID = MEX_HRSC_S1
EVENT_TYPE = "MARS-REGIONAL-VARIABLE-Gl-La-Ot"
INSTRUMENT_HOST_ID = MEX
INSTRUMENT_HOST_NAME = "MARS EXPRESS"
INSTRUMENT_ID = HRSC
INSTRUMENT_NAME = "HIGH RESOLUTION STEREO CAMERA"
MISSION_NAME = "MARS EXPRESS"
MISSION_PHASE_NAME = ME_Phase_14
PROCESSING_LEVEL_ID = 4
PRODUCT_CREATION_TIME = 2023-02-04T19:55:08.000Z
PRODUCT_ID = "H5904_0000_S14.TIF"
RELEASE_ID = 0004
REVISION_ID = 0000
/* QUALITY DATA ELEMENTS */
DATA_QUALITY_ID = 1
DATA_QUALITY_DESC = "Data calculated based on original SPICE kernels"
/* TIME DATA ELEMENTS */
SPACECRAFT_CLOCK_START_COUNT = "1/0166170978.09056"
SPACECRAFT_CLOCK_STOP_COUNT = "1/0166171544.15132"
START_TIME = 2008-08-07T06:40:23.866Z
STOP_TIME = 2008-08-07T06:45:45.883Z
/* ORBITAL DATA ELEMENTS */
ASCENDING_NODE_LONGITUDE = 105.81
MAXIMUM_RESOLUTION = 0.0971
FOOTPRINT_POINT_LATITUDE = (84.6938,85.1313,85.4205,85.7076, 85.9922,86.2389,86.483,86.7577,87.0269, 87.2894,87.5432,87.7848,88.1141,88.1392 ,88.3001,88.041,87.8549,87.6609,87.4613 ,87.1549,86.9468,86.739,86.5304,86.3169 ,86.1044,85.8927,85.6804,85.2611, 84.9488,84.4196,83.9996,83.5826,83.1704 ,82.7616,82.3568,81.956,81.5594,81.167, 80.7778,80.3929,80.0154,79.4483,79.0769 ,78.807,78.4406,78.3501,78.2936,78.2913 ,78.2768,78.2602,78.2417,78.2199, 78.1952,78.1667,78.1343,78.0995,78.0606 ,78.0179,77.9719,77.9103,77.8143, 77.7397,77.6438,77.5759,77.5047,77.4113 ,77.3334,77.1895,77.1684,77.1612,77.488 ,77.8165,78.1471,78.4795,78.8133, 79.1484,79.4844,79.8205,80.1569,80.493, 80.8272,81.1603,81.4912,81.8198,82.1422 ,82.5366,82.9168,83.2092,83.4906, 83.7562,83.8822,84.0032,84.1186,84.2278 ,84.3792,84.4715,84.5558,84.6317, 84.6664,84.6938)
FOOTPRINT_POINT_LONGITUDE = (280.04,281.568,282.736,284.051,285.542 ,287.023,288.7,290.91,293.511,296.612, 300.354,304.926,313.868,314.751,312.898 ,320.462,324.423,327.725,330.502, 333.906,335.781,337.41,338.836,340.091, 341.205,342.2,343.093,344.638,345.623, 346.988,347.9,348.686,349.375,349.981, 350.52,351.003,351.438,351.833,352.192, 352.521,352.83,353.237,353.488,353.674, 353.894,353.947,353.98,352.078,350.17, 348.814,347.732,346.655,345.583,344.516 ,343.456,342.401,341.352,340.31,339.275 ,337.99,336.213,334.96,333.474,332.495, 331.526,330.328,329.38,327.746,327.515, 327.431,326.833,326.193,325.506,324.767 ,323.971,323.113,322.184,321.182, 320.093,318.908,317.624,316.219,314.677 ,312.976,311.123,308.544,305.662, 303.099,300.236,297.087,295.398,293.624 ,291.768,289.841,286.797,284.64,282.39, 280.072,278.901,280.04)
ORBIT_NUMBER = 5904
ORBITAL_ECCENTRICITY = 0.57
ORBITAL_INCLINATION = 86.76
ORBITAL_SEMIMAJOR_AXIS = 8687.1
PERIAPSIS_ALTITUDE = 344.76
PERIAPSIS_ARGUMENT_ANGLE = 39.94
PERIAPSIS_TIME = 2008-08-07T06:23:30.000Z
SPACECRAFT_ORIENTATION = (0.0,1.0,0.0)
^MEX_ORIENTATION_DESC = "MEX_ORIENTATION_DESC.TXT"
SPACECRAFT_POINTING_MODE = NADIR
^MEX_POINTING_DESC = "MEX_POINTING_DESC.TXT"
RIGHT_ASCENSION = -1e+32
DECLINATION = -1e+32
OFFSET_ANGLE = -1e+32
SPACECRAFT_SOLAR_DISTANCE = 2.43849e+08
TARGET_NAME = MARS
/* CAMERA DATA ELEMENTS */
DETECTOR_TEMPERATURE = 16.9432
FOCAL_PLANE_TEMPERATURE = 7.156
INST_CMPRS_NAME = "DISCRETE COSINE TRANSFORMATION (DCT)"
INST_CMPRS_RATIO = 11.3661
INST_CMPRS_QUALITY = 0
INST_CMPRS_QUANTZ_TBL_ID = 0
INSTRUMENT_TEMPERATURE = 10.8262
LENS_TEMPERATURE = 7.7677
MACROPIXEL_SIZE = 2
MISSING_FRAMES = 0
PIXEL_SUBSAMPLING_FLAG = N
SIGNAL_CHAIN_ID = 1
/* RADIOMETRIC DATA ELEMENTS */
BANDWIDTH = 180.0
CENTER_FILTER_WAVELENGTH = 677.0
RADIANCE_OFFSET = 1.78373
RADIANCE_SCALING_FACTOR = 0.0353005
REFLECTANCE_SCALING_FACTOR = 0.00109512
MEX:REFLECTANCE_OFFSET = 0.0553363
/* IMAGE OBJECT DEFINITIONS */
OBJECT = IMAGE
  INTERCHANGE_FORMAT = BINARY
  LINES = 6398
  LINE_SAMPLES = 5087
  SAMPLE_TYPE = UNSIGNED_INTEGER
  SAMPLE_BITS = 8
  BANDS = 1
  BAND_STORAGE_TYPE = BAND_SEQUENTIAL
  MAXIMUM = 255
  MEAN = 121.904
  MINIMUM = 1
  STANDARD_DEVIATION = 49.8183
END_OBJECT = IMAGE
/* MAP OBJECT DEFINITIONS */
OBJECT = IMAGE_MAP_PROJECTION
  ^DATA_SET_MAP_PROJECTION_CATALOG= "DSMAP.CAT"
  A_AXIS_RADIUS = 3396.0
  B_AXIS_RADIUS = 3396.0
  C_AXIS_RADIUS = 3396.0
  CENTER_LATITUDE = 0.0
  CENTER_LONGITUDE = 329.0
  COORDINATE_SYSTEM_NAME = PLANETOGRAPHIC
  COORDINATE_SYSTEM_TYPE = "BODY-FIXED ROTATING"
  EASTERNMOST_LONGITUDE = 353.98
  FIRST_STANDARD_PARALLEL = "N/A"
  LINE_FIRST_PIXEL = 1
  LINE_LAST_PIXEL = 6398
  LINE_PROJECTION_OFFSET = 52155.25
  MAP_PROJECTION_ROTATION = 0.0
  MAP_PROJECTION_TYPE = SINUSOIDAL
  MAP_RESOLUTION = 592.713803866667
  MAP_SCALE = 0.1
  MAXIMUM_LATITUDE = 88.3001
  MINIMUM_LATITUDE = 77.16119999999999
  POSITIVE_LONGITUDE_DIRECTION = EAST
  REFERENCE_LATITUDE = "N/A"
  REFERENCE_LONGITUDE = "N/A"
  SAMPLE_FIRST_PIXEL = 1
  SAMPLE_LAST_PIXEL = 5087
  SAMPLE_PROJECTION_OFFSET = 2575.25
  SECOND_STANDARD_PARALLEL = "N/A"
  WESTERNMOST_LONGITUDE = 278.901
END_OBJECT = IMAGE_MAP_PROJECTION
END
