PDS_VERSION_ID = PDS3
/* FILE DATA ELEMENTS */
RECORD_TYPE = UNDEFINED
/* POINTERS TO DATA OBJECTS */
^IMAGE = ("H5918_0000_RE4.TIF")
/* IDENTIFICATION DATA ELEMENTS */
DATA_SET_ID = "MEX-M-HRSC-4-REFDR-MAPPROJECT-EXT2-V4.0"
DATA_SET_NAME = "MARS EXPRESS HRSC MAP PROJECTED REFDR EXTENSION2 V4.0"
DETECTOR_ID = MEX_HRSC_RED
EVENT_TYPE = "MARS-REGIONAL-VARIABLE-Gl-La-Ot"
INSTRUMENT_HOST_ID = MEX
INSTRUMENT_HOST_NAME = "MARS EXPRESS"
INSTRUMENT_ID = HRSC
INSTRUMENT_NAME = "HIGH RESOLUTION STEREO CAMERA"
MISSION_NAME = "MARS EXPRESS"
MISSION_PHASE_NAME = ME_Phase_14
PROCESSING_LEVEL_ID = 4
PRODUCT_CREATION_TIME = 2023-02-04T19:55:08.000Z
PRODUCT_ID = "H5918_0000_RE4.TIF"
RELEASE_ID = 0004
REVISION_ID = 0000
/* QUALITY DATA ELEMENTS */
DATA_QUALITY_ID = 1
DATA_QUALITY_DESC = "Data calculated based on original SPICE kernels"
/* TIME DATA ELEMENTS */
SPACECRAFT_CLOCK_START_COUNT = "1/0166515834.09078"
SPACECRAFT_CLOCK_STOP_COUNT = "1/0166516557.26562"
START_TIME = 2008-08-11T06:24:10.070Z
STOP_TIME = 2008-08-11T06:29:40.708Z
/* ORBITAL DATA ELEMENTS */
ASCENDING_NODE_LONGITUDE = 105.52
MAXIMUM_RESOLUTION = 0.0609
FOOTPRINT_POINT_LATITUDE = (81.413,81.5399,81.6532,81.7521,81.8356 ,81.9024,81.9651,81.9671,82.1094, 82.7994,83.4983,84.21,84.9254,85.2897, 85.6574,86.0283,86.3999,86.776,87.1553, 87.5384,87.9224,88.3073,88.6906,89.0721 ,89.449,89.8026,89.7423,89.3802,89.0048 ,88.6282,88.2509,87.8754,87.313,86.9391 ,86.5663,86.1935,85.823,85.4527,85.0838 ,84.7161,84.3494,83.9838,83.6194, 83.2561,82.8937,82.3519,81.6319,81.2681 ,80.3762,79.6669,79.4903,79.4809, 79.5204,79.5317,79.5093,79.4672,79.3768 ,79.2494,79.0964,79.0848,79.0816, 79.9281,80.6024,81.2785,81.9477,82.6107 ,83.2648,83.5873,83.9056,84.3727, 84.6796,84.9757,85.2722,85.5501,85.8151 ,86.063,86.29,86.5813,86.7379,86.8986, 86.9511,86.9566,86.8763,86.7663,86.6157 ,86.4292,86.0946,85.8454,85.4391, 85.1529,84.8578,84.5587,84.0964,83.6253 ,82.8304,82.3538,81.7142,81.5543, 81.413)
FOOTPRINT_POINT_LONGITUDE = (233.77,231.339,228.815,226.196,223.489 ,220.698,216.726,216.542,215.652, 215.544,215.417,215.256,215.101,214.991 ,214.854,214.687,214.511,214.268, 213.967,213.554,213.037,212.261,211.041 ,208.821,203.594,178.103,64.8094, 47.8355,43.5096,41.5469,40.4434,39.7104 ,38.9988,38.6684,38.4051,38.2015, 38.0214,37.8753,37.7465,37.633,37.533, 37.4431,37.3614,37.287,37.2196,37.1289, 37.0273,37.003,36.8976,36.8238,36.8062, 36.8052,33.9514,30.4564,27.4354,24.8822 ,21.5493,18.3199,15.3933,15.2023, 15.1322,13.8174,12.5796,11.122,9.40837, 7.36394,4.89402,3.46107,1.87175,359.148 ,357.033,354.685,351.928,348.887, 345.424,341.495,337.052,329.361,323.426 ,313.633,306.685,299.504,289.004, 282.401,276.302,270.761,263.564,259.506 ,254.322,251.395,248.823,246.57,243.641 ,241.174,237.849,236.225,234.375, 233.961,233.77)
ORBIT_NUMBER = 5918
ORBITAL_ECCENTRICITY = 0.571
ORBITAL_INCLINATION = 86.74
ORBITAL_SEMIMAJOR_AXIS = 8698.76
PERIAPSIS_ALTITUDE = 343.18
PERIAPSIS_ARGUMENT_ANGLE = 37.48
PERIAPSIS_TIME = 2008-08-11T06:13:00.000Z
SPACECRAFT_ORIENTATION = (0.0,1.0,0.0)
^MEX_ORIENTATION_DESC = "MEX_ORIENTATION_DESC.TXT"
SPACECRAFT_POINTING_MODE = ACROSSTRACK
^MEX_POINTING_DESC = "MEX_POINTING_DESC.TXT"
RIGHT_ASCENSION = -1e+32
DECLINATION = -1e+32
OFFSET_ANGLE = 1.67
SPACECRAFT_SOLAR_DISTANCE = 2.43357e+08
TARGET_NAME = MARS
/* CAMERA DATA ELEMENTS */
DETECTOR_TEMPERATURE = 18.3705
FOCAL_PLANE_TEMPERATURE = 7.5638
INST_CMPRS_NAME = "DISCRETE COSINE TRANSFORMATION (DCT)"
INST_CMPRS_RATIO = 8.67729
INST_CMPRS_QUALITY = 0
INST_CMPRS_QUANTZ_TBL_ID = 0
INSTRUMENT_TEMPERATURE = 11.0301
LENS_TEMPERATURE = 7.7677
MACROPIXEL_SIZE = 2
MISSING_FRAMES = 0
PIXEL_SUBSAMPLING_FLAG = N
SIGNAL_CHAIN_ID = 3
/* RADIOMETRIC DATA ELEMENTS */
BANDWIDTH = 48.0
CENTER_FILTER_WAVELENGTH = 748.0
RADIANCE_OFFSET = 0.513291
RADIANCE_SCALING_FACTOR = 0.00783203
REFLECTANCE_SCALING_FACTOR = 0.00105849
MEX:REFLECTANCE_OFFSET = 0.0693704
/* IMAGE OBJECT DEFINITIONS */
OBJECT = IMAGE
  INTERCHANGE_FORMAT = BINARY
  LINES = 20499
  LINE_SAMPLES = 15853
  SAMPLE_TYPE = UNSIGNED_INTEGER
  SAMPLE_BITS = 8
  BANDS = 1
  BAND_STORAGE_TYPE = BAND_SEQUENTIAL
  MAXIMUM = 255
  MEAN = 137.833
  MINIMUM = 1
  STANDARD_DEVIATION = 41.4456
END_OBJECT = IMAGE
/* MAP OBJECT DEFINITIONS */
OBJECT = IMAGE_MAP_PROJECTION
  ^DATA_SET_MAP_PROJECTION_CATALOG= "DSMAP.CAT"
  A_AXIS_RADIUS = 3396.0
  B_AXIS_RADIUS = 3396.0
  C_AXIS_RADIUS = 3396.0
  CENTER_LATITUDE = 90.0
  CENTER_LONGITUDE = 0.0
  COORDINATE_SYSTEM_NAME = PLANETOGRAPHIC
  COORDINATE_SYSTEM_TYPE = "BODY-FIXED ROTATING"
  EASTERNMOST_LONGITUDE = 360.0
  FIRST_STANDARD_PARALLEL = "N/A"
  LINE_FIRST_PIXEL = 1
  LINE_LAST_PIXEL = 20499
  LINE_PROJECTION_OFFSET = 7715.25
  MAP_PROJECTION_ROTATION = 0.0
  MAP_PROJECTION_TYPE = STEREOGRAPHIC
  MAP_RESOLUTION = 1185.42760773333
  MAP_SCALE = 0.05
  MAXIMUM_LATITUDE = 90.0
  MINIMUM_LATITUDE = 79.08159999999999
  POSITIVE_LONGITUDE_DIRECTION = EAST
  REFERENCE_LATITUDE = "N/A"
  REFERENCE_LONGITUDE = "N/A"
  SAMPLE_FIRST_PIXEL = 1
  SAMPLE_LAST_PIXEL = 15853
  SAMPLE_PROJECTION_OFFSET = 8224.75
  SECOND_STANDARD_PARALLEL = "N/A"
  WESTERNMOST_LONGITUDE = 0.0
END_OBJECT = IMAGE_MAP_PROJECTION
END
