PDS_VERSION_ID = PDS3
/* FILE DATA ELEMENTS */
RECORD_TYPE = UNDEFINED
/* POINTERS TO DATA OBJECTS */
^IMAGE = ("H6220_0000_P14.TIF")
/* IDENTIFICATION DATA ELEMENTS */
DATA_SET_ID = "MEX-M-HRSC-4-REFDR-MAPPROJECT-EXT2-V4.0"
DATA_SET_NAME = "MARS EXPRESS HRSC MAP PROJECTED REFDR EXTENSION2 V4.0"
DETECTOR_ID = MEX_HRSC_P1
EVENT_TYPE = "MARS-REGIONAL-STEREO-Vo-Mw"
INSTRUMENT_HOST_ID = MEX
INSTRUMENT_HOST_NAME = "MARS EXPRESS"
INSTRUMENT_ID = HRSC
INSTRUMENT_NAME = "HIGH RESOLUTION STEREO CAMERA"
MISSION_NAME = "MARS EXPRESS"
MISSION_PHASE_NAME = ME_Phase_15
PROCESSING_LEVEL_ID = 4
PRODUCT_CREATION_TIME = 2023-02-05T01:11:29.000Z
PRODUCT_ID = "H6220_0000_P14.TIF"
RELEASE_ID = 0005
REVISION_ID = 0000
/* QUALITY DATA ELEMENTS */
DATA_QUALITY_ID = 1
DATA_QUALITY_DESC = "Data calculated based on original SPICE kernels"
/* TIME DATA ELEMENTS */
SPACECRAFT_CLOCK_START_COUNT = "1/0173957318.09040"
SPACECRAFT_CLOCK_STOP_COUNT = "1/0173957660.55960"
START_TIME = 2008-11-05T09:29:57.417Z
STOP_TIME = 2008-11-05T09:33:51.169Z
/* ORBITAL DATA ELEMENTS */
ASCENDING_NODE_LONGITUDE = 99.46
MAXIMUM_RESOLUTION = 0.0413
FOOTPRINT_POINT_LATITUDE = (12.3373,12.3276,12.3173,12.3064, 12.2947,12.2823,12.264,12.2631,12.26, 12.6968,13.1369,13.5897,13.8266,14.0588 ,14.4054,14.6399,14.9919,15.2285, 15.4655,15.8261,16.0661,16.43,16.6746, 16.9171,17.1599,17.4006,17.6449,18.0115 ,18.3807,18.6257,18.8768,19.1219, 19.3679,19.7428,19.9919,20.2446,20.498, 20.7541,21.1425,21.403,21.6661,22.0638, 22.3315,22.7319,22.991,23.249,23.5225, 23.7999,24.0788,24.502,24.6447,24.6552, 24.6753,24.6932,24.7079,24.716,24.7276, 24.734,24.7442,24.7446,24.7441,24.3194, 23.8972,23.6196,23.3482,22.9537,22.5458 ,22.2792,21.8862,21.6241,21.2325, 20.9718,20.7144,20.3325,20.0791,19.8293 ,19.5788,19.3323,19.0838,18.8384, 18.5868,18.219,17.9735,17.7292,17.4834, 17.2406,16.876,16.5107,16.2679,15.9041, 15.542,15.1881,14.8368,14.6026,14.1388, 13.6736,13.1112,12.4522,12.3442, 12.3373)
FOOTPRINT_POINT_LONGITUDE = (227.847,227.572,227.293,227.012, 226.729,226.443,226.045,226.026,226.017 ,226.0,225.982,225.966,225.97,225.967, 225.96,225.955,225.948,225.943,225.938, 225.932,225.925,225.918,225.912,225.905 ,225.894,225.882,225.871,225.852, 225.832,225.816,225.799,225.78,225.76, 225.734,225.714,225.695,225.676,225.656 ,225.629,225.611,225.592,225.564, 225.547,225.515,225.484,225.451,225.431 ,225.411,225.391,225.362,225.353, 225.352,225.824,226.292,226.729,227.001 ,227.407,227.676,228.131,228.157, 228.167,228.151,228.135,228.125,228.115 ,228.099,228.085,228.076,228.063, 228.054,228.042,228.034,228.027,228.015 ,228.008,228.001,227.994,227.988, 227.981,227.975,227.969,227.96,227.955, 227.949,227.944,227.939,227.931,227.924 ,227.919,227.912,227.905,227.898, 227.891,227.887,227.878,227.87,227.86, 227.849,227.848,227.847)
ORBIT_NUMBER = 6220
ORBITAL_ECCENTRICITY = 0.575
ORBITAL_INCLINATION = 86.75
ORBITAL_SEMIMAJOR_AXIS = 8730.84
PERIAPSIS_ALTITUDE = 314.07
PERIAPSIS_ARGUMENT_ANGLE = 344.36
PERIAPSIS_TIME = 2008-11-05T09:22:09.000Z
SPACECRAFT_ORIENTATION = (0.0,1.0,0.0)
^MEX_ORIENTATION_DESC = "MEX_ORIENTATION_DESC.TXT"
SPACECRAFT_POINTING_MODE = ACROSSTRACK
^MEX_POINTING_DESC = "MEX_POINTING_DESC.TXT"
RIGHT_ASCENSION = -1e+32
DECLINATION = -1e+32
OFFSET_ANGLE = 1.0
SPACECRAFT_SOLAR_DISTANCE = 2.29021e+08
TARGET_NAME = MARS
/* CAMERA DATA ELEMENTS */
DETECTOR_TEMPERATURE = 16.9432
FOCAL_PLANE_TEMPERATURE = 7.156
INST_CMPRS_NAME = "DISCRETE COSINE TRANSFORMATION (DCT)"
INST_CMPRS_RATIO = 6.23702
INST_CMPRS_QUALITY = 0
INST_CMPRS_QUANTZ_TBL_ID = 0
INSTRUMENT_TEMPERATURE = 10.6223
LENS_TEMPERATURE = 8.1755
MACROPIXEL_SIZE = 2
PIXEL_SUBSAMPLING_FLAG = N
SIGNAL_CHAIN_ID = 3
/* RADIOMETRIC DATA ELEMENTS */
BANDWIDTH = 174.0
CENTER_FILTER_WAVELENGTH = 675.0
RADIANCE_OFFSET = 0.859404
RADIANCE_SCALING_FACTOR = 0.0156616
REFLECTANCE_SCALING_FACTOR = 0.000441842
MEX:REFLECTANCE_OFFSET = 0.0242454
/* IMAGE OBJECT DEFINITIONS */
OBJECT = IMAGE
  INTERCHANGE_FORMAT = BINARY
  LINES = 14746
  LINE_SAMPLES = 2804
  SAMPLE_TYPE = UNSIGNED_INTEGER
  SAMPLE_BITS = 8
  BANDS = 1
  BAND_STORAGE_TYPE = BAND_SEQUENTIAL
  MAXIMUM = 255
  MEAN = 104.167
  MINIMUM = 1
  STANDARD_DEVIATION = 29.6574
END_OBJECT = IMAGE
/* MAP OBJECT DEFINITIONS */
OBJECT = IMAGE_MAP_PROJECTION
  ^DATA_SET_MAP_PROJECTION_CATALOG= "DSMAP.CAT"
  A_AXIS_RADIUS = 3396.0
  B_AXIS_RADIUS = 3396.0
  C_AXIS_RADIUS = 3396.0
  CENTER_LATITUDE = 0.0
  CENTER_LONGITUDE = 227.0
  COORDINATE_SYSTEM_NAME = PLANETOGRAPHIC
  COORDINATE_SYSTEM_TYPE = "BODY-FIXED ROTATING"
  EASTERNMOST_LONGITUDE = 228.167
  FIRST_STANDARD_PARALLEL = "N/A"
  LINE_FIRST_PIXEL = 1
  LINE_LAST_PIXEL = 14746
  LINE_PROJECTION_OFFSET = 29311.75
  MAP_PROJECTION_ROTATION = 0.0
  MAP_PROJECTION_TYPE = SINUSOIDAL
  MAP_RESOLUTION = 1185.42760773333
  MAP_SCALE = 0.05
  MAXIMUM_LATITUDE = 24.7446
  MINIMUM_LATITUDE = 12.26
  POSITIVE_LONGITUDE_DIRECTION = EAST
  REFERENCE_LATITUDE = "N/A"
  REFERENCE_LONGITUDE = "N/A"
  SAMPLE_FIRST_PIXEL = 1
  SAMPLE_LAST_PIXEL = 2804
  SAMPLE_PROJECTION_OFFSET = 1654.75
  SECOND_STANDARD_PARALLEL = "N/A"
  WESTERNMOST_LONGITUDE = 225.352
END_OBJECT = IMAGE_MAP_PROJECTION
END
