PDS_VERSION_ID = PDS3
/* FILE DATA ELEMENTS */
RECORD_TYPE = UNDEFINED
/* POINTERS TO DATA OBJECTS */
^IMAGE = ("H6241_0000_S14.TIF")
/* IDENTIFICATION DATA ELEMENTS */
DATA_SET_ID = "MEX-M-HRSC-4-REFDR-MAPPROJECT-EXT2-V4.0"
DATA_SET_NAME = "MARS EXPRESS HRSC MAP PROJECTED REFDR EXTENSION2 V4.0"
DETECTOR_ID = MEX_HRSC_S1
EVENT_TYPE = "MARS-REGIONAL-MAPPING-Vo-Te-Fl"
INSTRUMENT_HOST_ID = MEX
INSTRUMENT_HOST_NAME = "MARS EXPRESS"
INSTRUMENT_ID = HRSC
INSTRUMENT_NAME = "HIGH RESOLUTION STEREO CAMERA"
MISSION_NAME = "MARS EXPRESS"
MISSION_PHASE_NAME = ME_Phase_15
PROCESSING_LEVEL_ID = 4
PRODUCT_CREATION_TIME = 2023-02-05T01:11:29.000Z
PRODUCT_ID = "H6241_0000_S14.TIF"
RELEASE_ID = 0005
REVISION_ID = 0000
/* QUALITY DATA ELEMENTS */
DATA_QUALITY_ID = 1
DATA_QUALITY_DESC = "Data calculated based on original SPICE kernels"
/* TIME DATA ELEMENTS */
SPACECRAFT_CLOCK_START_COUNT = "1/0174474644.08243"
SPACECRAFT_CLOCK_STOP_COUNT = "1/0174475003.00682"
START_TIME = 2008-11-11T09:11:55.974Z
STOP_TIME = 2008-11-11T09:16:44.437Z
/* ORBITAL DATA ELEMENTS */
ASCENDING_NODE_LONGITUDE = 99.03
MAXIMUM_RESOLUTION = 0.0328
FOOTPRINT_POINT_LATITUDE = (-2.06537,-2.07154,-2.08178,-2.08833, -2.08861,-2.06144,-1.67368,-1.24702, -0.650678,-0.348276,0.221265,0.511811, 0.801792,1.09083,1.38584,1.68024, 1.97217,2.41809,2.71561,3.01348,3.31538 ,3.61864,3.92538,4.23541,4.54416,5.0147 ,5.32842,5.64715,6.12426,6.44768, 6.77069,7.09758,7.59007,7.91959,8.25388 ,8.59017,9.10102,9.44401,9.79173, 10.3164,10.8471,11.2039,11.5648,11.9274 ,12.293,12.6622,13.0333,13.4073,13.7853 ,13.9749,14.0065,14.0206,14.03,14.036, 14.0411,14.0435,14.0436,14.043,13.6635, 13.2872,12.9139,12.5468,11.9964,11.6332 ,11.2719,10.915,10.3841,10.0327,9.68487 ,9.16818,8.82601,8.31574,7.81654, 7.48396,7.15539,6.82695,6.50325,6.17821 ,5.85911,5.38085,5.0661,4.74832,4.44003 ,4.13017,3.66748,3.36608,2.91284, 2.61658,2.31912,1.8735,1.57928,1.28443, 0.847368,0.269323,-0.160322,-0.729094, -1.29997,-1.88085,-2.01647,-2.06537)
FOOTPRINT_POINT_LONGITUDE = (286.283,285.861,285.265,284.932, 284.919,284.925,284.899,284.889,284.885 ,284.885,284.871,284.864,284.857,284.85 ,284.842,284.834,284.825,284.811, 284.802,284.792,284.782,284.773,284.763 ,284.753,284.743,284.728,284.717, 284.707,284.69,284.678,284.666,284.654, 284.635,284.621,284.608,284.594,284.574 ,284.561,284.547,284.525,284.503, 284.487,284.471,284.455,284.439,284.422 ,284.405,284.387,284.368,284.359, 284.358,284.952,285.439,285.799,286.137 ,286.517,286.538,286.545,286.535, 286.525,286.515,286.505,286.491,286.483 ,286.474,286.466,286.455,286.447,286.44 ,286.429,286.423,286.414,286.404, 286.398,286.392,286.386,286.381,286.376 ,286.371,286.363,286.358,286.354, 286.349,286.345,286.339,286.334,286.328 ,286.323,286.319,286.314,286.311, 286.308,286.303,286.297,286.293,286.288 ,286.283,286.28,286.277,286.283)
ORBIT_NUMBER = 6241
ORBITAL_ECCENTRICITY = 0.575
ORBITAL_INCLINATION = 86.74
ORBITAL_SEMIMAJOR_AXIS = 8725.97
PERIAPSIS_ALTITUDE = 313.05
PERIAPSIS_ARGUMENT_ANGLE = 340.73
PERIAPSIS_TIME = 2008-11-11T09:06:57.000Z
SPACECRAFT_ORIENTATION = (0.0,1.0,0.0)
^MEX_ORIENTATION_DESC = "MEX_ORIENTATION_DESC.TXT"
SPACECRAFT_POINTING_MODE = ACROSSTRACK
^MEX_POINTING_DESC = "MEX_POINTING_DESC.TXT"
RIGHT_ASCENSION = -1e+32
DECLINATION = -1e+32
OFFSET_ANGLE = 0.17
SPACECRAFT_SOLAR_DISTANCE = 2.27857e+08
TARGET_NAME = MARS
/* CAMERA DATA ELEMENTS */
DETECTOR_TEMPERATURE = 17.351
FOCAL_PLANE_TEMPERATURE = 8.3794
INST_CMPRS_NAME = "DISCRETE COSINE TRANSFORMATION (DCT)"
INST_CMPRS_RATIO = 9.40515
INST_CMPRS_QUALITY = 0
INST_CMPRS_QUANTZ_TBL_ID = 0
INSTRUMENT_TEMPERATURE = 11.0301
LENS_TEMPERATURE = 8.5833
MACROPIXEL_SIZE = 2
MISSING_FRAMES = 0
PIXEL_SUBSAMPLING_FLAG = N
SIGNAL_CHAIN_ID = 1
/* RADIOMETRIC DATA ELEMENTS */
BANDWIDTH = 180.0
CENTER_FILTER_WAVELENGTH = 677.0
RADIANCE_OFFSET = 2.19434
RADIANCE_SCALING_FACTOR = 0.0113285
REFLECTANCE_SCALING_FACTOR = 0.000306857
MEX:REFLECTANCE_OFFSET = 0.0594387
/* IMAGE OBJECT DEFINITIONS */
OBJECT = IMAGE
  INTERCHANGE_FORMAT = BINARY
  LINES = 38225
  LINE_SAMPLES = 4544
  SAMPLE_TYPE = UNSIGNED_INTEGER
  SAMPLE_BITS = 8
  BANDS = 1
  BAND_STORAGE_TYPE = BAND_SEQUENTIAL
  MAXIMUM = 255
  MEAN = 90.5369
  MINIMUM = 1
  STANDARD_DEVIATION = 25.6723
END_OBJECT = IMAGE
/* MAP OBJECT DEFINITIONS */
OBJECT = IMAGE_MAP_PROJECTION
  ^DATA_SET_MAP_PROJECTION_CATALOG= "DSMAP.CAT"
  A_AXIS_RADIUS = 3396.0
  B_AXIS_RADIUS = 3396.0
  C_AXIS_RADIUS = 3396.0
  CENTER_LATITUDE = 0.0
  CENTER_LONGITUDE = 286.0
  COORDINATE_SYSTEM_NAME = PLANETOGRAPHIC
  COORDINATE_SYSTEM_TYPE = "BODY-FIXED ROTATING"
  EASTERNMOST_LONGITUDE = 286.545
  FIRST_STANDARD_PARALLEL = "N/A"
  LINE_FIRST_PIXEL = 1
  LINE_LAST_PIXEL = 38225
  LINE_PROJECTION_OFFSET = 33280.25
  MAP_PROJECTION_ROTATION = 0.0
  MAP_PROJECTION_TYPE = SINUSOIDAL
  MAP_RESOLUTION = 2370.85521546667
  MAP_SCALE = 0.025
  MAXIMUM_LATITUDE = 14.0436
  MINIMUM_LATITUDE = -2.08861
  POSITIVE_LONGITUDE_DIRECTION = EAST
  REFERENCE_LATITUDE = "N/A"
  REFERENCE_LONGITUDE = "N/A"
  SAMPLE_FIRST_PIXEL = 1
  SAMPLE_LAST_PIXEL = 4544
  SAMPLE_PROJECTION_OFFSET = 3531.25
  SECOND_STANDARD_PARALLEL = "N/A"
  WESTERNMOST_LONGITUDE = 284.358
END_OBJECT = IMAGE_MAP_PROJECTION
END
