PDS_VERSION_ID = PDS3
/* FILE DATA ELEMENTS */
RECORD_TYPE = UNDEFINED
/* POINTERS TO DATA OBJECTS */
^IMAGE = ("H6252_0000_GR4.TIF")
/* IDENTIFICATION DATA ELEMENTS */
DATA_SET_ID = "MEX-M-HRSC-4-REFDR-MAPPROJECT-EXT2-V4.0"
DATA_SET_NAME = "MARS EXPRESS HRSC MAP PROJECTED REFDR EXTENSION2 V4.0"
DETECTOR_ID = MEX_HRSC_GREEN
EVENT_TYPE = "MARS-REGIONAL-MAPPING-Vo"
INSTRUMENT_HOST_ID = MEX
INSTRUMENT_HOST_NAME = "MARS EXPRESS"
INSTRUMENT_ID = HRSC
INSTRUMENT_NAME = "HIGH RESOLUTION STEREO CAMERA"
MISSION_NAME = "MARS EXPRESS"
MISSION_PHASE_NAME = ME_Phase_15
PROCESSING_LEVEL_ID = 4
PRODUCT_CREATION_TIME = 2023-02-05T01:11:29.000Z
PRODUCT_ID = "H6252_0000_GR4.TIF"
RELEASE_ID = 0005
REVISION_ID = 0000
/* QUALITY DATA ELEMENTS */
DATA_QUALITY_ID = 1
DATA_QUALITY_DESC = "Data calculated based on original SPICE kernels"
/* TIME DATA ELEMENTS */
SPACECRAFT_CLOCK_START_COUNT = "1/0174745702.09065"
SPACECRAFT_CLOCK_STOP_COUNT = "1/0174745942.23621"
START_TIME = 2008-11-14T12:29:05.544Z
STOP_TIME = 2008-11-14T12:31:42.351Z
/* ORBITAL DATA ELEMENTS */
ASCENDING_NODE_LONGITUDE = 98.81
MAXIMUM_RESOLUTION = 0.0597
FOOTPRINT_POINT_LATITUDE = (-3.63655,-3.64016,-3.64378,-3.64747, -3.65118,-3.65495,-3.66123,-3.66147, -3.65312,-3.2871,-2.92161,-2.55687, -2.19267,-1.82926,-1.46635,-1.10423, -0.742799,-0.557757,-0.372516,-0.187353 ,-0.0023611,0.367078,0.650565,0.839546, 1.02839,1.217,1.40541,1.59734,1.79017, 1.98279,2.1752,2.36742,2.56201,2.75853, 2.95486,3.15096,3.3468,3.64614,3.84618, 4.04593,4.24545,4.55017,4.75379,4.95716 ,5.26397,5.47137,5.67848,5.88533, 5.98864,5.99088,6.00041,6.01041,6.01812 ,6.02336,6.02871,6.02903,6.028,5.82097, 5.61368,5.40608,5.19827,4.99486,4.79122 ,4.58728,4.28202,4.0822,3.88214,3.68181 ,3.38191,3.18575,2.98938,2.79275, 2.59589,2.40098,2.20852,2.01585,1.82294 ,1.62982,1.43763,1.24895,1.06007, 0.870977,0.68172,0.397818,0.212931, 0.0278656,-0.157375,-0.342784,-0.528376 ,-0.713753,-1.07589,-1.43844,-1.80168, -2.16555,-2.53007,-2.89531,-3.26119, -3.53598,-3.62765,-3.63655)
FOOTPRINT_POINT_LONGITUDE = (263.794,263.595,263.393,263.188, 262.979,262.767,262.413,262.4,262.442, 262.435,262.428,262.42,262.412,262.403, 262.394,262.385,262.375,262.37,262.365, 262.361,262.356,262.348,262.341,262.336 ,262.331,262.326,262.321,262.316, 262.311,262.306,262.3,262.295,262.29, 262.284,262.278,262.272,262.266,262.257 ,262.251,262.244,262.238,262.228, 262.221,262.215,262.204,262.197,262.19, 262.183,262.179,262.179,262.572,263.005 ,263.35,263.597,263.856,263.871,263.876 ,263.875,263.873,263.871,263.869, 263.867,263.866,263.864,263.861,263.86, 263.858,263.857,263.854,263.853,263.851 ,263.85,263.848,263.847,263.845,263.844 ,263.842,263.841,263.84,263.838,263.837 ,263.836,263.834,263.832,263.831,263.83 ,263.829,263.827,263.826,263.825, 263.823,263.821,263.82,263.818,263.816, 263.815,263.813,263.811,263.811, 263.794)
ORBIT_NUMBER = 6252
ORBITAL_ECCENTRICITY = 0.575
ORBITAL_INCLINATION = 86.74
ORBITAL_SEMIMAJOR_AXIS = 8728.55
PERIAPSIS_ALTITUDE = 312.11
PERIAPSIS_ARGUMENT_ANGLE = 338.79
PERIAPSIS_TIME = 2008-11-14T12:24:31.000Z
SPACECRAFT_ORIENTATION = (0.0,1.0,0.0)
^MEX_ORIENTATION_DESC = "MEX_ORIENTATION_DESC.TXT"
SPACECRAFT_POINTING_MODE = ACROSSTRACK
^MEX_POINTING_DESC = "MEX_POINTING_DESC.TXT"
RIGHT_ASCENSION = -1e+32
DECLINATION = -1e+32
OFFSET_ANGLE = 1.5
SPACECRAFT_SOLAR_DISTANCE = 2.27245e+08
TARGET_NAME = MARS
/* CAMERA DATA ELEMENTS */
DETECTOR_TEMPERATURE = 17.7588
FOCAL_PLANE_TEMPERATURE = 7.7677
INST_CMPRS_NAME = "DISCRETE COSINE TRANSFORMATION (DCT)"
INST_CMPRS_RATIO = 13.4706
INST_CMPRS_QUALITY = 0
INST_CMPRS_QUANTZ_TBL_ID = 0
INSTRUMENT_TEMPERATURE = 10.8262
LENS_TEMPERATURE = 7.7677
MACROPIXEL_SIZE = 4
MISSING_FRAMES = 0
PIXEL_SUBSAMPLING_FLAG = N
SIGNAL_CHAIN_ID = 2
/* RADIOMETRIC DATA ELEMENTS */
BANDWIDTH = 88.0
CENTER_FILTER_WAVELENGTH = 538.0
RADIANCE_OFFSET = 1.10493
RADIANCE_SCALING_FACTOR = 0.00237894
REFLECTANCE_SCALING_FACTOR = 0.000105769
MEX:REFLECTANCE_OFFSET = 0.0491259
/* IMAGE OBJECT DEFINITIONS */
OBJECT = IMAGE
  INTERCHANGE_FORMAT = BINARY
  LINES = 11458
  LINE_SAMPLES = 1991
  SAMPLE_TYPE = UNSIGNED_INTEGER
  SAMPLE_BITS = 8
  BANDS = 1
  BAND_STORAGE_TYPE = BAND_SEQUENTIAL
  MAXIMUM = 255
  MEAN = 116.189
  MINIMUM = 1
  STANDARD_DEVIATION = 40.6833
END_OBJECT = IMAGE
/* MAP OBJECT DEFINITIONS */
OBJECT = IMAGE_MAP_PROJECTION
  ^DATA_SET_MAP_PROJECTION_CATALOG= "DSMAP.CAT"
  A_AXIS_RADIUS = 3396.0
  B_AXIS_RADIUS = 3396.0
  C_AXIS_RADIUS = 3396.0
  CENTER_LATITUDE = 0.0
  CENTER_LONGITUDE = 263.0
  COORDINATE_SYSTEM_NAME = PLANETOGRAPHIC
  COORDINATE_SYSTEM_TYPE = "BODY-FIXED ROTATING"
  EASTERNMOST_LONGITUDE = 263.876
  FIRST_STANDARD_PARALLEL = "N/A"
  LINE_FIRST_PIXEL = 1
  LINE_LAST_PIXEL = 11458
  LINE_PROJECTION_OFFSET = 7124.375
  MAP_PROJECTION_ROTATION = 0.0
  MAP_PROJECTION_TYPE = SINUSOIDAL
  MAP_RESOLUTION = 1185.42760773333
  MAP_SCALE = 0.05
  MAXIMUM_LATITUDE = 6.02903
  MINIMUM_LATITUDE = -3.66147
  POSITIVE_LONGITUDE_DIRECTION = EAST
  REFERENCE_LATITUDE = "N/A"
  REFERENCE_LONGITUDE = "N/A"
  SAMPLE_FIRST_PIXEL = 1
  SAMPLE_LAST_PIXEL = 1991
  SAMPLE_PROJECTION_OFFSET = 967.125
  SECOND_STANDARD_PARALLEL = "N/A"
  WESTERNMOST_LONGITUDE = 262.179
END_OBJECT = IMAGE_MAP_PROJECTION
END
