PDS_VERSION_ID = PDS3
/* FILE DATA ELEMENTS */
RECORD_TYPE = UNDEFINED
/* POINTERS TO DATA OBJECTS */
^IMAGE = ("H6384_0000_P14.TIF")
/* IDENTIFICATION DATA ELEMENTS */
DATA_SET_ID = "MEX-M-HRSC-4-REFDR-MAPPROJECT-EXT2-V4.0"
DATA_SET_NAME = "MARS EXPRESS HRSC MAP PROJECTED REFDR EXTENSION2 V4.0"
DETECTOR_ID = MEX_HRSC_P1
EVENT_TYPE = "MARS-REGIONAL-MAPPING-Im-Fl"
INSTRUMENT_HOST_ID = MEX
INSTRUMENT_HOST_NAME = "MARS EXPRESS"
INSTRUMENT_ID = HRSC
INSTRUMENT_NAME = "HIGH RESOLUTION STEREO CAMERA"
MISSION_NAME = "MARS EXPRESS"
MISSION_PHASE_NAME = ME_Phase_15
PROCESSING_LEVEL_ID = 4
PRODUCT_CREATION_TIME = 2023-02-05T01:11:29.000Z
PRODUCT_ID = "H6384_0000_P14.TIF"
RELEASE_ID = 0005
REVISION_ID = 0000
/* QUALITY DATA ELEMENTS */
DATA_QUALITY_ID = 1
DATA_QUALITY_DESC = "Data calculated based on original SPICE kernels"
/* TIME DATA ELEMENTS */
SPACECRAFT_CLOCK_START_COUNT = "1/0177999755.08362"
SPACECRAFT_CLOCK_STOP_COUNT = "1/0178000121.20890"
START_TIME = 2008-12-22T04:23:30.488Z
STOP_TIME = 2008-12-22T04:28:21.940Z
/* ORBITAL DATA ELEMENTS */
ASCENDING_NODE_LONGITUDE = 96.17
MAXIMUM_RESOLUTION = 0.0583
FOOTPRINT_POINT_LATITUDE = (-29.338,-29.3427,-29.3467,-29.3507, -29.3508,-29.3625,-28.5304,-27.9772, -27.1707,-26.8431,-26.5161,-26.1895, -25.8639,-25.5392,-25.2143,-24.8908, -24.5667,-24.2458,-23.9236,-23.4448, -23.1225,-22.7942,-22.4663,-22.1424, -21.8092,-21.3097,-20.9721,-20.6333, -20.1226,-19.7768,-19.4323,-19.08, -18.729,-18.194,-17.8367,-17.4745, -17.1125,-16.7446,-16.3763,-16.0023, -15.6281,-15.2473,-14.6733,-14.2871, -13.896,-13.5026,-13.1068,-12.5037, -12.3013,-12.1889,-12.1783,-12.158, -12.1495,-12.1369,-12.1364,-12.1375, -12.7455,-13.3451,-13.7419,-14.1327, -14.7139,-15.0971,-15.6723,-16.2312, -16.602,-17.1558,-17.5199,-17.8826, -18.2399,-18.5978,-18.9495,-19.4795, -19.9957,-20.3403,-20.8501,-21.1906, -21.5233,-21.8574,-22.1903,-22.5167, -22.8446,-23.1713,-23.6523,-23.9733, -24.2965,-24.6196,-24.9425,-25.2666, -25.5918,-25.9177,-26.2442,-26.5718, -26.8994,-27.2279,-27.5565,-27.8851, -28.4391,-29.1341,-29.2731,-29.338)
FOOTPRINT_POINT_LONGITUDE = (4.87554,4.45837,4.03508,3.46984, 3.45624,3.43912,3.44809,3.45353,3.46061 ,3.46252,3.46414,3.46561,3.46655, 3.46696,3.46791,3.46779,3.46875,3.46689 ,3.46677,3.46294,3.46369,3.46252, 3.46137,3.45699,3.45419,3.44993,3.44695 ,3.44266,3.43598,3.43167,3.42675, 3.42188,3.41637,3.40849,3.40259,3.39539 ,3.38764,3.37983,3.37171,3.3634,3.35476 ,3.34601,3.33142,3.32169,3.31094, 3.30031,3.28776,3.27027,3.26426,3.25922 ,3.73935,4.38289,4.71034,5.19795, 5.21595,5.22192,5.21115,5.20048,5.19364 ,5.18633,5.17598,5.16907,5.15962, 5.14875,5.14223,5.13237,5.12576,5.11922 ,5.11255,5.10593,5.09939,5.0898,5.07965 ,5.07303,5.06321,5.05662,5.05003, 5.04342,5.03682,5.03017,5.02351,5.01679 ,5.00679,4.99998,4.99319,4.98627, 4.97921,4.9721,4.96492,4.95764,4.95027, 4.94281,4.93523,4.92755,4.91975,4.9119, 4.8984,4.88106,4.87753,4.87554)
ORBIT_NUMBER = 6384
ORBITAL_ECCENTRICITY = 0.575
ORBITAL_INCLINATION = 86.75
ORBITAL_SEMIMAJOR_AXIS = 8687.47
PERIAPSIS_ALTITUDE = 307.08
PERIAPSIS_ARGUMENT_ANGLE = 315.81
PERIAPSIS_TIME = 2008-12-22T04:19:25.000Z
SPACECRAFT_ORIENTATION = (0.0,1.0,0.0)
^MEX_ORIENTATION_DESC = "MEX_ORIENTATION_DESC.TXT"
SPACECRAFT_POINTING_MODE = ACROSSTRACK
^MEX_POINTING_DESC = "MEX_POINTING_DESC.TXT"
RIGHT_ASCENSION = -1e+32
DECLINATION = -1e+32
OFFSET_ANGLE = 0.6
SPACECRAFT_SOLAR_DISTANCE = 2.19962e+08
TARGET_NAME = MARS
/* CAMERA DATA ELEMENTS */
DETECTOR_TEMPERATURE = 17.7588
FOCAL_PLANE_TEMPERATURE = 8.3794
INST_CMPRS_NAME = "DISCRETE COSINE TRANSFORMATION (DCT)"
INST_CMPRS_RATIO = 9.05534
INST_CMPRS_QUALITY = 0
INST_CMPRS_QUANTZ_TBL_ID = 0
INSTRUMENT_TEMPERATURE = 11.4379
LENS_TEMPERATURE = 8.9911
MACROPIXEL_SIZE = 4
MISSING_FRAMES = 0
PIXEL_SUBSAMPLING_FLAG = N
SIGNAL_CHAIN_ID = 3
/* RADIOMETRIC DATA ELEMENTS */
BANDWIDTH = 174.0
CENTER_FILTER_WAVELENGTH = 675.0
RADIANCE_OFFSET = 3.07046
RADIANCE_SCALING_FACTOR = 0.0196174
REFLECTANCE_SCALING_FACTOR = 0.000510528
MEX:REFLECTANCE_OFFSET = 0.0799065
/* IMAGE OBJECT DEFINITIONS */
OBJECT = IMAGE
  INTERCHANGE_FORMAT = BINARY
  LINES = 20415
  LINE_SAMPLES = 2151
  SAMPLE_TYPE = UNSIGNED_INTEGER
  SAMPLE_BITS = 8
  BANDS = 1
  BAND_STORAGE_TYPE = BAND_SEQUENTIAL
  MAXIMUM = 255
  MEAN = 147.25
  MINIMUM = 1
  STANDARD_DEVIATION = 28.1924
END_OBJECT = IMAGE
/* MAP OBJECT DEFINITIONS */
OBJECT = IMAGE_MAP_PROJECTION
  ^DATA_SET_MAP_PROJECTION_CATALOG= "DSMAP.CAT"
  A_AXIS_RADIUS = 3396.0
  B_AXIS_RADIUS = 3396.0
  C_AXIS_RADIUS = 3396.0
  CENTER_LATITUDE = 0.0
  CENTER_LONGITUDE = 4.0
  COORDINATE_SYSTEM_NAME = PLANETOGRAPHIC
  COORDINATE_SYSTEM_TYPE = "BODY-FIXED ROTATING"
  EASTERNMOST_LONGITUDE = 5.22192
  FIRST_STANDARD_PARALLEL = "N/A"
  LINE_FIRST_PIXEL = 1
  LINE_LAST_PIXEL = 20415
  LINE_PROJECTION_OFFSET = -14417.625
  MAP_PROJECTION_ROTATION = 0.0
  MAP_PROJECTION_TYPE = SINUSOIDAL
  MAP_RESOLUTION = 1185.42760773333
  MAP_SCALE = 0.05
  MAXIMUM_LATITUDE = -12.1364
  MINIMUM_LATITUDE = -29.3625
  POSITIVE_LONGITUDE_DIRECTION = EAST
  REFERENCE_LATITUDE = "N/A"
  REFERENCE_LONGITUDE = "N/A"
  SAMPLE_FIRST_PIXEL = 1
  SAMPLE_LAST_PIXEL = 2151
  SAMPLE_PROJECTION_OFFSET = 799.875
  SECOND_STANDARD_PARALLEL = "N/A"
  WESTERNMOST_LONGITUDE = 3.25922
END_OBJECT = IMAGE_MAP_PROJECTION
END
