PDS_VERSION_ID = PDS3
/* FILE DATA ELEMENTS */
RECORD_TYPE = UNDEFINED
/* POINTERS TO DATA OBJECTS */
^IMAGE = ("H6415_0000_GR4.TIF")
/* IDENTIFICATION DATA ELEMENTS */
DATA_SET_ID = "MEX-M-HRSC-4-REFDR-MAPPROJECT-EXT2-V4.0"
DATA_SET_NAME = "MARS EXPRESS HRSC MAP PROJECTED REFDR EXTENSION2 V4.0"
DETECTOR_ID = MEX_HRSC_GREEN
EVENT_TYPE = "MARS-REGIONAL-MAPPING-Im-Fl"
INSTRUMENT_HOST_ID = MEX
INSTRUMENT_HOST_NAME = "MARS EXPRESS"
INSTRUMENT_ID = HRSC
INSTRUMENT_NAME = "HIGH RESOLUTION STEREO CAMERA"
MISSION_NAME = "MARS EXPRESS"
MISSION_PHASE_NAME = ME_Phase_15
PROCESSING_LEVEL_ID = 4
PRODUCT_CREATION_TIME = 2023-02-05T03:41:04.000Z
PRODUCT_ID = "H6415_0000_GR4.TIF"
RELEASE_ID = 0006
REVISION_ID = 0000
/* QUALITY DATA ELEMENTS */
DATA_QUALITY_ID = 1
DATA_QUALITY_DESC = "Data calculated based on original SPICE kernels"
/* TIME DATA ELEMENTS */
SPACECRAFT_CLOCK_START_COUNT = "1/0178763954.09034"
SPACECRAFT_CLOCK_STOP_COUNT = "1/0178764299.08397"
START_TIME = 2008-12-31T00:39:52.991Z
STOP_TIME = 2008-12-31T00:44:15.962Z
/* ORBITAL DATA ELEMENTS */
ASCENDING_NODE_LONGITUDE = 95.55
MAXIMUM_RESOLUTION = 0.0547
FOOTPRINT_POINT_LATITUDE = (-35.8203,-35.8142,-35.8079,-35.8003, -35.8,-35.804,-35.387,-35.1094,-34.5548 ,-33.8632,-33.1734,-32.6238,-32.2994, -31.9721,-31.6429,-31.1537,-30.8275, -30.5026,-30.1782,-29.854,-29.5305, -29.2072,-28.8844,-28.5623,-28.2408, -27.92,-27.5996,-27.2716,-26.9436, -26.6162,-26.2833,-25.9485,-25.6147, -25.2754,-24.9341,-24.5936,-24.245, -23.8992,-23.5485,-23.194,-22.8417, -22.4805,-21.94,-21.5728,-21.2067, -20.8341,-20.4613,-20.0829,-19.7039, -19.5124,-19.491,-19.4916,-19.4904, -19.487,-19.4868,-19.488,-20.0604, -20.4398,-20.8129,-21.1865,-21.5531, -22.102,-22.4628,-22.8239,-23.1782, -23.7098,-24.2326,-24.5817,-24.9229, -25.2645,-25.6046,-25.9378,-26.2731, -26.6069,-26.9347,-27.2634,-27.5924, -27.9135,-28.235,-28.5572,-28.8797, -29.2027,-29.5263,-29.8503,-30.175, -30.5001,-30.8255,-31.1514,-31.478, -31.8051,-32.1326,-32.4605,-32.7632, -33.3144,-33.7287,-34.2822,-34.9758, -35.6706,-35.8099,-35.8203)
FOOTPRINT_POINT_LONGITUDE = (142.124,141.524,141.081,140.649, 140.636,140.64,140.642,140.642,140.643, 140.643,140.641,140.64,140.641,140.64, 140.635,140.632,140.629,140.626,140.624 ,140.621,140.617,140.614,140.61,140.606 ,140.602,140.598,140.593,140.588, 140.583,140.578,140.572,140.566,140.56, 140.554,140.548,140.541,140.533,140.527 ,140.518,140.51,140.503,140.494,140.481 ,140.471,140.462,140.452,140.442, 140.431,140.42,140.415,140.414,141.141, 141.624,142.238,142.255,142.261,142.258 ,142.255,142.251,142.248,142.244,142.24 ,142.237,142.235,142.233,142.23,142.231 ,142.231,142.23,142.228,142.224,142.215 ,142.214,142.212,142.21,142.21,142.209, 142.209,142.207,142.207,142.205,142.203 ,142.201,142.199,142.197,142.196, 142.193,142.189,142.188,142.186,142.184 ,142.181,142.178,142.174,142.171, 142.168,142.164,142.156,142.155, 142.124)
ORBIT_NUMBER = 6415
ORBITAL_ECCENTRICITY = 0.575
ORBITAL_INCLINATION = 86.75
ORBITAL_SEMIMAJOR_AXIS = 8679.94
PERIAPSIS_ALTITUDE = 306.57
PERIAPSIS_ARGUMENT_ANGLE = 310.47
PERIAPSIS_TIME = 2008-12-31T00:36:21.000Z
SPACECRAFT_ORIENTATION = (0.0,1.0,0.0)
^MEX_ORIENTATION_DESC = "MEX_ORIENTATION_DESC.TXT"
SPACECRAFT_POINTING_MODE = ACROSSTRACK
^MEX_POINTING_DESC = "MEX_POINTING_DESC.TXT"
RIGHT_ASCENSION = -1e+32
DECLINATION = -1e+32
OFFSET_ANGLE = -1.0
SPACECRAFT_SOLAR_DISTANCE = 2.1833e+08
TARGET_NAME = MARS
/* CAMERA DATA ELEMENTS */
DETECTOR_TEMPERATURE = 17.7588
FOCAL_PLANE_TEMPERATURE = 7.5638
INST_CMPRS_NAME = "DISCRETE COSINE TRANSFORMATION (DCT)"
INST_CMPRS_RATIO = 8.238
INST_CMPRS_QUALITY = 0
INST_CMPRS_QUANTZ_TBL_ID = 0
INSTRUMENT_TEMPERATURE = 11.0301
LENS_TEMPERATURE = 7.9716
MACROPIXEL_SIZE = 4
MISSING_FRAMES = 0
PIXEL_SUBSAMPLING_FLAG = N
SIGNAL_CHAIN_ID = 2
/* RADIOMETRIC DATA ELEMENTS */
BANDWIDTH = 88.0
CENTER_FILTER_WAVELENGTH = 538.0
RADIANCE_OFFSET = 0.933395
RADIANCE_SCALING_FACTOR = 0.0053829
REFLECTANCE_SCALING_FACTOR = 0.000220917
MEX:REFLECTANCE_OFFSET = 0.0383071
/* IMAGE OBJECT DEFINITIONS */
OBJECT = IMAGE
  INTERCHANGE_FORMAT = BINARY
  LINES = 19364
  LINE_SAMPLES = 2050
  SAMPLE_TYPE = UNSIGNED_INTEGER
  SAMPLE_BITS = 8
  BANDS = 1
  BAND_STORAGE_TYPE = BAND_SEQUENTIAL
  MAXIMUM = 255
  MEAN = 146.117
  MINIMUM = 1
  STANDARD_DEVIATION = 23.7295
END_OBJECT = IMAGE
/* MAP OBJECT DEFINITIONS */
OBJECT = IMAGE_MAP_PROJECTION
  ^DATA_SET_MAP_PROJECTION_CATALOG= "DSMAP.CAT"
  A_AXIS_RADIUS = 3396.0
  B_AXIS_RADIUS = 3396.0
  C_AXIS_RADIUS = 3396.0
  CENTER_LATITUDE = 0.0
  CENTER_LONGITUDE = 141.0
  COORDINATE_SYSTEM_NAME = PLANETOGRAPHIC
  COORDINATE_SYSTEM_TYPE = "BODY-FIXED ROTATING"
  EASTERNMOST_LONGITUDE = 142.261
  FIRST_STANDARD_PARALLEL = "N/A"
  LINE_FIRST_PIXEL = 1
  LINE_LAST_PIXEL = 19364
  LINE_PROJECTION_OFFSET = -23089.375
  MAP_PROJECTION_ROTATION = 0.0
  MAP_PROJECTION_TYPE = SINUSOIDAL
  MAP_RESOLUTION = 1185.42760773333
  MAP_SCALE = 0.05
  MAXIMUM_LATITUDE = -19.4868
  MINIMUM_LATITUDE = -35.8203
  POSITIVE_LONGITUDE_DIRECTION = EAST
  REFERENCE_LATITUDE = "N/A"
  REFERENCE_LONGITUDE = "N/A"
  SAMPLE_FIRST_PIXEL = 1
  SAMPLE_LAST_PIXEL = 2050
  SAMPLE_PROJECTION_OFFSET = 651.375
  SECOND_STANDARD_PARALLEL = "N/A"
  WESTERNMOST_LONGITUDE = 140.414
END_OBJECT = IMAGE_MAP_PROJECTION
END
