PDS_VERSION_ID = PDS3
/* FILE DATA ELEMENTS */
RECORD_TYPE = UNDEFINED
/* POINTERS TO DATA OBJECTS */
^IMAGE = ("H6430_0000_P14.TIF")
/* IDENTIFICATION DATA ELEMENTS */
DATA_SET_ID = "MEX-M-HRSC-4-REFDR-MAPPROJECT-EXT2-V4.0"
DATA_SET_NAME = "MARS EXPRESS HRSC MAP PROJECTED REFDR EXTENSION2 V4.0"
DETECTOR_ID = MEX_HRSC_P1
EVENT_TYPE = "MARS-REGIONAL-MAPPING-Im-Fl-La"
INSTRUMENT_HOST_ID = MEX
INSTRUMENT_HOST_NAME = "MARS EXPRESS"
INSTRUMENT_ID = HRSC
INSTRUMENT_NAME = "HIGH RESOLUTION STEREO CAMERA"
MISSION_NAME = "MARS EXPRESS"
MISSION_PHASE_NAME = ME_Phase_15
PROCESSING_LEVEL_ID = 4
PRODUCT_CREATION_TIME = 2023-02-05T03:41:04.000Z
PRODUCT_ID = "H6430_0000_P14.TIF"
RELEASE_ID = 0006
REVISION_ID = 0000
/* QUALITY DATA ELEMENTS */
DATA_QUALITY_ID = 1
DATA_QUALITY_DESC = "Data calculated based on original SPICE kernels"
/* TIME DATA ELEMENTS */
SPACECRAFT_CLOCK_START_COUNT = "1/0179133788.08243"
SPACECRAFT_CLOCK_STOP_COUNT = "1/0179134085.57863"
START_TIME = 2009-01-04T07:24:04.950Z
STOP_TIME = 2009-01-04T07:27:47.078Z
/* ORBITAL DATA ELEMENTS */
ASCENDING_NODE_LONGITUDE = 95.25
MAXIMUM_RESOLUTION = 0.0311
FOOTPRINT_POINT_LATITUDE = (-34.7481,-34.7355,-34.7236,-34.7106, -34.7102,-34.7604,-34.5117,-34.1409, -33.8935,-33.6452,-33.3958,-33.1493, -32.903,-32.4089,-32.0442,-31.7993, -31.4299,-30.9454,-30.5754,-30.3259, -30.0802,-29.8321,-29.5789,-29.3246, -29.0721,-28.8133,-28.4269,-28.1733, -27.7844,-27.393,-27.1324,-26.8658, -26.598,-26.3277,-26.0566,-25.7863, -25.5154,-25.239,-24.9637,-24.6887, -24.4083,-24.1283,-23.7034,-23.4206, -22.9899,-22.7025,-22.4116,-21.8292, -21.6806,-21.6253,-21.6249,-21.6282, -21.6289,-21.6332,-21.6333,-21.634, -21.9323,-22.225,-22.6668,-23.0981, -23.386,-23.6721,-23.9572,-24.2382, -24.518,-24.795,-25.0711,-25.3475, -25.7571,-26.0285,-26.3014,-26.5694, -26.836,-27.1039,-27.3661,-27.6281, -28.0206,-28.2776,-28.6614,-29.0465, -29.3053,-29.6853,-30.1842,-30.5579, -30.8074,-31.2933,-31.5377,-31.9075, -32.1542,-32.3997,-32.6479,-33.0163, -33.2631,-33.51,-33.7578,-34.1307, -34.3792,-34.6278,-34.7524,-34.7481)
FOOTPRINT_POINT_LONGITUDE = (79.3877,78.8015,78.3153,77.8352, 77.8203,77.8102,77.8111,77.812,77.8125, 77.8129,77.8134,77.8133,77.8132,77.8127 ,77.8114,77.8106,77.8094,77.8065, 77.8042,77.8025,77.8002,77.7982,77.7959 ,77.7936,77.791,77.7884,77.7837,77.7799 ,77.7747,77.7688,77.7647,77.7605, 77.7564,77.7526,77.7479,77.7429,77.7378 ,77.7327,77.7271,77.7213,77.7154, 77.7093,77.6997,77.6928,77.6823,77.6749 ,77.6673,77.6507,77.6466,77.6451,78.134 ,78.4741,78.9488,79.5831,79.6024, 79.6095,79.6057,79.6014,79.5976,79.5903 ,79.5865,79.5842,79.5805,79.5769, 79.5727,79.5666,79.5636,79.5602,79.5548 ,79.5512,79.5486,79.5465,79.5427, 79.5395,79.5361,79.5324,79.5264,79.5227 ,79.5147,79.507,79.5091,79.5038,79.4968 ,79.4926,79.4896,79.4817,79.4789,79.477 ,79.4754,79.4721,79.4712,79.465,79.4616 ,79.4578,79.4546,79.4501,79.4465, 79.4426,79.4407,79.3877)
ORBIT_NUMBER = 6430
ORBITAL_ECCENTRICITY = 0.575
ORBITAL_INCLINATION = 86.77
ORBITAL_SEMIMAJOR_AXIS = 8675.42
PERIAPSIS_ALTITUDE = 305.08
PERIAPSIS_ARGUMENT_ANGLE = 307.86
PERIAPSIS_TIME = 2009-01-04T07:19:19.000Z
SPACECRAFT_ORIENTATION = (0.0,1.0,0.0)
^MEX_ORIENTATION_DESC = "MEX_ORIENTATION_DESC.TXT"
SPACECRAFT_POINTING_MODE = ACROSSTRACK
^MEX_POINTING_DESC = "MEX_POINTING_DESC.TXT"
RIGHT_ASCENSION = -1e+32
DECLINATION = -1e+32
OFFSET_ANGLE = -0.54
SPACECRAFT_SOLAR_DISTANCE = 2.17559e+08
TARGET_NAME = MARS
/* CAMERA DATA ELEMENTS */
DETECTOR_TEMPERATURE = 18.1666
FOCAL_PLANE_TEMPERATURE = 8.3794
INST_CMPRS_NAME = "DISCRETE COSINE TRANSFORMATION (DCT)"
INST_CMPRS_RATIO = 10.5536
INST_CMPRS_QUALITY = 0
INST_CMPRS_QUANTZ_TBL_ID = 0
INSTRUMENT_TEMPERATURE = 11.234
LENS_TEMPERATURE = 8.9911
MACROPIXEL_SIZE = 2
MISSING_FRAMES = 1
PIXEL_SUBSAMPLING_FLAG = N
SIGNAL_CHAIN_ID = 3
/* RADIOMETRIC DATA ELEMENTS */
BANDWIDTH = 174.0
CENTER_FILTER_WAVELENGTH = 675.0
RADIANCE_OFFSET = 5.43653
RADIANCE_SCALING_FACTOR = 0.00884969
REFLECTANCE_SCALING_FACTOR = 0.000225304
MEX:REFLECTANCE_OFFSET = 0.138408
/* IMAGE OBJECT DEFINITIONS */
OBJECT = IMAGE
  INTERCHANGE_FORMAT = BINARY
  LINES = 31148
  LINE_SAMPLES = 4090
  SAMPLE_TYPE = UNSIGNED_INTEGER
  SAMPLE_BITS = 8
  BANDS = 1
  BAND_STORAGE_TYPE = BAND_SEQUENTIAL
  MAXIMUM = 255
  MEAN = 137.782
  MINIMUM = 1
  STANDARD_DEVIATION = 28.9593
END_OBJECT = IMAGE
/* MAP OBJECT DEFINITIONS */
OBJECT = IMAGE_MAP_PROJECTION
  ^DATA_SET_MAP_PROJECTION_CATALOG= "DSMAP.CAT"
  A_AXIS_RADIUS = 3396.0
  B_AXIS_RADIUS = 3396.0
  C_AXIS_RADIUS = 3396.0
  CENTER_LATITUDE = 0.0
  CENTER_LONGITUDE = 79.0
  COORDINATE_SYSTEM_NAME = PLANETOGRAPHIC
  COORDINATE_SYSTEM_TYPE = "BODY-FIXED ROTATING"
  EASTERNMOST_LONGITUDE = 79.6095
  FIRST_STANDARD_PARALLEL = "N/A"
  LINE_FIRST_PIXEL = 1
  LINE_LAST_PIXEL = 31148
  LINE_PROJECTION_OFFSET = -51284.25
  MAP_PROJECTION_ROTATION = 0.0
  MAP_PROJECTION_TYPE = SINUSOIDAL
  MAP_RESOLUTION = 2370.85521546667
  MAP_SCALE = 0.025
  MAXIMUM_LATITUDE = -21.6249
  MINIMUM_LATITUDE = -34.7604
  POSITIVE_LONGITUDE_DIRECTION = EAST
  REFERENCE_LATITUDE = "N/A"
  REFERENCE_LONGITUDE = "N/A"
  SAMPLE_FIRST_PIXEL = 1
  SAMPLE_LAST_PIXEL = 4090
  SAMPLE_PROJECTION_OFFSET = 2880.75
  SECOND_STANDARD_PARALLEL = "N/A"
  WESTERNMOST_LONGITUDE = 77.6451
END_OBJECT = IMAGE_MAP_PROJECTION
END
