PDS_VERSION_ID = PDS3
/* FILE DATA ELEMENTS */
RECORD_TYPE = UNDEFINED
/* POINTERS TO DATA OBJECTS */
^IMAGE = ("H6498_0000_BL4.TIF")
/* IDENTIFICATION DATA ELEMENTS */
DATA_SET_ID = "MEX-M-HRSC-4-REFDR-MAPPROJECT-EXT2-V4.0"
DATA_SET_NAME = "MARS EXPRESS HRSC MAP PROJECTED REFDR EXTENSION2 V4.0"
DETECTOR_ID = MEX_HRSC_BLUE
EVENT_TYPE = "MARS-REGIONAL-MAPPING-Vo-Im-Fl"
INSTRUMENT_HOST_ID = MEX
INSTRUMENT_HOST_NAME = "MARS EXPRESS"
INSTRUMENT_ID = HRSC
INSTRUMENT_NAME = "HIGH RESOLUTION STEREO CAMERA"
MISSION_NAME = "MARS EXPRESS"
MISSION_PHASE_NAME = ME_Phase_15
PROCESSING_LEVEL_ID = 4
PRODUCT_CREATION_TIME = 2023-02-05T03:41:04.000Z
PRODUCT_ID = "H6498_0000_BL4.TIF"
RELEASE_ID = 0006
REVISION_ID = 0000
/* QUALITY DATA ELEMENTS */
DATA_QUALITY_ID = 1
DATA_QUALITY_DESC = "Data calculated based on original SPICE kernels"
/* TIME DATA ELEMENTS */
SPACECRAFT_CLOCK_START_COUNT = "1/0180815324.08232"
SPACECRAFT_CLOCK_STOP_COUNT = "1/0180815813.15003"
START_TIME = 2009-01-23T18:29:17.376Z
STOP_TIME = 2009-01-23T18:35:04.898Z
/* ORBITAL DATA ELEMENTS */
ASCENDING_NODE_LONGITUDE = 93.91
MAXIMUM_RESOLUTION = 0.0676
FOOTPRINT_POINT_LATITUDE = (-39.3083,-39.3087,-39.3017,-39.3015, -39.2861,-38.7838,-38.1084,-37.5965, -36.9018,-36.3761,-35.6666,-34.9427, -34.3917,-34.0244,-33.649,-33.2747, -32.8928,-32.318,-31.9301,-31.5382, -31.1439,-30.7439,-30.3442,-29.9408, -29.5279,-29.1143,-28.6958,-28.2746, -27.8495,-27.4187,-26.9835,-26.5457, -26.1026,-25.6543,-25.202,-24.745, -24.2841,-23.8145,-23.3436,-22.8647, -22.3831,-21.6599,-21.1796,-20.7028, -19.9897,-19.515,-19.0465,-18.812, -18.8033,-18.795,-18.788,-18.777, -18.7511,-18.7504,-18.7516,-19.2234, -19.6971,-20.1728,-20.6506,-21.1303, -21.6118,-22.0952,-22.5805,-23.0625, -23.5394,-24.0104,-24.4767,-24.9383, -25.3954,-25.8465,-26.2922,-26.7358, -27.1753,-27.6071,-28.0345,-28.4617, -28.8824,-29.2981,-29.7121,-30.1199, -30.7259,-31.1263,-31.5217,-32.1089, -32.4978,-32.88,-33.2622,-33.6375, -34.1984,-34.5674,-34.9348,-35.297, -35.6601,-36.3718,-37.0733,-37.7651, -38.4498,-39.1198,-39.2878,-39.3083)
FOOTPRINT_POINT_LONGITUDE = (88.9199,87.9512,87.076,87.0591,87.0563 ,87.0583,87.0598,87.06,87.0589,87.0571, 87.0535,87.0483,87.0433,87.0397,87.0355 ,87.031,87.0258,87.0175,87.0115,87.0049 ,86.9979,86.9901,86.9825,86.9754, 86.9653,86.9557,86.9457,86.9352,86.9244 ,86.9129,86.9004,86.8879,86.875,86.861, 86.8467,86.8316,86.8163,86.7986,86.7826 ,86.7643,86.7466,86.718,86.698,86.6784, 86.6473,86.6248,86.6047,86.5938,86.5934 ,87.1761,87.5922,88.1585,89.2038, 89.2289,89.2373,89.2326,89.228,89.2234, 89.2185,89.2135,89.2089,89.2047,89.2005 ,89.1954,89.1907,89.1876,89.1833, 89.1788,89.1742,89.1688,89.1661,89.1586 ,89.1521,89.1503,89.1501,89.1405, 89.1353,89.1314,89.1264,89.1217,89.1143 ,89.109,89.1032,89.0953,89.09,89.0842, 89.0794,89.0748,89.0665,89.0615,89.0569 ,89.0518,89.0456,89.0333,89.0219,89.011 ,88.997,88.9841,88.9801,88.9199)
ORBIT_NUMBER = 6498
ORBITAL_ECCENTRICITY = 0.576
ORBITAL_INCLINATION = 86.77
ORBITAL_SEMIMAJOR_AXIS = 8696.66
PERIAPSIS_ALTITUDE = 304.5
PERIAPSIS_ARGUMENT_ANGLE = 296.15
PERIAPSIS_TIME = 2009-01-23T18:23:08.000Z
SPACECRAFT_ORIENTATION = (0.0,1.0,0.0)
^MEX_ORIENTATION_DESC = "MEX_ORIENTATION_DESC.TXT"
SPACECRAFT_POINTING_MODE = ACROSSTRACK
^MEX_POINTING_DESC = "MEX_POINTING_DESC.TXT"
RIGHT_ASCENSION = -1e+32
DECLINATION = -1e+32
OFFSET_ANGLE = -0.73
SPACECRAFT_SOLAR_DISTANCE = 2.14267e+08
TARGET_NAME = MARS
/* CAMERA DATA ELEMENTS */
DETECTOR_TEMPERATURE = 18.3705
FOCAL_PLANE_TEMPERATURE = 7.3599
INST_CMPRS_NAME = "DISCRETE COSINE TRANSFORMATION (DCT)"
INST_CMPRS_RATIO = 16.653
INST_CMPRS_QUALITY = 0
INST_CMPRS_QUANTZ_TBL_ID = 0
INSTRUMENT_TEMPERATURE = 11.4379
LENS_TEMPERATURE = 8.5833
MACROPIXEL_SIZE = 4
MISSING_FRAMES = 0
PIXEL_SUBSAMPLING_FLAG = N
SIGNAL_CHAIN_ID = 2
/* RADIOMETRIC DATA ELEMENTS */
BANDWIDTH = 76.0
CENTER_FILTER_WAVELENGTH = 444.0
RADIANCE_OFFSET = 0.806843
RADIANCE_SCALING_FACTOR = 0.00209713
REFLECTANCE_SCALING_FACTOR = 9.89207e-05
MEX:REFLECTANCE_OFFSET = 0.0380584
/* IMAGE OBJECT DEFINITIONS */
OBJECT = IMAGE
  INTERCHANGE_FORMAT = BINARY
  LINES = 24350
  LINE_SAMPLES = 3045
  SAMPLE_TYPE = UNSIGNED_INTEGER
  SAMPLE_BITS = 8
  BANDS = 1
  BAND_STORAGE_TYPE = BAND_SEQUENTIAL
  MAXIMUM = 255
  MEAN = 132.38
  MINIMUM = 1
  STANDARD_DEVIATION = 19.6054
END_OBJECT = IMAGE
/* MAP OBJECT DEFINITIONS */
OBJECT = IMAGE_MAP_PROJECTION
  ^DATA_SET_MAP_PROJECTION_CATALOG= "DSMAP.CAT"
  A_AXIS_RADIUS = 3396.0
  B_AXIS_RADIUS = 3396.0
  C_AXIS_RADIUS = 3396.0
  CENTER_LATITUDE = 0.0
  CENTER_LONGITUDE = 88.0
  COORDINATE_SYSTEM_NAME = PLANETOGRAPHIC
  COORDINATE_SYSTEM_TYPE = "BODY-FIXED ROTATING"
  EASTERNMOST_LONGITUDE = 89.2373
  FIRST_STANDARD_PARALLEL = "N/A"
  LINE_FIRST_PIXEL = 1
  LINE_LAST_PIXEL = 24350
  LINE_PROJECTION_OFFSET = -22239.375
  MAP_PROJECTION_ROTATION = 0.0
  MAP_PROJECTION_TYPE = SINUSOIDAL
  MAP_RESOLUTION = 1185.42760773333
  MAP_SCALE = 0.05
  MAXIMUM_LATITUDE = -18.7504
  MINIMUM_LATITUDE = -39.3087
  POSITIVE_LONGITUDE_DIRECTION = EAST
  REFERENCE_LATITUDE = "N/A"
  REFERENCE_LONGITUDE = "N/A"
  SAMPLE_FIRST_PIXEL = 1
  SAMPLE_LAST_PIXEL = 3045
  SAMPLE_PROJECTION_OFFSET = 1626.375
  SECOND_STANDARD_PARALLEL = "N/A"
  WESTERNMOST_LONGITUDE = 86.5934
END_OBJECT = IMAGE_MAP_PROJECTION
END
