PDS_VERSION_ID = PDS3
/* FILE DATA ELEMENTS */
RECORD_TYPE = UNDEFINED
/* POINTERS TO DATA OBJECTS */
^IMAGE = ("H6502_0000_ND4.TIF")
/* IDENTIFICATION DATA ELEMENTS */
DATA_SET_ID = "MEX-M-HRSC-4-REFDR-MAPPROJECT-EXT2-V4.0"
DATA_SET_NAME = "MARS EXPRESS HRSC MAP PROJECTED REFDR EXTENSION2 V4.0"
DETECTOR_ID = MEX_HRSC_NADIR
EVENT_TYPE = "MARS-REGIONAL-MAPPING-Im-Fl-Pf"
INSTRUMENT_HOST_ID = MEX
INSTRUMENT_HOST_NAME = "MARS EXPRESS"
INSTRUMENT_ID = HRSC
INSTRUMENT_NAME = "HIGH RESOLUTION STEREO CAMERA"
MISSION_NAME = "MARS EXPRESS"
MISSION_PHASE_NAME = ME_Phase_15
PROCESSING_LEVEL_ID = 4
PRODUCT_CREATION_TIME = 2023-02-05T03:41:04.000Z
PRODUCT_ID = "H6502_0000_ND4.TIF"
RELEASE_ID = 0006
REVISION_ID = 0000
/* QUALITY DATA ELEMENTS */
DATA_QUALITY_ID = 1
DATA_QUALITY_DESC = "Data calculated based on original SPICE kernels"
/* TIME DATA ELEMENTS */
SPACECRAFT_CLOCK_START_COUNT = "1/0180914450.09045"
SPACECRAFT_CLOCK_STOP_COUNT = "1/0180914725.23382"
START_TIME = 2009-01-24T22:01:22.579Z
STOP_TIME = 2009-01-24T22:04:39.579Z
/* ORBITAL DATA ELEMENTS */
ASCENDING_NODE_LONGITUDE = 93.83
MAXIMUM_RESOLUTION = 0.0137
FOOTPRINT_POINT_LATITUDE = (-50.1183,-50.1097,-50.0953,-50.0688, -50.0681,-50.0657,-49.8438,-49.4004, -48.9577,-48.5155,-48.0742,-47.6333, -47.1932,-46.7537,-46.3151,-45.9323, -45.6712,-45.4105,-45.1501,-44.8899, -44.6299,-44.3703,-44.1111,-43.8519, -43.5931,-43.3345,-43.0765,-42.8187, -42.5612,-42.3039,-42.047,-41.7904, -41.5342,-41.2744,-41.0119,-40.7497, -40.4879,-40.2219,-39.954,-39.6865, -39.4194,-39.1461,-38.8727,-38.6, -38.3238,-38.0451,-37.7669,-37.628, -37.6135,-37.621,-37.6292,-37.6329, -37.6365,-37.6382,-37.6383,-37.6386, -37.9172,-38.1963,-38.6131,-38.8865, -39.1602,-39.4344,-39.7021,-39.9702, -40.2387,-40.5057,-40.7681,-41.0308, -41.2938,-41.5545,-41.8113,-42.0684, -42.3258,-42.5835,-42.8416,-43.1, -43.3587,-43.6177,-43.877,-44.1366, -44.3964,-44.6566,-44.917,-45.1778, -45.4389,-45.7002,-45.9617,-46.3476, -46.7872,-47.2275,-47.6686,-48.1103, -48.5528,-48.9959,-49.3287,-49.5507, -49.7729,-49.9952,-50.1065,-50.1183)
FOOTPRINT_POINT_LONGITUDE = (44.3916,43.9966,43.4427,42.6092, 42.5915,42.5614,42.5771,42.6074,42.6364 ,42.6641,42.6923,42.7165,42.7404, 42.7619,42.7844,42.8018,42.8138,42.8254 ,42.8373,42.8479,42.8583,42.8684, 42.8792,42.8869,42.8946,42.9024,42.9115 ,42.9199,42.9277,42.9348,42.9412, 42.9476,42.9538,42.9599,42.9659,42.971, 42.9761,42.9811,42.9861,42.9915,42.9965 ,43.0004,43.0014,43.0048,43.0078, 43.0109,43.0137,43.0153,43.0154,43.4039 ,43.9292,44.2416,44.6535,44.9688, 44.9885,44.9982,44.9904,44.9828,44.9694 ,44.96,44.9516,44.9423,44.935,44.9252, 44.915,44.9029,44.8921,44.8812,44.8736, 44.8648,44.8549,44.844,44.8339,44.8236, 44.8124,44.8002,44.7895,44.7794,44.7678 ,44.7562,44.7441,44.7314,44.7225, 44.7101,44.6967,44.6848,44.673,44.6506, 44.6285,44.6054,44.5817,44.5606,44.5323 ,44.5058,44.4838,44.4708,44.4571, 44.4441,44.4377,44.3916)
ORBIT_NUMBER = 6502
ORBITAL_ECCENTRICITY = 0.576
ORBITAL_INCLINATION = 86.76
ORBITAL_SEMIMAJOR_AXIS = 8695.65
PERIAPSIS_ALTITUDE = 305.48
PERIAPSIS_ARGUMENT_ANGLE = 295.48
PERIAPSIS_TIME = 2009-01-24T21:57:46.000Z
SPACECRAFT_ORIENTATION = (0.0,1.0,0.0)
^MEX_ORIENTATION_DESC = "MEX_ORIENTATION_DESC.TXT"
SPACECRAFT_POINTING_MODE = ACROSSTRACK
^MEX_POINTING_DESC = "MEX_POINTING_DESC.TXT"
RIGHT_ASCENSION = -1e+32
DECLINATION = -1e+32
OFFSET_ANGLE = -0.2
SPACECRAFT_SOLAR_DISTANCE = 2.14085e+08
TARGET_NAME = MARS
/* CAMERA DATA ELEMENTS */
DETECTOR_TEMPERATURE = 18.3705
FOCAL_PLANE_TEMPERATURE = 8.3794
INST_CMPRS_NAME = "DISCRETE COSINE TRANSFORMATION (DCT)"
INST_CMPRS_RATIO = 7.05831
INST_CMPRS_QUALITY = 0
INST_CMPRS_QUANTZ_TBL_ID = 0
INSTRUMENT_TEMPERATURE = 11.4379
LENS_TEMPERATURE = 8.7872
MACROPIXEL_SIZE = 1
MISSING_FRAMES = 0
PIXEL_SUBSAMPLING_FLAG = N
SIGNAL_CHAIN_ID = 0
/* RADIOMETRIC DATA ELEMENTS */
BANDWIDTH = 177.0
CENTER_FILTER_WAVELENGTH = 677.5
RADIANCE_OFFSET = 3.78113
RADIANCE_SCALING_FACTOR = 0.028283
REFLECTANCE_SCALING_FACTOR = 0.000688618
MEX:REFLECTANCE_OFFSET = 0.0920608
/* IMAGE OBJECT DEFINITIONS */
OBJECT = IMAGE
  INTERCHANGE_FORMAT = BINARY
  LINES = 59293
  LINE_SAMPLES = 8128
  SAMPLE_TYPE = UNSIGNED_INTEGER
  SAMPLE_BITS = 8
  BANDS = 1
  BAND_STORAGE_TYPE = BAND_SEQUENTIAL
  MAXIMUM = 254
  MEAN = 63.6579
  MINIMUM = 1
  STANDARD_DEVIATION = 16.7249
END_OBJECT = IMAGE
/* MAP OBJECT DEFINITIONS */
OBJECT = IMAGE_MAP_PROJECTION
  ^DATA_SET_MAP_PROJECTION_CATALOG= "DSMAP.CAT"
  A_AXIS_RADIUS = 3396.0
  B_AXIS_RADIUS = 3396.0
  C_AXIS_RADIUS = 3396.0
  CENTER_LATITUDE = 0.0
  CENTER_LONGITUDE = 44.0
  COORDINATE_SYSTEM_NAME = PLANETOGRAPHIC
  COORDINATE_SYSTEM_TYPE = "BODY-FIXED ROTATING"
  EASTERNMOST_LONGITUDE = 44.9982
  FIRST_STANDARD_PARALLEL = "N/A"
  LINE_FIRST_PIXEL = 1
  LINE_LAST_PIXEL = 59293
  LINE_PROJECTION_OFFSET = -178354.0
  MAP_PROJECTION_ROTATION = 0.0
  MAP_PROJECTION_TYPE = SINUSOIDAL
  MAP_RESOLUTION = 4741.71043093333
  MAP_SCALE = 0.0125
  MAXIMUM_LATITUDE = -37.6135
  MINIMUM_LATITUDE = -50.1183
  POSITIVE_LONGITUDE_DIRECTION = EAST
  REFERENCE_LATITUDE = "N/A"
  REFERENCE_LONGITUDE = "N/A"
  SAMPLE_FIRST_PIXEL = 1
  SAMPLE_LAST_PIXEL = 8128
  SAMPLE_PROJECTION_OFFSET = 4379.0
  SECOND_STANDARD_PARALLEL = "N/A"
  WESTERNMOST_LONGITUDE = 42.5614
END_OBJECT = IMAGE_MAP_PROJECTION
END
